BEGIN:VCALENDAR
VERSION:2.0
PRODID:-//Church of Saint Pius X - ECPv6.15.20//NONSGML v1.0//EN
CALSCALE:GREGORIAN
METHOD:PUBLISH
X-WR-CALNAME:Church of Saint Pius X
X-ORIGINAL-URL:http://saintpiusxchurch.com/wp
X-WR-CALDESC:Events for Church of Saint Pius X
REFRESH-INTERVAL;VALUE=DURATION:PT1H
X-Robots-Tag:noindex
X-PUBLISHED-TTL:PT1H
BEGIN:VTIMEZONE
TZID:UTC
BEGIN:STANDARD
TZOFFSETFROM:+0000
TZOFFSETTO:+0000
TZNAME:UTC
DTSTART:20210101T000000
END:STANDARD
END:VTIMEZONE
BEGIN:VEVENT
DTSTART;TZID=UTC:20220331T080000
DTEND;TZID=UTC:20220331T170000
DTSTAMP:20260424T110132
CREATED:20220215T214009Z
LAST-MODIFIED:20220215T214009Z
UID:12631-1648713600-1648746000@saintpiusxchurch.com
SUMMARY:Rosary Devotion after 11:30am Mass
DESCRIPTION:
URL:http://saintpiusxchurch.com/wp/event/rosary-devotion-after-1130am-mass-34/
END:VEVENT
BEGIN:VEVENT
DTSTART;TZID=UTC:20220331T080000
DTEND;TZID=UTC:20220331T170000
DTSTAMP:20260424T110132
CREATED:20220215T210629Z
LAST-MODIFIED:20220215T210629Z
UID:12553-1648713600-1648746000@saintpiusxchurch.com
SUMMARY:Light up The Night – 7:30pm (Adoration\, Prayer\, Reflection and Music)
DESCRIPTION:
URL:http://saintpiusxchurch.com/wp/event/light-up-the-night-730pm-adoration-prayer-reflection-and-music/
END:VEVENT
BEGIN:VEVENT
DTSTART;TZID=UTC:20220331T080000
DTEND;TZID=UTC:20220331T170000
DTSTAMP:20260424T110132
CREATED:20210713T232016Z
LAST-MODIFIED:20210713T232016Z
UID:11750-1648713600-1648746000@saintpiusxchurch.com
SUMMARY:Last Day: Early Bird Special(March 16-31)RE Registration with $25 Discount in total Registration Fee(discount applies to former/returning students only)
DESCRIPTION:
URL:http://saintpiusxchurch.com/wp/event/last-day-early-bird-specialmarch-16-31re-registration-with-25-discount-in-total-registration-feediscount-applies-to-former-returning-students-only/
END:VEVENT
BEGIN:VEVENT
DTSTART;TZID=UTC:20220330T080000
DTEND;TZID=UTC:20220330T170000
DTSTAMP:20260424T110132
CREATED:20220215T213958Z
LAST-MODIFIED:20220215T213958Z
UID:12629-1648627200-1648659600@saintpiusxchurch.com
SUMMARY:Rosary Devotion after 11:30am Mass
DESCRIPTION:
URL:http://saintpiusxchurch.com/wp/event/rosary-devotion-after-1130am-mass-33/
END:VEVENT
BEGIN:VEVENT
DTSTART;TZID=UTC:20220330T080000
DTEND;TZID=UTC:20220330T170000
DTSTAMP:20260424T110132
CREATED:20210928T213907Z
LAST-MODIFIED:20210928T213907Z
UID:12227-1648627200-1648659600@saintpiusxchurch.com
SUMMARY:RE 3rd Grade in Session 3:30pm – 4:30pm (virtual via zoom)
DESCRIPTION:
URL:http://saintpiusxchurch.com/wp/event/re-3rd-grade-in-session-330pm-430pm-virtual-via-zoom-18/
END:VEVENT
BEGIN:VEVENT
DTSTART;TZID=UTC:20220329T080000
DTEND;TZID=UTC:20220329T170000
DTSTAMP:20260424T110132
CREATED:20220215T213946Z
LAST-MODIFIED:20220215T213946Z
UID:12627-1648540800-1648573200@saintpiusxchurch.com
SUMMARY:Rosary Devotion after 11:30am Mass
DESCRIPTION:
URL:http://saintpiusxchurch.com/wp/event/rosary-devotion-after-1130am-mass-32/
END:VEVENT
BEGIN:VEVENT
DTSTART;TZID=UTC:20220329T080000
DTEND;TZID=UTC:20220329T170000
DTSTAMP:20260424T110132
CREATED:20220215T211215Z
LAST-MODIFIED:20220215T211215Z
UID:12561-1648540800-1648573200@saintpiusxchurch.com
SUMMARY:Stations of the Cross – 7:30pm
DESCRIPTION:
URL:http://saintpiusxchurch.com/wp/event/stations-of-the-cross-730pm-5/
END:VEVENT
BEGIN:VEVENT
DTSTART;TZID=UTC:20220329T080000
DTEND;TZID=UTC:20220329T170000
DTSTAMP:20260424T110132
CREATED:20210929T205822Z
LAST-MODIFIED:20210929T205822Z
UID:12317-1648540800-1648573200@saintpiusxchurch.com
SUMMARY:RE in Session – 1st\, 2nd and 4th Grade 3:30pm – 5:00pm (in person)
DESCRIPTION:
URL:http://saintpiusxchurch.com/wp/event/re-in-session-1st-2nd-and-4th-grade-330pm-500pm-in-person-7/
END:VEVENT
BEGIN:VEVENT
DTSTART;TZID=UTC:20220328T080000
DTEND;TZID=UTC:20220328T170000
DTSTAMP:20260424T110132
CREATED:20220302T020649Z
LAST-MODIFIED:20220302T020649Z
UID:12846-1648454400-1648486800@saintpiusxchurch.com
SUMMARY:8th Grade Stations of the Cross – 3:30pm(main church)
DESCRIPTION:
URL:http://saintpiusxchurch.com/wp/event/8th-grade-stations-of-the-cross-330pmmain-church/
END:VEVENT
BEGIN:VEVENT
DTSTART;TZID=UTC:20220328T080000
DTEND;TZID=UTC:20220328T170000
DTSTAMP:20260424T110132
CREATED:20220215T213933Z
LAST-MODIFIED:20220215T213933Z
UID:12625-1648454400-1648486800@saintpiusxchurch.com
SUMMARY:Rosary Devotion after 11:30am Mass
DESCRIPTION:
URL:http://saintpiusxchurch.com/wp/event/rosary-devotion-after-1130am-mass-31/
END:VEVENT
BEGIN:VEVENT
DTSTART;TZID=UTC:20220328T080000
DTEND;TZID=UTC:20220328T170000
DTSTAMP:20260424T110132
CREATED:20211104T185237Z
LAST-MODIFIED:20211104T185237Z
UID:12370-1648454400-1648486800@saintpiusxchurch.com
SUMMARY:Widows and Widowers  Mass and Meeting – 7:00pm
DESCRIPTION:
URL:http://saintpiusxchurch.com/wp/event/widows-and-widowers-mass-and-meeting-700pm-3/
END:VEVENT
BEGIN:VEVENT
DTSTART;TZID=UTC:20220328T080000
DTEND;TZID=UTC:20220328T170000
DTSTAMP:20260424T110132
CREATED:20210929T200921Z
LAST-MODIFIED:20210929T200921Z
UID:12296-1648454400-1648486800@saintpiusxchurch.com
SUMMARY:RE in Session 3:30 – 5:00pm 5th\, 6th and 7th Grade(in person)
DESCRIPTION:
URL:http://saintpiusxchurch.com/wp/event/re-in-session-330-500pm-5th-6th-and-7th-gradein-person-4/
END:VEVENT
BEGIN:VEVENT
DTSTART;TZID=UTC:20220327T080000
DTEND;TZID=UTC:20220327T170000
DTSTAMP:20260424T110132
CREATED:20220215T223924Z
LAST-MODIFIED:20220215T223924Z
UID:12772-1648368000-1648400400@saintpiusxchurch.com
SUMMARY:Lenten Food Drive
DESCRIPTION:
URL:http://saintpiusxchurch.com/wp/event/lenten-food-drive-23/
END:VEVENT
BEGIN:VEVENT
DTSTART;TZID=UTC:20220327T080000
DTEND;TZID=UTC:20220327T170000
DTSTAMP:20260424T110132
CREATED:20210713T232349Z
LAST-MODIFIED:20220119T023517Z
UID:11758-1648368000-1648400400@saintpiusxchurch.com
SUMMARY:Kindergarten in Session
DESCRIPTION:
URL:http://saintpiusxchurch.com/wp/event/palm-sunday-no-kindergarten/
END:VEVENT
BEGIN:VEVENT
DTSTART;TZID=UTC:20220327T080000
DTEND;TZID=UTC:20220327T170000
DTSTAMP:20260424T110132
CREATED:20210713T231055Z
LAST-MODIFIED:20220215T223001Z
UID:11724-1648368000-1648400400@saintpiusxchurch.com
SUMMARY:5th Gr Ministry Sunday 10:30am Family Mass
DESCRIPTION:
URL:http://saintpiusxchurch.com/wp/event/5th-gr-ministry-sunday-1030am-family-mass-3/
END:VEVENT
BEGIN:VEVENT
DTSTART;TZID=UTC:20220326T080000
DTEND;TZID=UTC:20220326T170000
DTSTAMP:20260424T110132
CREATED:20210713T202807Z
LAST-MODIFIED:20210713T202807Z
UID:11370-1648281600-1648314000@saintpiusxchurch.com
SUMMARY:9:00am Mass                                                                    5:00pm Vigil Mass
DESCRIPTION:
URL:http://saintpiusxchurch.com/wp/event/900am-mass-500pm-vigil-mass-28/
END:VEVENT
BEGIN:VEVENT
DTSTART;TZID=UTC:20220325T080000
DTEND;TZID=UTC:20220325T170000
DTSTAMP:20260424T110132
CREATED:20220215T213920Z
LAST-MODIFIED:20220215T213920Z
UID:12623-1648195200-1648227600@saintpiusxchurch.com
SUMMARY:Rosary Devotion after 11:30am Mass
DESCRIPTION:
URL:http://saintpiusxchurch.com/wp/event/rosary-devotion-after-1130am-mass-30/
END:VEVENT
BEGIN:VEVENT
DTSTART;TZID=UTC:20220325T080000
DTEND;TZID=UTC:20220325T170000
DTSTAMP:20260424T110132
CREATED:20210713T194351Z
LAST-MODIFIED:20210713T194351Z
UID:11269-1648195200-1648227600@saintpiusxchurch.com
SUMMARY:Parish Office Closed
DESCRIPTION:
URL:http://saintpiusxchurch.com/wp/event/parish-office-closed-387/
END:VEVENT
BEGIN:VEVENT
DTSTART;TZID=UTC:20220324T080000
DTEND;TZID=UTC:20220324T170000
DTSTAMP:20260424T110132
CREATED:20220216T001037Z
LAST-MODIFIED:20220216T001037Z
UID:12776-1648108800-1648141200@saintpiusxchurch.com
SUMMARY:A Thread For Life(Knitting and Crocheting Club) Meeting - 4:30-5:30pm (Parish Pavilion)
DESCRIPTION:
URL:http://saintpiusxchurch.com/wp/event/a-thread-for-lifeknitting-and-crocheting-club-meeting-430-530pm-parish-pavilion/
END:VEVENT
BEGIN:VEVENT
DTSTART;TZID=UTC:20220324T080000
DTEND;TZID=UTC:20220324T170000
DTSTAMP:20260424T110132
CREATED:20220215T213909Z
LAST-MODIFIED:20220215T213909Z
UID:12621-1648108800-1648141200@saintpiusxchurch.com
SUMMARY:Rosary Devotion after 11:30am Mass
DESCRIPTION:
URL:http://saintpiusxchurch.com/wp/event/rosary-devotion-after-1130am-mass-29/
END:VEVENT
BEGIN:VEVENT
DTSTART;TZID=UTC:20220323T080000
DTEND;TZID=UTC:20220323T170000
DTSTAMP:20260424T110132
CREATED:20220306T195015Z
LAST-MODIFIED:20220306T195015Z
UID:12849-1648022400-1648054800@saintpiusxchurch.com
SUMMARY:Finance Committee Meeting - 7:30pm (Parish Pavilion)
DESCRIPTION:
URL:http://saintpiusxchurch.com/wp/event/finance-committee-meeting-730pm-parish-pavilion/
END:VEVENT
BEGIN:VEVENT
DTSTART;TZID=UTC:20220323T080000
DTEND;TZID=UTC:20220323T170000
DTSTAMP:20260424T110132
CREATED:20220215T213856Z
LAST-MODIFIED:20220215T213856Z
UID:12619-1648022400-1648054800@saintpiusxchurch.com
SUMMARY:Rosary Devotion after 11:30am Mass
DESCRIPTION:
URL:http://saintpiusxchurch.com/wp/event/rosary-devotion-after-1130am-mass-28/
END:VEVENT
BEGIN:VEVENT
DTSTART;TZID=UTC:20220323T080000
DTEND;TZID=UTC:20220323T170000
DTSTAMP:20260424T110132
CREATED:20210928T213843Z
LAST-MODIFIED:20210928T213843Z
UID:12225-1648022400-1648054800@saintpiusxchurch.com
SUMMARY:RE 3rd Grade in Session 3:30pm – 4:30pm (virtual via zoom)
DESCRIPTION:
URL:http://saintpiusxchurch.com/wp/event/re-3rd-grade-in-session-330pm-430pm-virtual-via-zoom-17/
END:VEVENT
BEGIN:VEVENT
DTSTART;TZID=UTC:20220322T080000
DTEND;TZID=UTC:20220322T170000
DTSTAMP:20260424T110132
CREATED:20220302T020520Z
LAST-MODIFIED:20220302T020520Z
UID:12838-1647936000-1647968400@saintpiusxchurch.com
SUMMARY:4th Grade Stations of the Cross – 3:30pm(main church)
DESCRIPTION:
URL:http://saintpiusxchurch.com/wp/event/4th-grade-stations-of-the-cross-330pmmain-church/
END:VEVENT
BEGIN:VEVENT
DTSTART;TZID=UTC:20220322T080000
DTEND;TZID=UTC:20220322T170000
DTSTAMP:20260424T110132
CREATED:20220215T213845Z
LAST-MODIFIED:20220215T213845Z
UID:12617-1647936000-1647968400@saintpiusxchurch.com
SUMMARY:Rosary Devotion after 11:30am Mass
DESCRIPTION:
URL:http://saintpiusxchurch.com/wp/event/rosary-devotion-after-1130am-mass-27/
END:VEVENT
BEGIN:VEVENT
DTSTART;TZID=UTC:20220322T080000
DTEND;TZID=UTC:20220322T170000
DTSTAMP:20260424T110132
CREATED:20220215T211157Z
LAST-MODIFIED:20220215T211157Z
UID:12559-1647936000-1647968400@saintpiusxchurch.com
SUMMARY:Stations of the Cross – 7:30pm
DESCRIPTION:
URL:http://saintpiusxchurch.com/wp/event/stations-of-the-cross-730pm-4/
END:VEVENT
BEGIN:VEVENT
DTSTART;TZID=UTC:20220322T080000
DTEND;TZID=UTC:20220322T170000
DTSTAMP:20260424T110132
CREATED:20210928T215331Z
LAST-MODIFIED:20210928T215331Z
UID:12245-1647936000-1647968400@saintpiusxchurch.com
SUMMARY:RE in Session - 1st\, 2nd and 4th Grade 3:30pm – 5:00pm (in person)
DESCRIPTION:
URL:http://saintpiusxchurch.com/wp/event/re-in-session-1st-2nd-and-4th-grade-330pm-500pm-in-person-3/
END:VEVENT
BEGIN:VEVENT
DTSTART;TZID=UTC:20220321T080000
DTEND;TZID=UTC:20220321T170000
DTSTAMP:20260424T110132
CREATED:20220302T020626Z
LAST-MODIFIED:20220302T020626Z
UID:12844-1647849600-1647882000@saintpiusxchurch.com
SUMMARY:7th Grade Stations of the Cross – 3:30pm(main church)
DESCRIPTION:
URL:http://saintpiusxchurch.com/wp/event/7th-grade-stations-of-the-cross-330pmmain-church/
END:VEVENT
BEGIN:VEVENT
DTSTART;TZID=UTC:20220321T080000
DTEND;TZID=UTC:20220321T170000
DTSTAMP:20260424T110132
CREATED:20220215T213834Z
LAST-MODIFIED:20220215T213834Z
UID:12615-1647849600-1647882000@saintpiusxchurch.com
SUMMARY:Rosary Devotion after 11:30am Mass
DESCRIPTION:
URL:http://saintpiusxchurch.com/wp/event/rosary-devotion-after-1130am-mass-26/
END:VEVENT
BEGIN:VEVENT
DTSTART;TZID=UTC:20220321T080000
DTEND;TZID=UTC:20220321T170000
DTSTAMP:20260424T110132
CREATED:20210929T200846Z
LAST-MODIFIED:20210929T200846Z
UID:12294-1647849600-1647882000@saintpiusxchurch.com
SUMMARY:RE in Session 3:30 – 5:00pm 5th\, 6th and 7th Grade(in person)
DESCRIPTION:
URL:http://saintpiusxchurch.com/wp/event/re-in-session-330-500pm-5th-6th-and-7th-gradein-person-3/
END:VEVENT
END:VCALENDAR