BEGIN:VCALENDAR
VERSION:2.0
PRODID:-//Church of Saint Pius X - ECPv6.15.20//NONSGML v1.0//EN
CALSCALE:GREGORIAN
METHOD:PUBLISH
X-WR-CALNAME:Church of Saint Pius X
X-ORIGINAL-URL:http://saintpiusxchurch.com/wp
X-WR-CALDESC:Events for Church of Saint Pius X
REFRESH-INTERVAL;VALUE=DURATION:PT1H
X-Robots-Tag:noindex
X-PUBLISHED-TTL:PT1H
BEGIN:VTIMEZONE
TZID:UTC
BEGIN:STANDARD
TZOFFSETFROM:+0000
TZOFFSETTO:+0000
TZNAME:UTC
DTSTART:20210101T000000
END:STANDARD
END:VTIMEZONE
BEGIN:VEVENT
DTSTART;TZID=UTC:20220630T080000
DTEND;TZID=UTC:20220630T170000
DTSTAMP:20260424T055649
CREATED:20220215T215747Z
LAST-MODIFIED:20220215T215747Z
UID:12767-1656576000-1656608400@saintpiusxchurch.com
SUMMARY:Rosary Devotion after 11:30am Mass
DESCRIPTION:
URL:http://saintpiusxchurch.com/wp/event/rosary-devotion-after-1130am-mass-102/
END:VEVENT
BEGIN:VEVENT
DTSTART;TZID=UTC:20220629T080000
DTEND;TZID=UTC:20220629T170000
DTSTAMP:20260424T055649
CREATED:20220616T192008Z
LAST-MODIFIED:20220616T192111Z
UID:12936-1656489600-1656522000@saintpiusxchurch.com
SUMMARY:Rosary Group Celebration - 12:30pm(Narthex)
DESCRIPTION:
URL:http://saintpiusxchurch.com/wp/event/rosary-group-celebration-1230pmnathex/
END:VEVENT
BEGIN:VEVENT
DTSTART;TZID=UTC:20220629T080000
DTEND;TZID=UTC:20220629T170000
DTSTAMP:20260424T055649
CREATED:20220215T215734Z
LAST-MODIFIED:20220215T215734Z
UID:12765-1656489600-1656522000@saintpiusxchurch.com
SUMMARY:Rosary Devotion after 11:30am Mass
DESCRIPTION:
URL:http://saintpiusxchurch.com/wp/event/rosary-devotion-after-1130am-mass-101/
END:VEVENT
BEGIN:VEVENT
DTSTART;TZID=UTC:20220628T080000
DTEND;TZID=UTC:20220628T170000
DTSTAMP:20260424T055649
CREATED:20220215T215720Z
LAST-MODIFIED:20220215T215720Z
UID:12763-1656403200-1656435600@saintpiusxchurch.com
SUMMARY:Rosary Devotion after 11:30am Mass
DESCRIPTION:
URL:http://saintpiusxchurch.com/wp/event/rosary-devotion-after-1130am-mass-100/
END:VEVENT
BEGIN:VEVENT
DTSTART;TZID=UTC:20220627T080000
DTEND;TZID=UTC:20220627T170000
DTSTAMP:20260424T055649
CREATED:20220215T215706Z
LAST-MODIFIED:20220215T215706Z
UID:12761-1656316800-1656349200@saintpiusxchurch.com
SUMMARY:Rosary Devotion after 11:30am Mass
DESCRIPTION:
URL:http://saintpiusxchurch.com/wp/event/rosary-devotion-after-1130am-mass-99/
END:VEVENT
BEGIN:VEVENT
DTSTART;TZID=UTC:20220625T080000
DTEND;TZID=UTC:20220625T170000
DTSTAMP:20260424T055649
CREATED:20210713T203604Z
LAST-MODIFIED:20210713T203604Z
UID:11396-1656144000-1656176400@saintpiusxchurch.com
SUMMARY:9:00am Mass                                                                    5:00pm Vigil Mass
DESCRIPTION:
URL:http://saintpiusxchurch.com/wp/event/900am-mass-500pm-vigil-mass-41/
END:VEVENT
BEGIN:VEVENT
DTSTART;TZID=UTC:20220624T080000
DTEND;TZID=UTC:20220624T170000
DTSTAMP:20260424T055649
CREATED:20220503T003635Z
LAST-MODIFIED:20220613T180705Z
UID:12913-1656057600-1656090000@saintpiusxchurch.com
SUMMARY:Volunteers and New Parishioners’ Night 7:30-9:30pm (Narthex)
DESCRIPTION:
URL:http://saintpiusxchurch.com/wp/event/volunteers-and-new-parishioners-night-700-900pm/
END:VEVENT
BEGIN:VEVENT
DTSTART;TZID=UTC:20220624T080000
DTEND;TZID=UTC:20220624T170000
DTSTAMP:20260424T055649
CREATED:20220215T215651Z
LAST-MODIFIED:20220215T215651Z
UID:12759-1656057600-1656090000@saintpiusxchurch.com
SUMMARY:Rosary Devotion after 11:30am Mass
DESCRIPTION:
URL:http://saintpiusxchurch.com/wp/event/rosary-devotion-after-1130am-mass-98/
END:VEVENT
BEGIN:VEVENT
DTSTART;TZID=UTC:20220624T080000
DTEND;TZID=UTC:20220624T170000
DTSTAMP:20260424T055649
CREATED:20210713T195204Z
LAST-MODIFIED:20210713T195204Z
UID:11295-1656057600-1656090000@saintpiusxchurch.com
SUMMARY:Parish Office Closed
DESCRIPTION:
URL:http://saintpiusxchurch.com/wp/event/parish-office-closed-400/
END:VEVENT
BEGIN:VEVENT
DTSTART;TZID=UTC:20220623T080000
DTEND;TZID=UTC:20220623T170000
DTSTAMP:20260424T055649
CREATED:20220215T215637Z
LAST-MODIFIED:20220215T215637Z
UID:12757-1655971200-1656003600@saintpiusxchurch.com
SUMMARY:Rosary Devotion after 11:30am Mass
DESCRIPTION:
URL:http://saintpiusxchurch.com/wp/event/rosary-devotion-after-1130am-mass-97/
END:VEVENT
BEGIN:VEVENT
DTSTART;TZID=UTC:20220622T080000
DTEND;TZID=UTC:20220622T170000
DTSTAMP:20260424T055649
CREATED:20220215T215624Z
LAST-MODIFIED:20220215T215624Z
UID:12755-1655884800-1655917200@saintpiusxchurch.com
SUMMARY:Rosary Devotion after 11:30am Mass
DESCRIPTION:
URL:http://saintpiusxchurch.com/wp/event/rosary-devotion-after-1130am-mass-96/
END:VEVENT
BEGIN:VEVENT
DTSTART;TZID=UTC:20220621T080000
DTEND;TZID=UTC:20220621T170000
DTSTAMP:20260424T055649
CREATED:20220215T215611Z
LAST-MODIFIED:20220215T215611Z
UID:12753-1655798400-1655830800@saintpiusxchurch.com
SUMMARY:Rosary Devotion after 11:30am Mass
DESCRIPTION:
URL:http://saintpiusxchurch.com/wp/event/rosary-devotion-after-1130am-mass-95/
END:VEVENT
BEGIN:VEVENT
DTSTART;TZID=UTC:20220620T080000
DTEND;TZID=UTC:20220620T170000
DTSTAMP:20260424T055649
CREATED:20220215T215508Z
LAST-MODIFIED:20220215T215508Z
UID:12751-1655712000-1655744400@saintpiusxchurch.com
SUMMARY:Rosary Devotion after 11:30am Mass
DESCRIPTION:
URL:http://saintpiusxchurch.com/wp/event/rosary-devotion-after-1130am-mass-94/
END:VEVENT
BEGIN:VEVENT
DTSTART;TZID=UTC:20220620T080000
DTEND;TZID=UTC:20220620T170000
DTSTAMP:20260424T055649
CREATED:20211104T185504Z
LAST-MODIFIED:20211104T185504Z
UID:12376-1655712000-1655744400@saintpiusxchurch.com
SUMMARY:Widows and Widowers  Mass and Meeting – 7:00pm
DESCRIPTION:
URL:http://saintpiusxchurch.com/wp/event/widows-and-widowers-mass-and-meeting-700pm-6/
END:VEVENT
BEGIN:VEVENT
DTSTART;TZID=UTC:20220619T080000
DTEND;TZID=UTC:20220619T170000
DTSTAMP:20260424T055649
CREATED:20220223T051629Z
LAST-MODIFIED:20220223T051629Z
UID:12811-1655625600-1655658000@saintpiusxchurch.com
SUMMARY:Birthday Blessings - 10:30am mass
DESCRIPTION:
URL:http://saintpiusxchurch.com/wp/event/birthday-blessings-1030am-mass-15/
END:VEVENT
BEGIN:VEVENT
DTSTART;TZID=UTC:20220619T080000
DTEND;TZID=UTC:20220619T170000
DTSTAMP:20260424T055649
CREATED:20210715T190408Z
LAST-MODIFIED:20210715T190408Z
UID:11852-1655625600-1655658000@saintpiusxchurch.com
SUMMARY:Father’s Day
DESCRIPTION:
URL:http://saintpiusxchurch.com/wp/event/fathers-day-6/
END:VEVENT
BEGIN:VEVENT
DTSTART;TZID=UTC:20220618T080000
DTEND;TZID=UTC:20220618T170000
DTSTAMP:20260424T055649
CREATED:20210713T203533Z
LAST-MODIFIED:20210713T203533Z
UID:11394-1655539200-1655571600@saintpiusxchurch.com
SUMMARY:9:00am Mass                                                                    5:00pm Vigil Mass
DESCRIPTION:
URL:http://saintpiusxchurch.com/wp/event/900am-mass-500pm-vigil-mass-40/
END:VEVENT
BEGIN:VEVENT
DTSTART;TZID=UTC:20220617T080000
DTEND;TZID=UTC:20220617T170000
DTSTAMP:20260424T055649
CREATED:20220215T215437Z
LAST-MODIFIED:20220215T215437Z
UID:12747-1655452800-1655485200@saintpiusxchurch.com
SUMMARY:Rosary Devotion after 11:30am Mass
DESCRIPTION:
URL:http://saintpiusxchurch.com/wp/event/rosary-devotion-after-1130am-mass-92/
END:VEVENT
BEGIN:VEVENT
DTSTART;TZID=UTC:20220616T080000
DTEND;TZID=UTC:20220616T170000
DTSTAMP:20260424T055649
CREATED:20220531T231931Z
LAST-MODIFIED:20220531T232106Z
UID:12927-1655366400-1655398800@saintpiusxchurch.com
SUMMARY:Adult Bible Study Thursday Evenings at 7:00PM thru June 16\, 2022 (no classes on Holidays and major Holy Days)
DESCRIPTION:
URL:http://saintpiusxchurch.com/wp/event/thursday-evenings-at-700pm-thru-june-16-2022-no-classes-on-holidays-and-major-holy-days-3/
END:VEVENT
BEGIN:VEVENT
DTSTART;TZID=UTC:20220616T080000
DTEND;TZID=UTC:20220616T170000
DTSTAMP:20260424T055649
CREATED:20220215T215419Z
LAST-MODIFIED:20220215T215419Z
UID:12745-1655366400-1655398800@saintpiusxchurch.com
SUMMARY:Rosary Devotion after 11:30am Mass
DESCRIPTION:
URL:http://saintpiusxchurch.com/wp/event/rosary-devotion-after-1130am-mass-91/
END:VEVENT
BEGIN:VEVENT
DTSTART;TZID=UTC:20220615T080000
DTEND;TZID=UTC:20220615T170000
DTSTAMP:20260424T055649
CREATED:20220215T215404Z
LAST-MODIFIED:20220215T215404Z
UID:12743-1655280000-1655312400@saintpiusxchurch.com
SUMMARY:Rosary Devotion after 11:30am Mass
DESCRIPTION:
URL:http://saintpiusxchurch.com/wp/event/rosary-devotion-after-1130am-mass-90/
END:VEVENT
BEGIN:VEVENT
DTSTART;TZID=UTC:20220614T080000
DTEND;TZID=UTC:20220614T170000
DTSTAMP:20260424T055649
CREATED:20220215T215350Z
LAST-MODIFIED:20220215T215350Z
UID:12741-1655193600-1655226000@saintpiusxchurch.com
SUMMARY:Rosary Devotion after 11:30am Mass
DESCRIPTION:
URL:http://saintpiusxchurch.com/wp/event/rosary-devotion-after-1130am-mass-89/
END:VEVENT
BEGIN:VEVENT
DTSTART;TZID=UTC:20220613T080000
DTEND;TZID=UTC:20220613T170000
DTSTAMP:20260424T055649
CREATED:20220215T215337Z
LAST-MODIFIED:20220215T215337Z
UID:12739-1655107200-1655139600@saintpiusxchurch.com
SUMMARY:Rosary Devotion after 11:30am Mass
DESCRIPTION:
URL:http://saintpiusxchurch.com/wp/event/rosary-devotion-after-1130am-mass-88/
END:VEVENT
BEGIN:VEVENT
DTSTART;TZID=UTC:20220611T080000
DTEND;TZID=UTC:20220611T170000
DTSTAMP:20260424T055649
CREATED:20210713T203505Z
LAST-MODIFIED:20210713T203505Z
UID:11392-1654934400-1654966800@saintpiusxchurch.com
SUMMARY:9:00am Mass                                                                    5:00pm Vigil Mass
DESCRIPTION:
URL:http://saintpiusxchurch.com/wp/event/900am-mass-500pm-vigil-mass-39/
END:VEVENT
BEGIN:VEVENT
DTSTART;TZID=UTC:20220610T080000
DTEND;TZID=UTC:20220610T170000
DTSTAMP:20260424T055649
CREATED:20220215T215320Z
LAST-MODIFIED:20220215T215320Z
UID:12737-1654848000-1654880400@saintpiusxchurch.com
SUMMARY:Rosary Devotion after 11:30am Mass
DESCRIPTION:
URL:http://saintpiusxchurch.com/wp/event/rosary-devotion-after-1130am-mass-87/
END:VEVENT
BEGIN:VEVENT
DTSTART;TZID=UTC:20220610T080000
DTEND;TZID=UTC:20220610T170000
DTSTAMP:20260424T055649
CREATED:20210713T195036Z
LAST-MODIFIED:20210713T195036Z
UID:11291-1654848000-1654880400@saintpiusxchurch.com
SUMMARY:Parish Office Closed
DESCRIPTION:
URL:http://saintpiusxchurch.com/wp/event/parish-office-closed-398/
END:VEVENT
BEGIN:VEVENT
DTSTART;TZID=UTC:20220609T080000
DTEND;TZID=UTC:20220609T170000
DTSTAMP:20260424T055649
CREATED:20220531T231917Z
LAST-MODIFIED:20220531T232140Z
UID:12925-1654761600-1654794000@saintpiusxchurch.com
SUMMARY:Adult Thursday Evenings at 7:00PM thru June 16\, 2022 (no classes on Holidays and major Holy Days)
DESCRIPTION:
URL:http://saintpiusxchurch.com/wp/event/thursday-evenings-at-700pm-thru-june-16-2022-no-classes-on-holidays-and-major-holy-days-2/
END:VEVENT
BEGIN:VEVENT
DTSTART;TZID=UTC:20220609T080000
DTEND;TZID=UTC:20220609T170000
DTSTAMP:20260424T055649
CREATED:20220215T215250Z
LAST-MODIFIED:20220215T215250Z
UID:12735-1654761600-1654794000@saintpiusxchurch.com
SUMMARY:Rosary Devotion after 11:30am Mass
DESCRIPTION:
URL:http://saintpiusxchurch.com/wp/event/rosary-devotion-after-1130am-mass-86/
END:VEVENT
BEGIN:VEVENT
DTSTART;TZID=UTC:20220608T080000
DTEND;TZID=UTC:20220608T170000
DTSTAMP:20260424T055649
CREATED:20220215T215236Z
LAST-MODIFIED:20220215T215236Z
UID:12733-1654675200-1654707600@saintpiusxchurch.com
SUMMARY:Rosary Devotion after 11:30am Mass
DESCRIPTION:
URL:http://saintpiusxchurch.com/wp/event/rosary-devotion-after-1130am-mass-85/
END:VEVENT
BEGIN:VEVENT
DTSTART;TZID=UTC:20220607T080000
DTEND;TZID=UTC:20220607T170000
DTSTAMP:20260424T055649
CREATED:20220215T215225Z
LAST-MODIFIED:20220215T215225Z
UID:12731-1654588800-1654621200@saintpiusxchurch.com
SUMMARY:Rosary Devotion after 11:30am Mass
DESCRIPTION:
URL:http://saintpiusxchurch.com/wp/event/rosary-devotion-after-1130am-mass-84/
END:VEVENT
END:VCALENDAR