BEGIN:VCALENDAR
VERSION:2.0
PRODID:-//Church of Saint Pius X - ECPv6.15.20//NONSGML v1.0//EN
CALSCALE:GREGORIAN
METHOD:PUBLISH
X-WR-CALNAME:Church of Saint Pius X
X-ORIGINAL-URL:http://saintpiusxchurch.com/wp
X-WR-CALDESC:Events for Church of Saint Pius X
REFRESH-INTERVAL;VALUE=DURATION:PT1H
X-Robots-Tag:noindex
X-PUBLISHED-TTL:PT1H
BEGIN:VTIMEZONE
TZID:UTC
BEGIN:STANDARD
TZOFFSETFROM:+0000
TZOFFSETTO:+0000
TZNAME:UTC
DTSTART:20210101T000000
END:STANDARD
END:VTIMEZONE
BEGIN:VEVENT
DTSTART;TZID=UTC:20220730T080000
DTEND;TZID=UTC:20220730T170000
DTSTAMP:20260424T042442
CREATED:20210713T203859Z
LAST-MODIFIED:20210713T203859Z
UID:11406-1659168000-1659200400@saintpiusxchurch.com
SUMMARY:9:00am Mass                                                                    5:00pm Vigil Mass
DESCRIPTION:
URL:http://saintpiusxchurch.com/wp/event/900am-mass-500pm-vigil-mass-46/
END:VEVENT
BEGIN:VEVENT
DTSTART;TZID=UTC:20220729T080000
DTEND;TZID=UTC:20220729T170000
DTSTAMP:20260424T042442
CREATED:20220725T205321Z
LAST-MODIFIED:20220725T205321Z
UID:13834-1659081600-1659114000@saintpiusxchurch.com
SUMMARY:Daily Rosary Devotion - 11:00am in Mary's Chapel
DESCRIPTION:
URL:http://saintpiusxchurch.com/wp/event/daily-rosary-devotion-1100am-in-marys-chapel-3/
END:VEVENT
BEGIN:VEVENT
DTSTART;TZID=UTC:20220729T080000
DTEND;TZID=UTC:20220729T170000
DTSTAMP:20260424T042442
CREATED:20210713T195454Z
LAST-MODIFIED:20210713T195454Z
UID:11305-1659081600-1659114000@saintpiusxchurch.com
SUMMARY:Parish Office Closed
DESCRIPTION:
URL:http://saintpiusxchurch.com/wp/event/parish-office-closed-405/
END:VEVENT
BEGIN:VEVENT
DTSTART;TZID=UTC:20220728T080000
DTEND;TZID=UTC:20220728T170000
DTSTAMP:20260424T042442
CREATED:20220725T205305Z
LAST-MODIFIED:20220725T205305Z
UID:13832-1658995200-1659027600@saintpiusxchurch.com
SUMMARY:Daily Rosary Devotion - 11:00am in Mary's Chapel
DESCRIPTION:
URL:http://saintpiusxchurch.com/wp/event/daily-rosary-devotion-1100am-in-marys-chapel-2/
END:VEVENT
BEGIN:VEVENT
DTSTART;TZID=UTC:20220727T080000
DTEND;TZID=UTC:20220727T170000
DTSTAMP:20260424T042442
CREATED:20220725T210759Z
LAST-MODIFIED:20220725T210759Z
UID:13894-1658908800-1658941200@saintpiusxchurch.com
SUMMARY:Daily Rosary Devotion - 11:00am in Mary's Chapel
DESCRIPTION:
URL:http://saintpiusxchurch.com/wp/event/daily-rosary-devotion-1100am-in-marys-chapel-31/
END:VEVENT
BEGIN:VEVENT
DTSTART;TZID=UTC:20220727T080000
DTEND;TZID=UTC:20220727T170000
DTSTAMP:20260424T042442
CREATED:20220718T193548Z
LAST-MODIFIED:20220718T193548Z
UID:13794-1658908800-1658941200@saintpiusxchurch.com
SUMMARY:FREE Zumba Class by Maya de Jesus\, Zumba and Sweat and Swagger Instructor - July 27 to October 19\, 2022(Wednesdays - 9:00-9:45am)
DESCRIPTION:
URL:http://saintpiusxchurch.com/wp/event/free-zumba-class-by-maya-de-jesus-zumba-and-sweat-and-swagger-instructor-july-27-to-october-19-2022wednesdays-900-945am/
END:VEVENT
BEGIN:VEVENT
DTSTART;TZID=UTC:20220726T080000
DTEND;TZID=UTC:20220726T170000
DTSTAMP:20260424T042442
CREATED:20220725T200212Z
LAST-MODIFIED:20220725T200212Z
UID:13830-1658822400-1658854800@saintpiusxchurch.com
SUMMARY:Daily Rosary Devotion - 11:00am in Mary's Chapel
DESCRIPTION:
URL:http://saintpiusxchurch.com/wp/event/daily-rosary-devotion-1100am-in-marys-chapel/
END:VEVENT
BEGIN:VEVENT
DTSTART;TZID=UTC:20220726T080000
DTEND;TZID=UTC:20220726T170000
DTSTAMP:20260424T042442
CREATED:20220725T195825Z
LAST-MODIFIED:20220725T195825Z
UID:13828-1658822400-1658854800@saintpiusxchurch.com
SUMMARY:Daily Rosary Devotion  ALL ARE WELCOME TO PARTICIPATE  Monday to Friday at 11:00am in Mary's Chapel
DESCRIPTION:
URL:http://saintpiusxchurch.com/wp/event/daily-rosary-devotion-all-are-welcome-to-participate-monday-to-friday-at-1100am-in-marys-chapel/
END:VEVENT
BEGIN:VEVENT
DTSTART;TZID=UTC:20220725T080000
DTEND;TZID=UTC:20220725T170000
DTSTAMP:20260424T042442
CREATED:20220725T223231Z
LAST-MODIFIED:20220725T223231Z
UID:13898-1658736000-1658768400@saintpiusxchurch.com
SUMMARY:St. Pius X Annual Parish Picnic - after 10:30am Mass(Parish Grounds)
DESCRIPTION:
URL:http://saintpiusxchurch.com/wp/event/st-pius-x-annual-parish-picnic-after-1030am-massparish-grounds/
END:VEVENT
BEGIN:VEVENT
DTSTART;TZID=UTC:20220723T080000
DTEND;TZID=UTC:20220723T170000
DTSTAMP:20260424T042442
CREATED:20210713T203834Z
LAST-MODIFIED:20210713T203834Z
UID:11404-1658563200-1658595600@saintpiusxchurch.com
SUMMARY:9:00am Mass                                                                    5:00pm Vigil Mass
DESCRIPTION:
URL:http://saintpiusxchurch.com/wp/event/900am-mass-500pm-vigil-mass-45/
END:VEVENT
BEGIN:VEVENT
DTSTART;TZID=UTC:20220722T080000
DTEND;TZID=UTC:20220722T170000
DTSTAMP:20260424T042442
CREATED:20210713T195426Z
LAST-MODIFIED:20210713T195426Z
UID:11303-1658476800-1658509200@saintpiusxchurch.com
SUMMARY:Parish Office Closed
DESCRIPTION:
URL:http://saintpiusxchurch.com/wp/event/parish-office-closed-404/
END:VEVENT
BEGIN:VEVENT
DTSTART;TZID=UTC:20220717T080000
DTEND;TZID=UTC:20220717T170000
DTSTAMP:20260424T042442
CREATED:20220223T051705Z
LAST-MODIFIED:20220223T051705Z
UID:12813-1658044800-1658077200@saintpiusxchurch.com
SUMMARY:Birthday Blessings - 10:30am mass
DESCRIPTION:
URL:http://saintpiusxchurch.com/wp/event/birthday-blessings-1030am-mass-16/
END:VEVENT
BEGIN:VEVENT
DTSTART;TZID=UTC:20220716T080000
DTEND;TZID=UTC:20220716T170000
DTSTAMP:20260424T042442
CREATED:20210713T203808Z
LAST-MODIFIED:20210713T203808Z
UID:11402-1657958400-1657990800@saintpiusxchurch.com
SUMMARY:9:00am Mass                                                                    5:00pm Vigil Mass
DESCRIPTION:
URL:http://saintpiusxchurch.com/wp/event/900am-mass-500pm-vigil-mass-44/
END:VEVENT
BEGIN:VEVENT
DTSTART;TZID=UTC:20220715T080000
DTEND;TZID=UTC:20220715T170000
DTSTAMP:20260424T042442
CREATED:20210713T195328Z
LAST-MODIFIED:20210713T195328Z
UID:11301-1657872000-1657904400@saintpiusxchurch.com
SUMMARY:Parish Office Closed
DESCRIPTION:
URL:http://saintpiusxchurch.com/wp/event/parish-office-closed-403/
END:VEVENT
BEGIN:VEVENT
DTSTART;TZID=UTC:20220709T080000
DTEND;TZID=UTC:20220709T170000
DTSTAMP:20260424T042442
CREATED:20210713T203727Z
LAST-MODIFIED:20210713T203727Z
UID:11400-1657353600-1657386000@saintpiusxchurch.com
SUMMARY:9:00am Mass                                                                    5:00pm Vigil Mass
DESCRIPTION:
URL:http://saintpiusxchurch.com/wp/event/900am-mass-500pm-vigil-mass-43/
END:VEVENT
BEGIN:VEVENT
DTSTART;TZID=UTC:20220708T080000
DTEND;TZID=UTC:20220708T170000
DTSTAMP:20260424T042442
CREATED:20210713T195306Z
LAST-MODIFIED:20210713T195306Z
UID:11299-1657267200-1657299600@saintpiusxchurch.com
SUMMARY:Parish Office Closed
DESCRIPTION:
URL:http://saintpiusxchurch.com/wp/event/parish-office-closed-402/
END:VEVENT
BEGIN:VEVENT
DTSTART;TZID=UTC:20220704T080000
DTEND;TZID=UTC:20220704T170000
DTSTAMP:20260424T042442
CREATED:20210715T190538Z
LAST-MODIFIED:20210715T190538Z
UID:11854-1656921600-1656954000@saintpiusxchurch.com
SUMMARY:Independence Day                                       No Mass/Parish Office Closed No Parish Council Meeting
DESCRIPTION:
URL:http://saintpiusxchurch.com/wp/event/independence-day-no-mass-parish-office-closed-no-parish-council-meeting/
END:VEVENT
BEGIN:VEVENT
DTSTART;TZID=UTC:20220702T080000
DTEND;TZID=UTC:20220702T170000
DTSTAMP:20260424T042442
CREATED:20210713T203637Z
LAST-MODIFIED:20210713T203637Z
UID:11398-1656748800-1656781200@saintpiusxchurch.com
SUMMARY:9:00am Mass                                                                    5:00pm Vigil Mass
DESCRIPTION:
URL:http://saintpiusxchurch.com/wp/event/900am-mass-500pm-vigil-mass-42/
END:VEVENT
BEGIN:VEVENT
DTSTART;TZID=UTC:20220701T080000
DTEND;TZID=UTC:20220701T170000
DTSTAMP:20260424T042442
CREATED:20210715T191013Z
LAST-MODIFIED:20220616T191746Z
UID:11856-1656662400-1656694800@saintpiusxchurch.com
SUMMARY:No 11:30am Weekday Mass July 1 – September 11
DESCRIPTION:
URL:http://saintpiusxchurch.com/wp/event/no-1130am-mass-july-5-september-11/
END:VEVENT
BEGIN:VEVENT
DTSTART;TZID=UTC:20220701T080000
DTEND;TZID=UTC:20220701T170000
DTSTAMP:20260424T042442
CREATED:20210713T195243Z
LAST-MODIFIED:20210713T195243Z
UID:11297-1656662400-1656694800@saintpiusxchurch.com
SUMMARY:Parish Office Closed
DESCRIPTION:
URL:http://saintpiusxchurch.com/wp/event/parish-office-closed-401/
END:VEVENT
BEGIN:VEVENT
DTSTART;TZID=UTC:20220630T080000
DTEND;TZID=UTC:20220630T170000
DTSTAMP:20260424T042442
CREATED:20220215T215747Z
LAST-MODIFIED:20220215T215747Z
UID:12767-1656576000-1656608400@saintpiusxchurch.com
SUMMARY:Rosary Devotion after 11:30am Mass
DESCRIPTION:
URL:http://saintpiusxchurch.com/wp/event/rosary-devotion-after-1130am-mass-102/
END:VEVENT
BEGIN:VEVENT
DTSTART;TZID=UTC:20220629T080000
DTEND;TZID=UTC:20220629T170000
DTSTAMP:20260424T042442
CREATED:20220616T192008Z
LAST-MODIFIED:20220616T192111Z
UID:12936-1656489600-1656522000@saintpiusxchurch.com
SUMMARY:Rosary Group Celebration - 12:30pm(Narthex)
DESCRIPTION:
URL:http://saintpiusxchurch.com/wp/event/rosary-group-celebration-1230pmnathex/
END:VEVENT
BEGIN:VEVENT
DTSTART;TZID=UTC:20220629T080000
DTEND;TZID=UTC:20220629T170000
DTSTAMP:20260424T042442
CREATED:20220215T215734Z
LAST-MODIFIED:20220215T215734Z
UID:12765-1656489600-1656522000@saintpiusxchurch.com
SUMMARY:Rosary Devotion after 11:30am Mass
DESCRIPTION:
URL:http://saintpiusxchurch.com/wp/event/rosary-devotion-after-1130am-mass-101/
END:VEVENT
BEGIN:VEVENT
DTSTART;TZID=UTC:20220628T080000
DTEND;TZID=UTC:20220628T170000
DTSTAMP:20260424T042442
CREATED:20220215T215720Z
LAST-MODIFIED:20220215T215720Z
UID:12763-1656403200-1656435600@saintpiusxchurch.com
SUMMARY:Rosary Devotion after 11:30am Mass
DESCRIPTION:
URL:http://saintpiusxchurch.com/wp/event/rosary-devotion-after-1130am-mass-100/
END:VEVENT
BEGIN:VEVENT
DTSTART;TZID=UTC:20220627T080000
DTEND;TZID=UTC:20220627T170000
DTSTAMP:20260424T042442
CREATED:20220215T215706Z
LAST-MODIFIED:20220215T215706Z
UID:12761-1656316800-1656349200@saintpiusxchurch.com
SUMMARY:Rosary Devotion after 11:30am Mass
DESCRIPTION:
URL:http://saintpiusxchurch.com/wp/event/rosary-devotion-after-1130am-mass-99/
END:VEVENT
BEGIN:VEVENT
DTSTART;TZID=UTC:20220625T080000
DTEND;TZID=UTC:20220625T170000
DTSTAMP:20260424T042442
CREATED:20210713T203604Z
LAST-MODIFIED:20210713T203604Z
UID:11396-1656144000-1656176400@saintpiusxchurch.com
SUMMARY:9:00am Mass                                                                    5:00pm Vigil Mass
DESCRIPTION:
URL:http://saintpiusxchurch.com/wp/event/900am-mass-500pm-vigil-mass-41/
END:VEVENT
BEGIN:VEVENT
DTSTART;TZID=UTC:20220624T080000
DTEND;TZID=UTC:20220624T170000
DTSTAMP:20260424T042442
CREATED:20220503T003635Z
LAST-MODIFIED:20220613T180705Z
UID:12913-1656057600-1656090000@saintpiusxchurch.com
SUMMARY:Volunteers and New Parishioners’ Night 7:30-9:30pm (Narthex)
DESCRIPTION:
URL:http://saintpiusxchurch.com/wp/event/volunteers-and-new-parishioners-night-700-900pm/
END:VEVENT
BEGIN:VEVENT
DTSTART;TZID=UTC:20220624T080000
DTEND;TZID=UTC:20220624T170000
DTSTAMP:20260424T042442
CREATED:20220215T215651Z
LAST-MODIFIED:20220215T215651Z
UID:12759-1656057600-1656090000@saintpiusxchurch.com
SUMMARY:Rosary Devotion after 11:30am Mass
DESCRIPTION:
URL:http://saintpiusxchurch.com/wp/event/rosary-devotion-after-1130am-mass-98/
END:VEVENT
BEGIN:VEVENT
DTSTART;TZID=UTC:20220624T080000
DTEND;TZID=UTC:20220624T170000
DTSTAMP:20260424T042442
CREATED:20210713T195204Z
LAST-MODIFIED:20210713T195204Z
UID:11295-1656057600-1656090000@saintpiusxchurch.com
SUMMARY:Parish Office Closed
DESCRIPTION:
URL:http://saintpiusxchurch.com/wp/event/parish-office-closed-400/
END:VEVENT
BEGIN:VEVENT
DTSTART;TZID=UTC:20220623T080000
DTEND;TZID=UTC:20220623T170000
DTSTAMP:20260424T042442
CREATED:20220215T215637Z
LAST-MODIFIED:20220215T215637Z
UID:12757-1655971200-1656003600@saintpiusxchurch.com
SUMMARY:Rosary Devotion after 11:30am Mass
DESCRIPTION:
URL:http://saintpiusxchurch.com/wp/event/rosary-devotion-after-1130am-mass-97/
END:VEVENT
END:VCALENDAR