BEGIN:VCALENDAR
VERSION:2.0
PRODID:-//Church of Saint Pius X - ECPv6.15.20//NONSGML v1.0//EN
CALSCALE:GREGORIAN
METHOD:PUBLISH
X-WR-CALNAME:Church of Saint Pius X
X-ORIGINAL-URL:http://saintpiusxchurch.com/wp
X-WR-CALDESC:Events for Church of Saint Pius X
REFRESH-INTERVAL;VALUE=DURATION:PT1H
X-Robots-Tag:noindex
X-PUBLISHED-TTL:PT1H
BEGIN:VTIMEZONE
TZID:UTC
BEGIN:STANDARD
TZOFFSETFROM:+0000
TZOFFSETTO:+0000
TZNAME:UTC
DTSTART:20210101T000000
END:STANDARD
END:VTIMEZONE
BEGIN:VEVENT
DTSTART;TZID=UTC:20221231T080000
DTEND;TZID=UTC:20221231T170000
DTSTAMP:20260423T195112
CREATED:20220817T184125Z
LAST-MODIFIED:20220817T184125Z
UID:13969-1672473600-1672506000@saintpiusxchurch.com
SUMMARY:9:00am Mass
DESCRIPTION:
URL:http://saintpiusxchurch.com/wp/event/900am-mass/
END:VEVENT
BEGIN:VEVENT
DTSTART;TZID=UTC:20221231T080000
DTEND;TZID=UTC:20221231T170000
DTSTAMP:20260423T195112
CREATED:20220713T202815Z
LAST-MODIFIED:20220801T205033Z
UID:13786-1672473600-1672506000@saintpiusxchurch.com
SUMMARY:New Year’s Eve Mass – 5:00pm Vigil Mass
DESCRIPTION:
URL:http://saintpiusxchurch.com/wp/event/new-years-eve-mass-400pm-vigil-mass-2/
END:VEVENT
BEGIN:VEVENT
DTSTART;TZID=UTC:20221230T080000
DTEND;TZID=UTC:20221230T170000
DTSTAMP:20260423T195112
CREATED:20220712T221949Z
LAST-MODIFIED:20220712T221949Z
UID:13129-1672387200-1672419600@saintpiusxchurch.com
SUMMARY:Parish Office Closed
DESCRIPTION:
URL:http://saintpiusxchurch.com/wp/event/parish-office-closed-430/
END:VEVENT
BEGIN:VEVENT
DTSTART;TZID=UTC:20221226T080000
DTEND;TZID=UTC:20221226T170000
DTSTAMP:20260423T195112
CREATED:20221027T191133Z
LAST-MODIFIED:20221027T191133Z
UID:14059-1672041600-1672074000@saintpiusxchurch.com
SUMMARY:No Mass/Parish Office Closed
DESCRIPTION:
URL:http://saintpiusxchurch.com/wp/event/no-mass-parish-office-closed-6/
END:VEVENT
BEGIN:VEVENT
DTSTART;TZID=UTC:20221225T080000
DTEND;TZID=UTC:20221225T170000
DTSTAMP:20260423T195112
CREATED:20220713T000517Z
LAST-MODIFIED:20220816T192331Z
UID:13502-1671955200-1671987600@saintpiusxchurch.com
SUMMARY:Masses - 8:00am\, 9:15am\, 10:30am(not a Family Mass) & 12:00pm
DESCRIPTION:
URL:http://saintpiusxchurch.com/wp/event/masses-900am-1030amnot-a-family-mass-1200pm/
END:VEVENT
BEGIN:VEVENT
DTSTART;TZID=UTC:20221225T080000
DTEND;TZID=UTC:20221225T170000
DTSTAMP:20260423T195112
CREATED:20220713T000336Z
LAST-MODIFIED:20220713T000336Z
UID:13500-1671955200-1671987600@saintpiusxchurch.com
SUMMARY:Christmas Day Parish Office Closed
DESCRIPTION:
URL:http://saintpiusxchurch.com/wp/event/christmas-day-parish-office-closed-2/
END:VEVENT
BEGIN:VEVENT
DTSTART;TZID=UTC:20221224T080000
DTEND;TZID=UTC:20221224T170000
DTSTAMP:20260423T195112
CREATED:20220713T000314Z
LAST-MODIFIED:20220713T000314Z
UID:13498-1671868800-1671901200@saintpiusxchurch.com
SUMMARY:10:00pm Christmas Eve Mass for Midnight
DESCRIPTION:
URL:http://saintpiusxchurch.com/wp/event/1000pm-christmas-eve-mass-for-midnight-3/
END:VEVENT
BEGIN:VEVENT
DTSTART;TZID=UTC:20221224T080000
DTEND;TZID=UTC:20221224T170000
DTSTAMP:20260423T195112
CREATED:20220713T000256Z
LAST-MODIFIED:20220816T192611Z
UID:13496-1671868800-1671901200@saintpiusxchurch.com
SUMMARY:6:30pm Mass with 6:15pm SPX Choir and Musical Prelude
DESCRIPTION:
URL:http://saintpiusxchurch.com/wp/event/630pm-mass-with-spx-choir-and-musical-prelude/
END:VEVENT
BEGIN:VEVENT
DTSTART;TZID=UTC:20221224T080000
DTEND;TZID=UTC:20221224T170000
DTSTAMP:20260423T195112
CREATED:20220713T000238Z
LAST-MODIFIED:20220801T204942Z
UID:13494-1671868800-1671901200@saintpiusxchurch.com
SUMMARY:Choir Rehearsal - 5:30pm
DESCRIPTION:
URL:http://saintpiusxchurch.com/wp/event/500pm-choir-rehearsal/
END:VEVENT
BEGIN:VEVENT
DTSTART;TZID=UTC:20221224T080000
DTEND;TZID=UTC:20221224T170000
DTSTAMP:20260423T195112
CREATED:20220713T000216Z
LAST-MODIFIED:20220713T000216Z
UID:13492-1671868800-1671901200@saintpiusxchurch.com
SUMMARY:Christmas Eve Masses 3:00pm and 4:30pm(Masses with Homily for Children)
DESCRIPTION:
URL:http://saintpiusxchurch.com/wp/event/christmas-eve-masses-300pm-and-430pmmasses-with-homily-for-children/
END:VEVENT
BEGIN:VEVENT
DTSTART;TZID=UTC:20221224T080000
DTEND;TZID=UTC:20221224T170000
DTSTAMP:20260423T195112
CREATED:20220713T000157Z
LAST-MODIFIED:20221027T190142Z
UID:13490-1671868800-1671901200@saintpiusxchurch.com
SUMMARY:Confession – 10:00am-11:00am (Main Church)
DESCRIPTION:
URL:http://saintpiusxchurch.com/wp/event/confession-1000am-1100am-7/
END:VEVENT
BEGIN:VEVENT
DTSTART;TZID=UTC:20221224T080000
DTEND;TZID=UTC:20221224T170000
DTSTAMP:20260423T195112
CREATED:20220713T000138Z
LAST-MODIFIED:20220713T000138Z
UID:13488-1671868800-1671901200@saintpiusxchurch.com
SUMMARY:No 9:00am Mass
DESCRIPTION:
URL:http://saintpiusxchurch.com/wp/event/no-900am-mass-4/
END:VEVENT
BEGIN:VEVENT
DTSTART;TZID=UTC:20221223T080000
DTEND;TZID=UTC:20221223T170000
DTSTAMP:20260423T195112
CREATED:20220712T221933Z
LAST-MODIFIED:20220712T221933Z
UID:13127-1671782400-1671814800@saintpiusxchurch.com
SUMMARY:Parish Office Closed
DESCRIPTION:
URL:http://saintpiusxchurch.com/wp/event/parish-office-closed-429/
END:VEVENT
BEGIN:VEVENT
DTSTART;TZID=UTC:20221221T080000
DTEND;TZID=UTC:20221221T170000
DTSTAMP:20260423T195112
CREATED:20221108T002718Z
LAST-MODIFIED:20221108T002718Z
UID:14080-1671609600-1671642000@saintpiusxchurch.com
SUMMARY:Church Christmas Decorations - 9:00am
DESCRIPTION:
URL:http://saintpiusxchurch.com/wp/event/church-christmas-decorations-900am-3/
END:VEVENT
BEGIN:VEVENT
DTSTART;TZID=UTC:20221219T080000
DTEND;TZID=UTC:20221219T170000
DTSTAMP:20260423T195112
CREATED:20221027T185930Z
LAST-MODIFIED:20221027T185930Z
UID:14048-1671436800-1671469200@saintpiusxchurch.com
SUMMARY:Advent Reconciliation Monday (Confession) 4:00 pm—8:00 pm (Main Church)
DESCRIPTION:
URL:http://saintpiusxchurch.com/wp/event/advent-reconciliation-monday-confession-400-pm-800-pm-main-church/
END:VEVENT
BEGIN:VEVENT
DTSTART;TZID=UTC:20221219T080000
DTEND;TZID=UTC:20221219T170000
DTSTAMP:20260423T195112
CREATED:20220713T000052Z
LAST-MODIFIED:20220713T000052Z
UID:13484-1671436800-1671469200@saintpiusxchurch.com
SUMMARY:RE Christmas Break
DESCRIPTION:
URL:http://saintpiusxchurch.com/wp/event/re-christmas-break-2/
END:VEVENT
BEGIN:VEVENT
DTSTART;TZID=UTC:20221218T080000
DTEND;TZID=UTC:20221218T170000
DTSTAMP:20260423T195112
CREATED:20221027T194259Z
LAST-MODIFIED:20221027T194259Z
UID:14071-1671350400-1671382800@saintpiusxchurch.com
SUMMARY:Angel Tree Pack up after 12pm Mass - 8th Grade Community Service Project
DESCRIPTION:
URL:http://saintpiusxchurch.com/wp/event/angel-tree-pack-up-after-12pm-mass-8th-grade-community-service-project/
END:VEVENT
BEGIN:VEVENT
DTSTART;TZID=UTC:20221218T080000
DTEND;TZID=UTC:20221218T170000
DTSTAMP:20260423T195112
CREATED:20221027T194156Z
LAST-MODIFIED:20221027T194156Z
UID:14069-1671350400-1671382800@saintpiusxchurch.com
SUMMARY:Adopt A Family drop-off and Delivery(School Lobby-10am-12pm)
DESCRIPTION:
URL:http://saintpiusxchurch.com/wp/event/adopt-a-family-drop-off-and-deliveryschool-lobby-10am-12pm/
END:VEVENT
BEGIN:VEVENT
DTSTART;TZID=UTC:20221218T080000
DTEND;TZID=UTC:20221218T170000
DTSTAMP:20260423T195112
CREATED:20220713T000107Z
LAST-MODIFIED:20220713T000700Z
UID:13486-1671350400-1671382800@saintpiusxchurch.com
SUMMARY:RE Christmas Break Begins
DESCRIPTION:
URL:http://saintpiusxchurch.com/wp/event/re-christmas-break-3/
END:VEVENT
BEGIN:VEVENT
DTSTART;TZID=UTC:20221218T080000
DTEND;TZID=UTC:20221218T170000
DTSTAMP:20260423T195112
CREATED:20220713T000031Z
LAST-MODIFIED:20220713T000031Z
UID:13482-1671350400-1671382800@saintpiusxchurch.com
SUMMARY:4th Sunday of Advent
DESCRIPTION:
URL:http://saintpiusxchurch.com/wp/event/4th-sunday-of-advent-6/
END:VEVENT
BEGIN:VEVENT
DTSTART;TZID=UTC:20221218T080000
DTEND;TZID=UTC:20221218T170000
DTSTAMP:20260423T195112
CREATED:20220713T000013Z
LAST-MODIFIED:20221111T002546Z
UID:13480-1671350400-1671382800@saintpiusxchurch.com
SUMMARY:Angel Giving Tree (last day)
DESCRIPTION:
URL:http://saintpiusxchurch.com/wp/event/angel-tree-givinglast-day/
END:VEVENT
BEGIN:VEVENT
DTSTART;TZID=UTC:20221218T080000
DTEND;TZID=UTC:20221218T170000
DTSTAMP:20260423T195112
CREATED:20220712T235931Z
LAST-MODIFIED:20220712T235931Z
UID:13478-1671350400-1671382800@saintpiusxchurch.com
SUMMARY:Birthday Blessing- 10:30am Mass
DESCRIPTION:
URL:http://saintpiusxchurch.com/wp/event/birthday-blessing-1030am-mass-17/
END:VEVENT
BEGIN:VEVENT
DTSTART;TZID=UTC:20221218T080000
DTEND;TZID=UTC:20221218T170000
DTSTAMP:20260423T195112
CREATED:20220712T235909Z
LAST-MODIFIED:20220712T235909Z
UID:13476-1671350400-1671382800@saintpiusxchurch.com
SUMMARY:RE Christmas Break
DESCRIPTION:
URL:http://saintpiusxchurch.com/wp/event/re-christmas-break/
END:VEVENT
BEGIN:VEVENT
DTSTART;TZID=UTC:20221218T080000
DTEND;TZID=UTC:20221218T170000
DTSTAMP:20260423T195112
CREATED:20220712T224759Z
LAST-MODIFIED:20220712T224759Z
UID:13231-1671350400-1671382800@saintpiusxchurch.com
SUMMARY:Masses – 8:00am\, 9:15am\,10:30am and 12:00pm
DESCRIPTION:
URL:http://saintpiusxchurch.com/wp/event/masses-800am-915am1030am-and-1200pm-20/
END:VEVENT
BEGIN:VEVENT
DTSTART;TZID=UTC:20221217T080000
DTEND;TZID=UTC:20221217T170000
DTSTAMP:20260423T195112
CREATED:20220712T235838Z
LAST-MODIFIED:20220712T235838Z
UID:13474-1671264000-1671296400@saintpiusxchurch.com
SUMMARY:Christmas Mass and Carols 4:00pm
DESCRIPTION:
URL:http://saintpiusxchurch.com/wp/event/christmas-mass-and-carols-400pm/
END:VEVENT
BEGIN:VEVENT
DTSTART;TZID=UTC:20221217T080000
DTEND;TZID=UTC:20221217T170000
DTSTAMP:20260423T195112
CREATED:20220712T215217Z
LAST-MODIFIED:20220712T215217Z
UID:13036-1671264000-1671296400@saintpiusxchurch.com
SUMMARY:9:00am Mass                                     5:00pm Vigil Mass
DESCRIPTION:
URL:http://saintpiusxchurch.com/wp/event/900am-mass-500pm-vigil-mass-67/
END:VEVENT
BEGIN:VEVENT
DTSTART;TZID=UTC:20221216T080000
DTEND;TZID=UTC:20221216T170000
DTSTAMP:20260423T195112
CREATED:20220712T221859Z
LAST-MODIFIED:20220712T221859Z
UID:13125-1671177600-1671210000@saintpiusxchurch.com
SUMMARY:Parish Office Closed
DESCRIPTION:
URL:http://saintpiusxchurch.com/wp/event/parish-office-closed-428/
END:VEVENT
BEGIN:VEVENT
DTSTART;TZID=UTC:20221214T080000
DTEND;TZID=UTC:20221214T170000
DTSTAMP:20260423T195112
CREATED:20221018T182528Z
LAST-MODIFIED:20221018T182528Z
UID:14037-1671004800-1671037200@saintpiusxchurch.com
SUMMARY:Adult Christmas Party - 12:30pm (Parish Hall)
DESCRIPTION:
URL:http://saintpiusxchurch.com/wp/event/adult-christmas-party-1230pm-parish-hall/
END:VEVENT
BEGIN:VEVENT
DTSTART;TZID=UTC:20221213T080000
DTEND;TZID=UTC:20221213T170000
DTSTAMP:20260423T195112
CREATED:20220712T235731Z
LAST-MODIFIED:20220712T235731Z
UID:13472-1670918400-1670950800@saintpiusxchurch.com
SUMMARY:RE Classes In Session 1st– 4th Grade 3:30 – 5:00pm(Last Academic Day before Christmas)
DESCRIPTION:
URL:http://saintpiusxchurch.com/wp/event/re-classes-in-session-1st-4th-grade-330-500pmlast-academic-day-before-christmas/
END:VEVENT
BEGIN:VEVENT
DTSTART;TZID=UTC:20221212T080000
DTEND;TZID=UTC:20221212T170000
DTSTAMP:20260423T195112
CREATED:20220829T181843Z
LAST-MODIFIED:20220829T181843Z
UID:13982-1670832000-1670864400@saintpiusxchurch.com
SUMMARY:Widows and Widowers Mass and Meeting – 7:00pm
DESCRIPTION:
URL:http://saintpiusxchurch.com/wp/event/widows-and-widowers-mass-and-meeting-700pm-10/
END:VEVENT
END:VCALENDAR