BEGIN:VCALENDAR
VERSION:2.0
PRODID:-//Church of Saint Pius X - ECPv6.15.20//NONSGML v1.0//EN
CALSCALE:GREGORIAN
METHOD:PUBLISH
X-WR-CALNAME:Church of Saint Pius X
X-ORIGINAL-URL:http://saintpiusxchurch.com/wp
X-WR-CALDESC:Events for Church of Saint Pius X
REFRESH-INTERVAL;VALUE=DURATION:PT1H
X-Robots-Tag:noindex
X-PUBLISHED-TTL:PT1H
BEGIN:VTIMEZONE
TZID:UTC
BEGIN:STANDARD
TZOFFSETFROM:+0000
TZOFFSETTO:+0000
TZNAME:UTC
DTSTART:20220101T000000
END:STANDARD
END:VTIMEZONE
BEGIN:VEVENT
DTSTART;TZID=UTC:20230529T080000
DTEND;TZID=UTC:20230529T170000
DTSTAMP:20260423T111954
CREATED:20220713T201854Z
LAST-MODIFIED:20220713T201854Z
UID:13762-1685347200-1685379600@saintpiusxchurch.com
SUMMARY:Memorial Day No Mass/Parish Office Closed
DESCRIPTION:
URL:http://saintpiusxchurch.com/wp/event/memorial-day-no-mass-parish-office-closed-3/
END:VEVENT
BEGIN:VEVENT
DTSTART;TZID=UTC:20230528T080000
DTEND;TZID=UTC:20230528T170000
DTSTAMP:20260423T111954
CREATED:20230425T183420Z
LAST-MODIFIED:20230425T183420Z
UID:14350-1685260800-1685293200@saintpiusxchurch.com
SUMMARY:Pentecost Sunday - Parade of Nations and Prayers of the Faithful read by children in different languages - 10:30am Mass
DESCRIPTION:
URL:http://saintpiusxchurch.com/wp/event/pentecost-sunday-parade-of-nations-and-prayers-of-the-faithful-read-by-children-in-different-languages-1030am-mass/
END:VEVENT
BEGIN:VEVENT
DTSTART;TZID=UTC:20230528T080000
DTEND;TZID=UTC:20230528T170000
DTSTAMP:20260423T111954
CREATED:20230313T190312Z
LAST-MODIFIED:20230313T190312Z
UID:14301-1685260800-1685293200@saintpiusxchurch.com
SUMMARY:YM Sorting Event (after 12:00pm Mass - overflow to Good Counsel Homes)
DESCRIPTION:
URL:http://saintpiusxchurch.com/wp/event/ym-sorting-event-after-1200pm-mass-overflow-to-good-counsel-homes/
END:VEVENT
BEGIN:VEVENT
DTSTART;TZID=UTC:20230528T080000
DTEND;TZID=UTC:20230528T170000
DTSTAMP:20260423T111954
CREATED:20220713T201821Z
LAST-MODIFIED:20220713T201821Z
UID:13760-1685260800-1685293200@saintpiusxchurch.com
SUMMARY:Pentecost Sunday Multi-cultural Potluck Luncheon after 12pm mass
DESCRIPTION:
URL:http://saintpiusxchurch.com/wp/event/pentecost-sunday-multi-cultural-potluck-luncheon-after-12pm-mass/
END:VEVENT
BEGIN:VEVENT
DTSTART;TZID=UTC:20230528T080000
DTEND;TZID=UTC:20230528T170000
DTSTAMP:20260423T111954
CREATED:20220713T201756Z
LAST-MODIFIED:20220727T184238Z
UID:13758-1685260800-1685293200@saintpiusxchurch.com
SUMMARY:May Crowning/Flower Offering by Children-10:30am mass
DESCRIPTION:
URL:http://saintpiusxchurch.com/wp/event/may-flower-offering-by-children-1030am-mass-re-closing-mass-1030am-mass/
END:VEVENT
BEGIN:VEVENT
DTSTART;TZID=UTC:20230528T080000
DTEND;TZID=UTC:20230528T170000
DTSTAMP:20260423T111954
CREATED:20220712T225340Z
LAST-MODIFIED:20220712T225340Z
UID:13276-1685260800-1685293200@saintpiusxchurch.com
SUMMARY:Masses – 8:00am\, 9:15am\,10:30am and 12:00pm
DESCRIPTION:
URL:http://saintpiusxchurch.com/wp/event/masses-800am-915am1030am-and-1200pm-42/
END:VEVENT
BEGIN:VEVENT
DTSTART;TZID=UTC:20230527T080000
DTEND;TZID=UTC:20230527T170000
DTSTAMP:20260423T111954
CREATED:20220712T220127Z
LAST-MODIFIED:20220712T220127Z
UID:13082-1685174400-1685206800@saintpiusxchurch.com
SUMMARY:9:00am Mass                                     5:00pm Vigil Mass
DESCRIPTION:
URL:http://saintpiusxchurch.com/wp/event/900am-mass-500pm-vigil-mass-90/
END:VEVENT
BEGIN:VEVENT
DTSTART;TZID=UTC:20230526T080000
DTEND;TZID=UTC:20230526T170000
DTSTAMP:20260423T111954
CREATED:20220712T222606Z
LAST-MODIFIED:20220712T222606Z
UID:13175-1685088000-1685120400@saintpiusxchurch.com
SUMMARY:Parish Office Closed
DESCRIPTION:
URL:http://saintpiusxchurch.com/wp/event/parish-office-closed-453/
END:VEVENT
BEGIN:VEVENT
DTSTART;TZID=UTC:20230524T080000
DTEND;TZID=UTC:20230524T170000
DTSTAMP:20260423T111954
CREATED:20221220T235800Z
LAST-MODIFIED:20221220T235800Z
UID:14127-1684915200-1684947600@saintpiusxchurch.com
SUMMARY:Mary Under The Stars - 7:30pm (Raindate - May 25\, 2023
DESCRIPTION:
URL:http://saintpiusxchurch.com/wp/event/mary-under-the-stars-730pm-raindate-may-25-2023/
END:VEVENT
BEGIN:VEVENT
DTSTART;TZID=UTC:20230522T080000
DTEND;TZID=UTC:20230522T170000
DTSTAMP:20260423T111954
CREATED:20220829T182025Z
LAST-MODIFIED:20230425T183555Z
UID:13993-1684742400-1684774800@saintpiusxchurch.com
SUMMARY:Widows and Widowers Mass and Meeting – 5:30pm
DESCRIPTION:
URL:http://saintpiusxchurch.com/wp/event/widows-and-widowers-mass-and-meeting-700pm-15/
END:VEVENT
BEGIN:VEVENT
DTSTART;TZID=UTC:20230521T080000
DTEND;TZID=UTC:20230521T170000
DTSTAMP:20260423T111954
CREATED:20221221T203258Z
LAST-MODIFIED:20221221T203258Z
UID:14141-1684656000-1684688400@saintpiusxchurch.com
SUMMARY:SPX YM Awards Ceremony at the 12:00pm Mass followed by light refreshments in the school lobby 
DESCRIPTION:
URL:http://saintpiusxchurch.com/wp/event/spx-ym-awards-ceremony-at-the-1200pm-mass-followed-by-light-refreshments-in-the-school-lobby/
END:VEVENT
BEGIN:VEVENT
DTSTART;TZID=UTC:20230521T080000
DTEND;TZID=UTC:20230521T170000
DTSTAMP:20260423T111954
CREATED:20220713T201717Z
LAST-MODIFIED:20220727T184319Z
UID:13756-1684656000-1684688400@saintpiusxchurch.com
SUMMARY:May Crowning/Flower Offering by Children-10:30am mass
DESCRIPTION:
URL:http://saintpiusxchurch.com/wp/event/may-flower-offering-by-children-1030am-mass-21/
END:VEVENT
BEGIN:VEVENT
DTSTART;TZID=UTC:20230521T080000
DTEND;TZID=UTC:20230521T170000
DTSTAMP:20260423T111954
CREATED:20220713T201649Z
LAST-MODIFIED:20220713T201649Z
UID:13754-1684656000-1684688400@saintpiusxchurch.com
SUMMARY:Birthday Blessings – 10:30am Mass
DESCRIPTION:
URL:http://saintpiusxchurch.com/wp/event/birthday-blessings-1030am-mass-21/
END:VEVENT
BEGIN:VEVENT
DTSTART;TZID=UTC:20230520T080000
DTEND;TZID=UTC:20230520T170000
DTSTAMP:20260423T111954
CREATED:20220712T220109Z
LAST-MODIFIED:20220712T220109Z
UID:13080-1684569600-1684602000@saintpiusxchurch.com
SUMMARY:9:00am Mass                                     5:00pm Vigil Mass
DESCRIPTION:
URL:http://saintpiusxchurch.com/wp/event/900am-mass-500pm-vigil-mass-89/
END:VEVENT
BEGIN:VEVENT
DTSTART;TZID=UTC:20230519T080000
DTEND;TZID=UTC:20230519T170000
DTSTAMP:20260423T111954
CREATED:20220712T222550Z
LAST-MODIFIED:20220712T222550Z
UID:13173-1684483200-1684515600@saintpiusxchurch.com
SUMMARY:Parish Office Closed
DESCRIPTION:
URL:http://saintpiusxchurch.com/wp/event/parish-office-closed-452/
END:VEVENT
BEGIN:VEVENT
DTSTART;TZID=UTC:20230518T080000
DTEND;TZID=UTC:20230518T170000
DTSTAMP:20260423T111954
CREATED:20230222T205330Z
LAST-MODIFIED:20230222T205330Z
UID:14277-1684396800-1684429200@saintpiusxchurch.com
SUMMARY:Crochet/Knitting Club Meeting
DESCRIPTION:
URL:http://saintpiusxchurch.com/wp/event/crochet-knitting-club-meeting-3/
END:VEVENT
BEGIN:VEVENT
DTSTART;TZID=UTC:20230518T080000
DTEND;TZID=UTC:20230518T170000
DTSTAMP:20260423T111954
CREATED:20220713T201619Z
LAST-MODIFIED:20221220T224638Z
UID:13752-1684396800-1684429200@saintpiusxchurch.com
SUMMARY:Ascension Thursday Masses – 8:00am\, 11:30am and 7:00pm
DESCRIPTION:
URL:http://saintpiusxchurch.com/wp/event/ascension-thursday-masses-800am-1130am-and-700pm-parish-office-closed/
END:VEVENT
BEGIN:VEVENT
DTSTART;TZID=UTC:20230517T080000
DTEND;TZID=UTC:20230517T170000
DTSTAMP:20260423T111954
CREATED:20220713T201552Z
LAST-MODIFIED:20220713T201552Z
UID:13750-1684310400-1684342800@saintpiusxchurch.com
SUMMARY:Vigil Mass for Ascension Thursday – 4:00pm
DESCRIPTION:
URL:http://saintpiusxchurch.com/wp/event/vigil-mass-for-ascension-thursday-400pm/
END:VEVENT
BEGIN:VEVENT
DTSTART;TZID=UTC:20230516T080000
DTEND;TZID=UTC:20230516T170000
DTSTAMP:20260423T111954
CREATED:20230425T183351Z
LAST-MODIFIED:20230425T183351Z
UID:14348-1684224000-1684256400@saintpiusxchurch.com
SUMMARY:Religious Education Volunteers(Teachers/Assistants/Hall Monitors) End of Year Dinner - Parish Hall - 5:30pm
DESCRIPTION:
URL:http://saintpiusxchurch.com/wp/event/religious-education-volunteersteachers-assistants-hall-monitors-end-of-year-dinner-parish-hall-530pm/
END:VEVENT
BEGIN:VEVENT
DTSTART;TZID=UTC:20230516T080000
DTEND;TZID=UTC:20230516T170000
DTSTAMP:20260423T111954
CREATED:20220713T201522Z
LAST-MODIFIED:20220713T201522Z
UID:13748-1684224000-1684256400@saintpiusxchurch.com
SUMMARY:RE Classes In Session 1st– 4th Grade 3:30 – 5:00pm(Last Academic day)
DESCRIPTION:
URL:http://saintpiusxchurch.com/wp/event/re-classes-in-session-1st-4th-grade-330-500pmlast-academic-day/
END:VEVENT
BEGIN:VEVENT
DTSTART;TZID=UTC:20230515T080000
DTEND;TZID=UTC:20230515T170000
DTSTAMP:20260423T111954
CREATED:20220713T201452Z
LAST-MODIFIED:20220810T190843Z
UID:13746-1684137600-1684170000@saintpiusxchurch.com
SUMMARY:RE Classes In Session 5th –  7th 3:30 – 4:30pm (Last Academic day)
DESCRIPTION:
URL:http://saintpiusxchurch.com/wp/event/re-classes-in-session-5th-7th330-500pm-last-academic-day/
END:VEVENT
BEGIN:VEVENT
DTSTART;TZID=UTC:20230514T080000
DTEND;TZID=UTC:20230514T170000
DTSTAMP:20260423T111954
CREATED:20230425T183317Z
LAST-MODIFIED:20230425T183317Z
UID:14346-1684051200-1684083600@saintpiusxchurch.com
SUMMARY:Children's Choir Performance - 10:30am Mass
DESCRIPTION:
URL:http://saintpiusxchurch.com/wp/event/childrens-choir-performance-1030am-mass/
END:VEVENT
BEGIN:VEVENT
DTSTART;TZID=UTC:20230514T080000
DTEND;TZID=UTC:20230514T170000
DTSTAMP:20260423T111954
CREATED:20220829T213540Z
LAST-MODIFIED:20220829T213540Z
UID:13997-1684051200-1684083600@saintpiusxchurch.com
SUMMARY:Mother’s Day
DESCRIPTION:
URL:http://saintpiusxchurch.com/wp/event/mothers-day-7/
END:VEVENT
BEGIN:VEVENT
DTSTART;TZID=UTC:20230514T080000
DTEND;TZID=UTC:20230514T170000
DTSTAMP:20260423T111954
CREATED:20220713T201358Z
LAST-MODIFIED:20220727T184042Z
UID:13744-1684051200-1684083600@saintpiusxchurch.com
SUMMARY:May Crowning/Flower Offering by Children-10:30am mass
DESCRIPTION:
URL:http://saintpiusxchurch.com/wp/event/may-flower-offering-by-children-1030am-mass-20/
END:VEVENT
BEGIN:VEVENT
DTSTART;TZID=UTC:20230514T080000
DTEND;TZID=UTC:20230514T170000
DTSTAMP:20260423T111954
CREATED:20220713T201320Z
LAST-MODIFIED:20220713T201320Z
UID:13742-1684051200-1684083600@saintpiusxchurch.com
SUMMARY:Kindergarten Class in Session 9:15-10:15am(Last Academic day)
DESCRIPTION:
URL:http://saintpiusxchurch.com/wp/event/kindergarten-class-in-session-915-1015amlast-academic-day/
END:VEVENT
BEGIN:VEVENT
DTSTART;TZID=UTC:20230514T080000
DTEND;TZID=UTC:20230514T170000
DTSTAMP:20260423T111954
CREATED:20220712T225313Z
LAST-MODIFIED:20220712T225313Z
UID:13273-1684051200-1684083600@saintpiusxchurch.com
SUMMARY:Masses – 8:00am\, 9:15am\,10:30am and 12:00pm
DESCRIPTION:
URL:http://saintpiusxchurch.com/wp/event/masses-800am-915am1030am-and-1200pm-41/
END:VEVENT
BEGIN:VEVENT
DTSTART;TZID=UTC:20230513T080000
DTEND;TZID=UTC:20230513T170000
DTSTAMP:20260423T111954
CREATED:20221220T225118Z
LAST-MODIFIED:20221220T225118Z
UID:14123-1683964800-1683997200@saintpiusxchurch.com
SUMMARY:Confirmation Day with Bishop Dennis Sullivan\, DD - 10:00am
DESCRIPTION:
URL:http://saintpiusxchurch.com/wp/event/confirmation-day-with-bishop-dennis-sullivan-dd-1000am/
END:VEVENT
BEGIN:VEVENT
DTSTART;TZID=UTC:20230513T080000
DTEND;TZID=UTC:20230513T170000
DTSTAMP:20260423T111954
CREATED:20220712T220053Z
LAST-MODIFIED:20230425T203706Z
UID:13078-1683964800-1683997200@saintpiusxchurch.com
SUMMARY:8:00am Mass                                     5:00pm Vigil Mass
DESCRIPTION:
URL:http://saintpiusxchurch.com/wp/event/900am-mass-500pm-vigil-mass-88/
END:VEVENT
BEGIN:VEVENT
DTSTART;TZID=UTC:20230512T080000
DTEND;TZID=UTC:20230512T170000
DTSTAMP:20260423T111954
CREATED:20220712T222536Z
LAST-MODIFIED:20220712T222536Z
UID:13171-1683878400-1683910800@saintpiusxchurch.com
SUMMARY:Parish Office Closed
DESCRIPTION:
URL:http://saintpiusxchurch.com/wp/event/parish-office-closed-451/
END:VEVENT
BEGIN:VEVENT
DTSTART;TZID=UTC:20230509T080000
DTEND;TZID=UTC:20230509T170000
DTSTAMP:20260423T111954
CREATED:20220713T201247Z
LAST-MODIFIED:20220713T201247Z
UID:13740-1683619200-1683651600@saintpiusxchurch.com
SUMMARY:RE Classes In Session 1st– 4th Grade 3:30 – 5:00pm
DESCRIPTION:
URL:http://saintpiusxchurch.com/wp/event/re-classes-in-session-1st-4th-grade-330-500pm-18/
END:VEVENT
END:VCALENDAR