BEGIN:VCALENDAR
VERSION:2.0
PRODID:-//Church of Saint Pius X - ECPv6.15.20//NONSGML v1.0//EN
CALSCALE:GREGORIAN
METHOD:PUBLISH
X-WR-CALNAME:Church of Saint Pius X
X-ORIGINAL-URL:http://saintpiusxchurch.com/wp
X-WR-CALDESC:Events for Church of Saint Pius X
REFRESH-INTERVAL;VALUE=DURATION:PT1H
X-Robots-Tag:noindex
X-PUBLISHED-TTL:PT1H
BEGIN:VTIMEZONE
TZID:UTC
BEGIN:STANDARD
TZOFFSETFROM:+0000
TZOFFSETTO:+0000
TZNAME:UTC
DTSTART:20220101T000000
END:STANDARD
END:VTIMEZONE
BEGIN:VEVENT
DTSTART;TZID=UTC:20230307T080000
DTEND;TZID=UTC:20230307T170000
DTSTAMP:20260424T123123
CREATED:20220713T185905Z
LAST-MODIFIED:20220713T185905Z
UID:13600-1678176000-1678208400@saintpiusxchurch.com
SUMMARY:Adult Stations of the Cross- 7:30pm
DESCRIPTION:
URL:http://saintpiusxchurch.com/wp/event/adult-stations-of-the-cross-730pm-2/
END:VEVENT
BEGIN:VEVENT
DTSTART;TZID=UTC:20230307T080000
DTEND;TZID=UTC:20230307T170000
DTSTAMP:20260424T123123
CREATED:20230214T212713Z
LAST-MODIFIED:20230301T200645Z
UID:14257-1678176000-1678208400@saintpiusxchurch.com
SUMMARY:4th Grade Stations of the Cross - 4:30pm
DESCRIPTION:
URL:http://saintpiusxchurch.com/wp/event/4th-grade-stations-of-the-cross-400pm/
END:VEVENT
BEGIN:VEVENT
DTSTART;TZID=UTC:20230307T080000
DTEND;TZID=UTC:20230307T170000
DTSTAMP:20260424T123123
CREATED:20230214T212902Z
LAST-MODIFIED:20230307T014942Z
UID:14263-1678176000-1678208400@saintpiusxchurch.com
SUMMARY:3rd Grade Stations of the Cross - 4:00pm(both Classes)
DESCRIPTION:
URL:http://saintpiusxchurch.com/wp/event/3rd-grade-stations-of-the-cross-400pm/
END:VEVENT
BEGIN:VEVENT
DTSTART;TZID=UTC:20230308T080000
DTEND;TZID=UTC:20230308T170000
DTSTAMP:20260424T123123
CREATED:20220713T190001Z
LAST-MODIFIED:20220713T190001Z
UID:13604-1678262400-1678294800@saintpiusxchurch.com
SUMMARY:2nd Gr. Reconciliation Parent Meeting – 6:00pm via zoom
DESCRIPTION:
URL:http://saintpiusxchurch.com/wp/event/2nd-gr-reconciliation-parent-meeting-600pm-via-zoom/
END:VEVENT
BEGIN:VEVENT
DTSTART;TZID=UTC:20230310T080000
DTEND;TZID=UTC:20230310T170000
DTSTAMP:20260424T123123
CREATED:20220712T222255Z
LAST-MODIFIED:20220712T222255Z
UID:13151-1678435200-1678467600@saintpiusxchurch.com
SUMMARY:Parish Office Closed
DESCRIPTION:
URL:http://saintpiusxchurch.com/wp/event/parish-office-closed-441/
END:VEVENT
BEGIN:VEVENT
DTSTART;TZID=UTC:20230311T080000
DTEND;TZID=UTC:20230311T170000
DTSTAMP:20260424T123123
CREATED:20220712T215641Z
LAST-MODIFIED:20220712T215641Z
UID:13060-1678521600-1678554000@saintpiusxchurch.com
SUMMARY:9:00am Mass                                     5:00pm Vigil Mass
DESCRIPTION:
URL:http://saintpiusxchurch.com/wp/event/900am-mass-500pm-vigil-mass-79/
END:VEVENT
BEGIN:VEVENT
DTSTART;TZID=UTC:20230311T080000
DTEND;TZID=UTC:20230311T170000
DTSTAMP:20260424T123123
CREATED:20220713T190034Z
LAST-MODIFIED:20220713T190034Z
UID:13606-1678521600-1678554000@saintpiusxchurch.com
SUMMARY:St. Patrick’s Bake Sale -7th Gr. Community Service Project After 5pm Mass (drop-off half an hour before mass)
DESCRIPTION:
URL:http://saintpiusxchurch.com/wp/event/st-patricks-bake-sale-7th-gr-community-service-project-after-5pm-mass-drop-off-half-an-hour-before-mass-2/
END:VEVENT
BEGIN:VEVENT
DTSTART;TZID=UTC:20230312T080000
DTEND;TZID=UTC:20230312T170000
DTSTAMP:20260424T123123
CREATED:20220712T225057Z
LAST-MODIFIED:20220712T225057Z
UID:13255-1678608000-1678640400@saintpiusxchurch.com
SUMMARY:Masses – 8:00am\, 9:15am\,10:30am and 12:00pm
DESCRIPTION:
URL:http://saintpiusxchurch.com/wp/event/masses-800am-915am1030am-and-1200pm-32/
END:VEVENT
BEGIN:VEVENT
DTSTART;TZID=UTC:20230312T080000
DTEND;TZID=UTC:20230312T170000
DTSTAMP:20260424T123123
CREATED:20220713T190110Z
LAST-MODIFIED:20220713T190110Z
UID:13608-1678608000-1678640400@saintpiusxchurch.com
SUMMARY:Kindergarten Class in Session 9:15-10:15am
DESCRIPTION:
URL:http://saintpiusxchurch.com/wp/event/kindergarten-class-in-session-915-1015am-13/
END:VEVENT
BEGIN:VEVENT
DTSTART;TZID=UTC:20230312T080000
DTEND;TZID=UTC:20230312T170000
DTSTAMP:20260424T123123
CREATED:20220713T190145Z
LAST-MODIFIED:20220713T203530Z
UID:13610-1678608000-1678640400@saintpiusxchurch.com
SUMMARY:St. Patrick’s Bake Sale -7th Gr. Community Service Project After all Masses (drop-off half an hour before mass)
DESCRIPTION:
URL:http://saintpiusxchurch.com/wp/event/community-service-project-after-all-masses-drop-off-half-an-hour-before-mass/
END:VEVENT
BEGIN:VEVENT
DTSTART;TZID=UTC:20230312T080000
DTEND;TZID=UTC:20230312T170000
DTSTAMP:20260424T123123
CREATED:20220713T190254Z
LAST-MODIFIED:20220713T190254Z
UID:13614-1678608000-1678640400@saintpiusxchurch.com
SUMMARY:Lenten Food Drive
DESCRIPTION:
URL:http://saintpiusxchurch.com/wp/event/lenten-food-drive-26/
END:VEVENT
BEGIN:VEVENT
DTSTART;TZID=UTC:20230313T080000
DTEND;TZID=UTC:20230313T170000
DTSTAMP:20260424T123123
CREATED:20220713T190411Z
LAST-MODIFIED:20221221T214811Z
UID:13620-1678694400-1678726800@saintpiusxchurch.com
SUMMARY:RE Classes In Session 5th –  8th 3:30 – 4:30pm
DESCRIPTION:
URL:http://saintpiusxchurch.com/wp/event/re-classes-in-session-5th-7th330-500pm-8th-grade-400-500pm-15/
END:VEVENT
BEGIN:VEVENT
DTSTART;TZID=UTC:20230313T080000
DTEND;TZID=UTC:20230313T170000
DTSTAMP:20260424T123123
CREATED:20230306T205537Z
LAST-MODIFIED:20230306T205537Z
UID:14290-1678694400-1678726800@saintpiusxchurch.com
SUMMARY:7th Grade Stations of the Cross - 4:00pm
DESCRIPTION:
URL:http://saintpiusxchurch.com/wp/event/7th-grade-stations-of-the-cross-400pm/
END:VEVENT
BEGIN:VEVENT
DTSTART;TZID=UTC:20230314T080000
DTEND;TZID=UTC:20230314T170000
DTSTAMP:20260424T123123
CREATED:20220713T190926Z
LAST-MODIFIED:20220713T190926Z
UID:13624-1678780800-1678813200@saintpiusxchurch.com
SUMMARY:RE Classes In Session 1st– 4th Grade 3:30 – 5:00pm
DESCRIPTION:
URL:http://saintpiusxchurch.com/wp/event/re-classes-in-session-1st-4th-grade-330-500pm-13/
END:VEVENT
BEGIN:VEVENT
DTSTART;TZID=UTC:20230314T080000
DTEND;TZID=UTC:20230314T170000
DTSTAMP:20260424T123123
CREATED:20220713T190949Z
LAST-MODIFIED:20220713T190949Z
UID:13626-1678780800-1678813200@saintpiusxchurch.com
SUMMARY:Adult Stations of the Cross- 7:30pm
DESCRIPTION:
URL:http://saintpiusxchurch.com/wp/event/adult-stations-of-the-cross-730pm-3/
END:VEVENT
BEGIN:VEVENT
DTSTART;TZID=UTC:20230315T080000
DTEND;TZID=UTC:20230315T170000
DTSTAMP:20260424T123123
CREATED:20220713T191051Z
LAST-MODIFIED:20220713T191051Z
UID:13632-1678867200-1678899600@saintpiusxchurch.com
SUMMARY:Last Day – RE Early Bird Registration with $50 discount in total fees
DESCRIPTION:
URL:http://saintpiusxchurch.com/wp/event/last-day-re-early-bird-registration-with-50-discount-in-total-fees-3/
END:VEVENT
BEGIN:VEVENT
DTSTART;TZID=UTC:20230315T080000
DTEND;TZID=UTC:20230315T170000
DTSTAMP:20260424T123123
CREATED:20220724T210409Z
LAST-MODIFIED:20220724T210409Z
UID:13824-1678867200-1678899600@saintpiusxchurch.com
SUMMARY:AAG St Patrick's Luncheon  12:30pm (Parish Hall)
DESCRIPTION:
URL:http://saintpiusxchurch.com/wp/event/aag-st-patricks-luncheon-1230pm-parish-hall/
END:VEVENT
BEGIN:VEVENT
DTSTART;TZID=UTC:20230315T080000
DTEND;TZID=UTC:20230315T170000
DTSTAMP:20260424T123123
CREATED:20230313T190101Z
LAST-MODIFIED:20230313T190101Z
UID:14297-1678867200-1678899600@saintpiusxchurch.com
SUMMARY:YM Create Decorated Donation Boxes (March 15 - April 15\, 2023)
DESCRIPTION:
URL:http://saintpiusxchurch.com/wp/event/ym-create-decorated-donation-boxes-march-15-april-15-2023/
END:VEVENT
BEGIN:VEVENT
DTSTART;TZID=UTC:20230315T080000
DTEND;TZID=UTC:20230315T170000
DTSTAMP:20260424T123123
CREATED:20230313T190202Z
LAST-MODIFIED:20230313T190202Z
UID:14299-1678867200-1678899600@saintpiusxchurch.com
SUMMARY:YM create an inspiring video to share with the parish community & to show at RE Classes (mid March - mid April\, 2023)
DESCRIPTION:
URL:http://saintpiusxchurch.com/wp/event/ym-create-an-inspiring-video-to-share-with-the-parish-community-to-show-at-re-classes-mid-march-mid-april-2023/
END:VEVENT
BEGIN:VEVENT
DTSTART;TZID=UTC:20230316T080000
DTEND;TZID=UTC:20230316T170000
DTSTAMP:20260424T123123
CREATED:20220713T191123Z
LAST-MODIFIED:20220713T191123Z
UID:13634-1678953600-1678986000@saintpiusxchurch.com
SUMMARY:Early Bird Special(March 16-31)RE Registration with $25 Discount in total Registration Fee(discount applies to former/returning students only)
DESCRIPTION:
URL:http://saintpiusxchurch.com/wp/event/early-bird-specialmarch-16-31re-registration-with-25-discount-in-total-registration-feediscount-applies-to-former-returning-students-only-2/
END:VEVENT
BEGIN:VEVENT
DTSTART;TZID=UTC:20230316T080000
DTEND;TZID=UTC:20230316T170000
DTSTAMP:20260424T123123
CREATED:20221221T221407Z
LAST-MODIFIED:20230125T051807Z
UID:14169-1678953600-1678986000@saintpiusxchurch.com
SUMMARY:Light Up The Night 7:30-8:30pm
DESCRIPTION:
URL:http://saintpiusxchurch.com/wp/event/light-of-the-night-730-830pm/
END:VEVENT
BEGIN:VEVENT
DTSTART;TZID=UTC:20230316T080000
DTEND;TZID=UTC:20230316T170000
DTSTAMP:20260424T123123
CREATED:20230222T205245Z
LAST-MODIFIED:20230222T205245Z
UID:14273-1678953600-1678986000@saintpiusxchurch.com
SUMMARY:Crochet/Knitting Club Meeting
DESCRIPTION:
URL:http://saintpiusxchurch.com/wp/event/crochet-knitting-club-meeting/
END:VEVENT
BEGIN:VEVENT
DTSTART;TZID=UTC:20230317T080000
DTEND;TZID=UTC:20230317T170000
DTSTAMP:20260424T123123
CREATED:20220712T222329Z
LAST-MODIFIED:20220712T222329Z
UID:13155-1679040000-1679072400@saintpiusxchurch.com
SUMMARY:Parish Office Closed
DESCRIPTION:
URL:http://saintpiusxchurch.com/wp/event/parish-office-closed-443/
END:VEVENT
BEGIN:VEVENT
DTSTART;TZID=UTC:20230318T080000
DTEND;TZID=UTC:20230318T170000
DTSTAMP:20260424T123123
CREATED:20220712T215659Z
LAST-MODIFIED:20220712T215659Z
UID:13062-1679126400-1679158800@saintpiusxchurch.com
SUMMARY:9:00am Mass                                     5:00pm Vigil Mass
DESCRIPTION:
URL:http://saintpiusxchurch.com/wp/event/900am-mass-500pm-vigil-mass-80/
END:VEVENT
BEGIN:VEVENT
DTSTART;TZID=UTC:20230318T080000
DTEND;TZID=UTC:20230318T170000
DTSTAMP:20260424T123123
CREATED:20220713T192159Z
LAST-MODIFIED:20220713T192159Z
UID:13640-1679126400-1679158800@saintpiusxchurch.com
SUMMARY:2nd Grade First Reconciliation Day 10:30am (Main Church)
DESCRIPTION:
URL:http://saintpiusxchurch.com/wp/event/2nd-grade-first-reconciliation-day-1030am-main-church/
END:VEVENT
BEGIN:VEVENT
DTSTART;TZID=UTC:20230319T080000
DTEND;TZID=UTC:20230319T170000
DTSTAMP:20260424T123123
CREATED:20220712T225111Z
LAST-MODIFIED:20220712T225111Z
UID:13257-1679212800-1679245200@saintpiusxchurch.com
SUMMARY:Masses – 8:00am\, 9:15am\,10:30am and 12:00pm
DESCRIPTION:
URL:http://saintpiusxchurch.com/wp/event/masses-800am-915am1030am-and-1200pm-33/
END:VEVENT
BEGIN:VEVENT
DTSTART;TZID=UTC:20230319T080000
DTEND;TZID=UTC:20230319T170000
DTSTAMP:20260424T123123
CREATED:20220713T192237Z
LAST-MODIFIED:20220713T192237Z
UID:13642-1679212800-1679245200@saintpiusxchurch.com
SUMMARY:Kindergarten Class in Session 9:15-10:15am
DESCRIPTION:
URL:http://saintpiusxchurch.com/wp/event/kindergarten-class-in-session-915-1015am-14/
END:VEVENT
BEGIN:VEVENT
DTSTART;TZID=UTC:20230319T080000
DTEND;TZID=UTC:20230319T170000
DTSTAMP:20260424T123123
CREATED:20220713T192258Z
LAST-MODIFIED:20220713T192258Z
UID:13644-1679212800-1679245200@saintpiusxchurch.com
SUMMARY:Birthday Blessing – 10:30am Mass
DESCRIPTION:
URL:http://saintpiusxchurch.com/wp/event/birthday-blessing-1030am-mass-18/
END:VEVENT
BEGIN:VEVENT
DTSTART;TZID=UTC:20230319T080000
DTEND;TZID=UTC:20230319T170000
DTSTAMP:20260424T123123
CREATED:20220713T192327Z
LAST-MODIFIED:20220713T192327Z
UID:13646-1679212800-1679245200@saintpiusxchurch.com
SUMMARY:Confirmation Family Sacrament Day-after 12pm Mass
DESCRIPTION:
URL:http://saintpiusxchurch.com/wp/event/confirmation-family-sacrament-day-after-12pm-mass-3/
END:VEVENT
BEGIN:VEVENT
DTSTART;TZID=UTC:20230319T080000
DTEND;TZID=UTC:20230319T170000
DTSTAMP:20260424T123123
CREATED:20220713T192348Z
LAST-MODIFIED:20220713T192348Z
UID:13648-1679212800-1679245200@saintpiusxchurch.com
SUMMARY:Lenten Food Drive
DESCRIPTION:
URL:http://saintpiusxchurch.com/wp/event/lenten-food-drive-29/
END:VEVENT
END:VCALENDAR