BEGIN:VCALENDAR
VERSION:2.0
PRODID:-//Church of Saint Pius X - ECPv6.15.20//NONSGML v1.0//EN
CALSCALE:GREGORIAN
METHOD:PUBLISH
X-WR-CALNAME:Church of Saint Pius X
X-ORIGINAL-URL:http://saintpiusxchurch.com/wp
X-WR-CALDESC:Events for Church of Saint Pius X
REFRESH-INTERVAL;VALUE=DURATION:PT1H
X-Robots-Tag:noindex
X-PUBLISHED-TTL:PT1H
BEGIN:VTIMEZONE
TZID:UTC
BEGIN:STANDARD
TZOFFSETFROM:+0000
TZOFFSETTO:+0000
TZNAME:UTC
DTSTART:20220101T000000
END:STANDARD
END:VTIMEZONE
BEGIN:VEVENT
DTSTART;TZID=UTC:20230319T080000
DTEND;TZID=UTC:20230319T170000
DTSTAMP:20260424T174324
CREATED:20230123T222154Z
LAST-MODIFIED:20230123T222154Z
UID:14209-1679212800-1679245200@saintpiusxchurch.com
SUMMARY:5th and 6th Grades Ministry Sunday - 10:30am Mass
DESCRIPTION:
URL:http://saintpiusxchurch.com/wp/event/5th-and-6th-grades-ministry-sunday-1030am-mass/
END:VEVENT
BEGIN:VEVENT
DTSTART;TZID=UTC:20230320T080000
DTEND;TZID=UTC:20230320T170000
DTSTAMP:20260424T174324
CREATED:20220713T192448Z
LAST-MODIFIED:20221221T214704Z
UID:13650-1679299200-1679331600@saintpiusxchurch.com
SUMMARY:RE Classes In Session 5th –  8th 3:30 – 4:30pm
DESCRIPTION:
URL:http://saintpiusxchurch.com/wp/event/re-classes-in-session-5th-7th330-500pm-8th-grade-400-500pm-16/
END:VEVENT
BEGIN:VEVENT
DTSTART;TZID=UTC:20230320T080000
DTEND;TZID=UTC:20230320T170000
DTSTAMP:20260424T174324
CREATED:20220713T192531Z
LAST-MODIFIED:20220713T192531Z
UID:13652-1679299200-1679331600@saintpiusxchurch.com
SUMMARY:5th and 6th Grade Reconciliation Before Easter(Classtime)
DESCRIPTION:
URL:http://saintpiusxchurch.com/wp/event/5th-and-6th-grade-reconciliation-before-easterclasstime/
END:VEVENT
BEGIN:VEVENT
DTSTART;TZID=UTC:20230321T080000
DTEND;TZID=UTC:20230321T170000
DTSTAMP:20260424T174324
CREATED:20220713T191010Z
LAST-MODIFIED:20220713T191010Z
UID:13628-1679385600-1679418000@saintpiusxchurch.com
SUMMARY:Adult Stations of the Cross- 7:30pm
DESCRIPTION:
URL:http://saintpiusxchurch.com/wp/event/adult-stations-of-the-cross-730pm-4/
END:VEVENT
BEGIN:VEVENT
DTSTART;TZID=UTC:20230321T080000
DTEND;TZID=UTC:20230321T170000
DTSTAMP:20260424T174324
CREATED:20220713T192600Z
LAST-MODIFIED:20220810T192109Z
UID:13654-1679385600-1679418000@saintpiusxchurch.com
SUMMARY:RE Classes In Session 1st– 4th Grade 3:30 – 5:00pm
DESCRIPTION:
URL:http://saintpiusxchurch.com/wp/event/21-re-classes-in-session-1st-4th-grade-330-500pm/
END:VEVENT
BEGIN:VEVENT
DTSTART;TZID=UTC:20230321T080000
DTEND;TZID=UTC:20230321T170000
DTSTAMP:20260424T174324
CREATED:20220713T193138Z
LAST-MODIFIED:20220713T193138Z
UID:13656-1679385600-1679418000@saintpiusxchurch.com
SUMMARY:3rd and 4th Reconciliation Before Easter Grade(Classtime)
DESCRIPTION:
URL:http://saintpiusxchurch.com/wp/event/3rd-and-4th-reconciliation-before-easter-gradeclasstime/
END:VEVENT
BEGIN:VEVENT
DTSTART;TZID=UTC:20230324T080000
DTEND;TZID=UTC:20230324T170000
DTSTAMP:20260424T174324
CREATED:20220712T222345Z
LAST-MODIFIED:20220712T222345Z
UID:13157-1679644800-1679677200@saintpiusxchurch.com
SUMMARY:Parish Office Closed
DESCRIPTION:
URL:http://saintpiusxchurch.com/wp/event/parish-office-closed-444/
END:VEVENT
BEGIN:VEVENT
DTSTART;TZID=UTC:20230325T080000
DTEND;TZID=UTC:20230325T170000
DTSTAMP:20260424T174324
CREATED:20220712T215717Z
LAST-MODIFIED:20220712T215717Z
UID:13064-1679731200-1679763600@saintpiusxchurch.com
SUMMARY:9:00am Mass                                     5:00pm Vigil Mass
DESCRIPTION:
URL:http://saintpiusxchurch.com/wp/event/900am-mass-500pm-vigil-mass-81/
END:VEVENT
BEGIN:VEVENT
DTSTART;TZID=UTC:20230325T080000
DTEND;TZID=UTC:20230325T170000
DTSTAMP:20260424T174324
CREATED:20221221T203011Z
LAST-MODIFIED:20221221T203011Z
UID:14137-1679731200-1679763600@saintpiusxchurch.com
SUMMARY:YM Crafts for Kids Pizza Night\, 6pm\, Parish Hall Make Easter themed crafts for the patients at the Blythedale Children’s Hospital
DESCRIPTION:
URL:http://saintpiusxchurch.com/wp/event/ym-crafts-for-kids-pizza-night-6pm-parish-hall-make-easter-themed-crafts-for-the-patients-at-the-blythedale-childrens-hospital/
END:VEVENT
BEGIN:VEVENT
DTSTART;TZID=UTC:20230325T080000
DTEND;TZID=UTC:20230325T170000
DTSTAMP:20260424T174324
CREATED:20230308T211648Z
LAST-MODIFIED:20230308T211648Z
UID:14292-1679731200-1679763600@saintpiusxchurch.com
SUMMARY:Easter/Spring Basket Project to Support Lifting Up Westchester - 7th Grade Community Service Project
DESCRIPTION:
URL:http://saintpiusxchurch.com/wp/event/easter-spring-basket-project-to-support-lifting-up-westchester-7th-grade-community-service-project/
END:VEVENT
BEGIN:VEVENT
DTSTART;TZID=UTC:20230326T080000
DTEND;TZID=UTC:20230326T170000
DTSTAMP:20260424T174324
CREATED:20220712T225127Z
LAST-MODIFIED:20220712T225127Z
UID:13259-1679817600-1679850000@saintpiusxchurch.com
SUMMARY:Masses – 8:00am\, 9:15am\,10:30am and 12:00pm
DESCRIPTION:
URL:http://saintpiusxchurch.com/wp/event/masses-800am-915am1030am-and-1200pm-34/
END:VEVENT
BEGIN:VEVENT
DTSTART;TZID=UTC:20230326T080000
DTEND;TZID=UTC:20230326T170000
DTSTAMP:20260424T174324
CREATED:20220713T190339Z
LAST-MODIFIED:20220713T190339Z
UID:13618-1679817600-1679850000@saintpiusxchurch.com
SUMMARY:Lenten Food Drive
DESCRIPTION:
URL:http://saintpiusxchurch.com/wp/event/lenten-food-drive-28/
END:VEVENT
BEGIN:VEVENT
DTSTART;TZID=UTC:20230326T080000
DTEND;TZID=UTC:20230326T170000
DTSTAMP:20260424T174324
CREATED:20220713T193231Z
LAST-MODIFIED:20220713T193231Z
UID:13658-1679817600-1679850000@saintpiusxchurch.com
SUMMARY:Kindergarten Class in Session 9:15-10:15am
DESCRIPTION:
URL:http://saintpiusxchurch.com/wp/event/kindergarten-class-in-session-915-1015am-15/
END:VEVENT
BEGIN:VEVENT
DTSTART;TZID=UTC:20230326T080000
DTEND;TZID=UTC:20230326T170000
DTSTAMP:20260424T174324
CREATED:20230123T222355Z
LAST-MODIFIED:20230123T222355Z
UID:14211-1679817600-1679850000@saintpiusxchurch.com
SUMMARY:1st Grade Ministry Mass - 10:30am Mass
DESCRIPTION:
URL:http://saintpiusxchurch.com/wp/event/1st-grade-ministry-mass-1030am-mass/
END:VEVENT
BEGIN:VEVENT
DTSTART;TZID=UTC:20230327T080000
DTEND;TZID=UTC:20230327T170000
DTSTAMP:20260424T174324
CREATED:20220713T193518Z
LAST-MODIFIED:20221221T223934Z
UID:13662-1679904000-1679936400@saintpiusxchurch.com
SUMMARY:RE Classes In Session 5th –  8th 3:30 – 4:30pm
DESCRIPTION:
URL:http://saintpiusxchurch.com/wp/event/re-classes-in-session-5th-7th330-500pm-8th-grade-400-500pm-17/
END:VEVENT
BEGIN:VEVENT
DTSTART;TZID=UTC:20230327T080000
DTEND;TZID=UTC:20230327T170000
DTSTAMP:20260424T174324
CREATED:20220713T193555Z
LAST-MODIFIED:20220713T193555Z
UID:13664-1679904000-1679936400@saintpiusxchurch.com
SUMMARY:7th and 8th Grade Reconciliation Before Easter(Classtime)
DESCRIPTION:
URL:http://saintpiusxchurch.com/wp/event/7th-and-8th-grade-reconciliation-before-easterclasstime/
END:VEVENT
BEGIN:VEVENT
DTSTART;TZID=UTC:20230327T080000
DTEND;TZID=UTC:20230327T170000
DTSTAMP:20260424T174324
CREATED:20220829T181947Z
LAST-MODIFIED:20230425T183921Z
UID:13988-1679904000-1679936400@saintpiusxchurch.com
SUMMARY:Widows and Widowers Mass and Meeting – 5:30pm
DESCRIPTION:
URL:http://saintpiusxchurch.com/wp/event/widows-and-widowers-mass-and-meeting-700pm-13/
END:VEVENT
BEGIN:VEVENT
DTSTART;TZID=UTC:20230328T080000
DTEND;TZID=UTC:20230328T170000
DTSTAMP:20260424T174324
CREATED:20220713T191024Z
LAST-MODIFIED:20220713T191024Z
UID:13630-1679990400-1680022800@saintpiusxchurch.com
SUMMARY:Adult Stations of the Cross- 7:30pm
DESCRIPTION:
URL:http://saintpiusxchurch.com/wp/event/adult-stations-of-the-cross-730pm-5/
END:VEVENT
BEGIN:VEVENT
DTSTART;TZID=UTC:20230328T080000
DTEND;TZID=UTC:20230328T170000
DTSTAMP:20260424T174324
CREATED:20220713T193622Z
LAST-MODIFIED:20220810T191528Z
UID:13666-1679990400-1680022800@saintpiusxchurch.com
SUMMARY:RE Classes In Session 1st– 4th Grade 3:30 – 5:00pm
DESCRIPTION:
URL:http://saintpiusxchurch.com/wp/event/28-re-classes-in-session-1st-4th-grade-330-500pm/
END:VEVENT
BEGIN:VEVENT
DTSTART;TZID=UTC:20230329T080000
DTEND;TZID=UTC:20230329T170000
DTSTAMP:20260424T174324
CREATED:20230316T212237Z
LAST-MODIFIED:20230316T212237Z
UID:14305-1680076800-1680109200@saintpiusxchurch.com
SUMMARY:Confirmation Candidates Group Interview with Fr Sebastian via zoom
DESCRIPTION:
URL:http://saintpiusxchurch.com/wp/event/confirmation-candidates-group-interview-with-fr-sebastian-via-zoom-4/
END:VEVENT
BEGIN:VEVENT
DTSTART;TZID=UTC:20230330T080000
DTEND;TZID=UTC:20230330T170000
DTSTAMP:20260424T174324
CREATED:20220713T193716Z
LAST-MODIFIED:20220713T193716Z
UID:13668-1680163200-1680195600@saintpiusxchurch.com
SUMMARY:Last Day – RE Early Bird Registration with $25 discount in total fees
DESCRIPTION:
URL:http://saintpiusxchurch.com/wp/event/last-day-re-early-bird-registration-with-25-discount-in-total-fees/
END:VEVENT
BEGIN:VEVENT
DTSTART;TZID=UTC:20230331T080000
DTEND;TZID=UTC:20230331T170000
DTSTAMP:20260424T174324
CREATED:20220712T222400Z
LAST-MODIFIED:20220712T222400Z
UID:13159-1680249600-1680282000@saintpiusxchurch.com
SUMMARY:Parish Office Closed
DESCRIPTION:
URL:http://saintpiusxchurch.com/wp/event/parish-office-closed-445/
END:VEVENT
BEGIN:VEVENT
DTSTART;TZID=UTC:20230401T080000
DTEND;TZID=UTC:20230401T170000
DTSTAMP:20260424T174324
CREATED:20220712T215734Z
LAST-MODIFIED:20220712T215734Z
UID:13066-1680336000-1680368400@saintpiusxchurch.com
SUMMARY:9:00am Mass                                     5:00pm Vigil Mass
DESCRIPTION:
URL:http://saintpiusxchurch.com/wp/event/900am-mass-500pm-vigil-mass-82/
END:VEVENT
BEGIN:VEVENT
DTSTART;TZID=UTC:20230402T080000
DTEND;TZID=UTC:20230402T170000
DTSTAMP:20260424T174324
CREATED:20220712T225142Z
LAST-MODIFIED:20220712T225142Z
UID:13261-1680422400-1680454800@saintpiusxchurch.com
SUMMARY:Masses – 8:00am\, 9:15am\,10:30am and 12:00pm
DESCRIPTION:
URL:http://saintpiusxchurch.com/wp/event/masses-800am-915am1030am-and-1200pm-35/
END:VEVENT
BEGIN:VEVENT
DTSTART;TZID=UTC:20230402T080000
DTEND;TZID=UTC:20230402T170000
DTSTAMP:20260424T174324
CREATED:20220713T193825Z
LAST-MODIFIED:20220713T193825Z
UID:13672-1680422400-1680454800@saintpiusxchurch.com
SUMMARY:Palm Sunday Masses – 8:00am\, 9:15am\,10:30am(with Children’s Procession)  and 12:00pm
DESCRIPTION:
URL:http://saintpiusxchurch.com/wp/event/palm-sunday-masses-800am-915am1030amwith-childrens-procession-and-1200pm/
END:VEVENT
BEGIN:VEVENT
DTSTART;TZID=UTC:20230402T080000
DTEND;TZID=UTC:20230402T170000
DTSTAMP:20260424T174324
CREATED:20220713T193901Z
LAST-MODIFIED:20220713T193901Z
UID:13674-1680422400-1680454800@saintpiusxchurch.com
SUMMARY:No Kindergarten Class
DESCRIPTION:
URL:http://saintpiusxchurch.com/wp/event/no-kindergarten-class-12/
END:VEVENT
BEGIN:VEVENT
DTSTART;TZID=UTC:20230402T080000
DTEND;TZID=UTC:20230402T170000
DTSTAMP:20260424T174324
CREATED:20220713T194128Z
LAST-MODIFIED:20220713T194128Z
UID:13678-1680422400-1680454800@saintpiusxchurch.com
SUMMARY:Lenten Food Drive (last day)
DESCRIPTION:
URL:http://saintpiusxchurch.com/wp/event/lenten-food-drive-last-day-2/
END:VEVENT
BEGIN:VEVENT
DTSTART;TZID=UTC:20230403T080000
DTEND;TZID=UTC:20230403T170000
DTSTAMP:20260424T174324
CREATED:20220713T194227Z
LAST-MODIFIED:20220713T194227Z
UID:13680-1680508800-1680541200@saintpiusxchurch.com
SUMMARY:RE Spring Break
DESCRIPTION:
URL:http://saintpiusxchurch.com/wp/event/re-spring-break/
END:VEVENT
BEGIN:VEVENT
DTSTART;TZID=UTC:20230403T080000
DTEND;TZID=UTC:20230403T170000
DTSTAMP:20260424T174324
CREATED:20221221T221743Z
LAST-MODIFIED:20221221T221743Z
UID:14171-1680508800-1680541200@saintpiusxchurch.com
SUMMARY:Reconciliation(Confession) Monday - 5:00-7:00pm
DESCRIPTION:
URL:http://saintpiusxchurch.com/wp/event/reconciliationconfession-monday-500-700pm/
END:VEVENT
BEGIN:VEVENT
DTSTART;TZID=UTC:20230404T080000
DTEND;TZID=UTC:20230404T170000
DTSTAMP:20260424T174324
CREATED:20220713T194242Z
LAST-MODIFIED:20220713T194242Z
UID:13682-1680595200-1680627600@saintpiusxchurch.com
SUMMARY:RE Spring Break
DESCRIPTION:
URL:http://saintpiusxchurch.com/wp/event/re-spring-break-2/
END:VEVENT
END:VCALENDAR