BEGIN:VCALENDAR
VERSION:2.0
PRODID:-//Church of Saint Pius X - ECPv6.15.20//NONSGML v1.0//EN
CALSCALE:GREGORIAN
METHOD:PUBLISH
X-ORIGINAL-URL:http://saintpiusxchurch.com/wp
X-WR-CALDESC:Events for Church of Saint Pius X
REFRESH-INTERVAL;VALUE=DURATION:PT1H
X-Robots-Tag:noindex
X-PUBLISHED-TTL:PT1H
BEGIN:VTIMEZONE
TZID:UTC
BEGIN:STANDARD
TZOFFSETFROM:+0000
TZOFFSETTO:+0000
TZNAME:UTC
DTSTART:20210101T000000
END:STANDARD
END:VTIMEZONE
BEGIN:VEVENT
DTSTART;TZID=UTC:20220417T080000
DTEND;TZID=UTC:20220417T170000
DTSTAMP:20260425T103035
CREATED:20210715T184122Z
LAST-MODIFIED:20210715T184122Z
UID:11802-1650182400-1650214800@saintpiusxchurch.com
SUMMARY:Easter Sunday Masses: 8:00am\, 9:15am\, 10:30am & 12:30pm Easter Egg Hunt after 10:30am mass
DESCRIPTION:
URL:http://saintpiusxchurch.com/wp/event/easter-sunday-masses-800am-915am-1030am-1230pm-easter-egg-hunt-after-1030am-mass-3/
END:VEVENT
BEGIN:VEVENT
DTSTART;TZID=UTC:20220417T080000
DTEND;TZID=UTC:20220417T170000
DTSTAMP:20260425T103035
CREATED:20210715T184241Z
LAST-MODIFIED:20210715T184241Z
UID:11804-1650182400-1650214800@saintpiusxchurch.com
SUMMARY:YM Easter Egg Hunt Volunteers
DESCRIPTION:
URL:http://saintpiusxchurch.com/wp/event/ym-easter-egg-hunt-volunteers-2/
END:VEVENT
BEGIN:VEVENT
DTSTART;TZID=UTC:20220418T080000
DTEND;TZID=UTC:20220418T170000
DTSTAMP:20260425T103035
CREATED:20210715T184318Z
LAST-MODIFIED:20210715T184318Z
UID:11806-1650268800-1650301200@saintpiusxchurch.com
SUMMARY:No RE – Easter Monday/Parish Office Closed
DESCRIPTION:
URL:http://saintpiusxchurch.com/wp/event/no-re-easter-monday-parish-office-closed/
END:VEVENT
BEGIN:VEVENT
DTSTART;TZID=UTC:20220418T080000
DTEND;TZID=UTC:20220418T170000
DTSTAMP:20260425T103035
CREATED:20220215T214255Z
LAST-MODIFIED:20220215T214255Z
UID:12657-1650268800-1650301200@saintpiusxchurch.com
SUMMARY:Rosary Devotion after 11:30am Mass
DESCRIPTION:
URL:http://saintpiusxchurch.com/wp/event/rosary-devotion-after-1130am-mass-47/
END:VEVENT
BEGIN:VEVENT
DTSTART;TZID=UTC:20220419T080000
DTEND;TZID=UTC:20220419T170000
DTSTAMP:20260425T103035
CREATED:20210928T215805Z
LAST-MODIFIED:20210928T215805Z
UID:12251-1650355200-1650387600@saintpiusxchurch.com
SUMMARY:RE in Session - 1st\, 2nd and 4th Grade 3:30pm – 5:00pm (in person)
DESCRIPTION:
URL:http://saintpiusxchurch.com/wp/event/re-in-session-1st-2nd-and-4th-grade-330pm-500pm-in-person-6/
END:VEVENT
BEGIN:VEVENT
DTSTART;TZID=UTC:20220419T080000
DTEND;TZID=UTC:20220419T170000
DTSTAMP:20260425T103035
CREATED:20220215T214307Z
LAST-MODIFIED:20220215T214307Z
UID:12659-1650355200-1650387600@saintpiusxchurch.com
SUMMARY:Rosary Devotion after 11:30am Mass
DESCRIPTION:
URL:http://saintpiusxchurch.com/wp/event/rosary-devotion-after-1130am-mass-48/
END:VEVENT
BEGIN:VEVENT
DTSTART;TZID=UTC:20220419T080000
DTEND;TZID=UTC:20220419T170000
DTSTAMP:20260425T103035
CREATED:20220328T220756Z
LAST-MODIFIED:20220328T220756Z
UID:12864-1650355200-1650387600@saintpiusxchurch.com
SUMMARY:Confirmation Candidates Group Interview with Fr Sebastian via zoom
DESCRIPTION:
URL:http://saintpiusxchurch.com/wp/event/confirmation-candidates-group-interview-with-fr-sebastian-via-zoom/
END:VEVENT
BEGIN:VEVENT
DTSTART;TZID=UTC:20220420T080000
DTEND;TZID=UTC:20220420T170000
DTSTAMP:20260425T103035
CREATED:20210928T214020Z
LAST-MODIFIED:20210928T214020Z
UID:12233-1650441600-1650474000@saintpiusxchurch.com
SUMMARY:RE 3rd Grade in Session 3:30pm – 4:30pm (virtual via zoom)
DESCRIPTION:
URL:http://saintpiusxchurch.com/wp/event/re-3rd-grade-in-session-330pm-430pm-virtual-via-zoom-21/
END:VEVENT
BEGIN:VEVENT
DTSTART;TZID=UTC:20220420T080000
DTEND;TZID=UTC:20220420T170000
DTSTAMP:20260425T103035
CREATED:20220215T214322Z
LAST-MODIFIED:20220215T214322Z
UID:12661-1650441600-1650474000@saintpiusxchurch.com
SUMMARY:Rosary Devotion after 11:30am Mass
DESCRIPTION:
URL:http://saintpiusxchurch.com/wp/event/rosary-devotion-after-1130am-mass-49/
END:VEVENT
BEGIN:VEVENT
DTSTART;TZID=UTC:20220420T080000
DTEND;TZID=UTC:20220420T170000
DTSTAMP:20260425T103035
CREATED:20220328T221117Z
LAST-MODIFIED:20220328T221117Z
UID:12870-1650441600-1650474000@saintpiusxchurch.com
SUMMARY:Confirmation Candidates Group Interview with Fr Sebastian via zoom
DESCRIPTION:
URL:http://saintpiusxchurch.com/wp/event/confirmation-candidates-group-interview-with-fr-sebastian-via-zoom-3/
END:VEVENT
BEGIN:VEVENT
DTSTART;TZID=UTC:20220421T080000
DTEND;TZID=UTC:20220421T170000
DTSTAMP:20260425T103035
CREATED:20220215T214335Z
LAST-MODIFIED:20220215T214335Z
UID:12663-1650528000-1650560400@saintpiusxchurch.com
SUMMARY:Rosary Devotion after 11:30am Mass
DESCRIPTION:
URL:http://saintpiusxchurch.com/wp/event/rosary-devotion-after-1130am-mass-50/
END:VEVENT
BEGIN:VEVENT
DTSTART;TZID=UTC:20220422T080000
DTEND;TZID=UTC:20220422T170000
DTSTAMP:20260425T103035
CREATED:20210713T194647Z
LAST-MODIFIED:20210713T194647Z
UID:11277-1650614400-1650646800@saintpiusxchurch.com
SUMMARY:Parish Office Closed
DESCRIPTION:
URL:http://saintpiusxchurch.com/wp/event/parish-office-closed-391/
END:VEVENT
BEGIN:VEVENT
DTSTART;TZID=UTC:20220422T080000
DTEND;TZID=UTC:20220422T170000
DTSTAMP:20260425T103035
CREATED:20220215T214350Z
LAST-MODIFIED:20220215T214350Z
UID:12665-1650614400-1650646800@saintpiusxchurch.com
SUMMARY:Rosary Devotion after 11:30am Mass
DESCRIPTION:
URL:http://saintpiusxchurch.com/wp/event/rosary-devotion-after-1130am-mass-51/
END:VEVENT
BEGIN:VEVENT
DTSTART;TZID=UTC:20220423T080000
DTEND;TZID=UTC:20220423T170000
DTSTAMP:20260425T103035
CREATED:20210713T203041Z
LAST-MODIFIED:20210713T203041Z
UID:11378-1650700800-1650733200@saintpiusxchurch.com
SUMMARY:9:00am Mass                                                                    5:00pm Vigil Mass
DESCRIPTION:
URL:http://saintpiusxchurch.com/wp/event/900am-mass-500pm-vigil-mass-32/
END:VEVENT
BEGIN:VEVENT
DTSTART;TZID=UTC:20220423T080000
DTEND;TZID=UTC:20220423T170000
DTSTAMP:20260425T103035
CREATED:20220405T213332Z
LAST-MODIFIED:20220405T213332Z
UID:12882-1650700800-1650733200@saintpiusxchurch.com
SUMMARY:MOVE with Purpose Event to Benefit RAISE Your Hearts 10:00am - 12:00pm
DESCRIPTION:
URL:http://saintpiusxchurch.com/wp/event/move-with-purpose-event-to-benefit-raise-your-hearts-1000am-1200pm/
END:VEVENT
BEGIN:VEVENT
DTSTART;TZID=UTC:20220423T080000
DTEND;TZID=UTC:20220423T170000
DTSTAMP:20260425T103035
CREATED:20220405T234626Z
LAST-MODIFIED:20220405T234626Z
UID:12884-1650700800-1650733200@saintpiusxchurch.com
SUMMARY:St. Pius X Youth Ministry Pizza Night  6:30pm to 8:30pm
DESCRIPTION:
URL:http://saintpiusxchurch.com/wp/event/st-pius-x-youth-ministry-pizza-night-630pm-to-830pm/
END:VEVENT
BEGIN:VEVENT
DTSTART;TZID=UTC:20220424T080000
DTEND;TZID=UTC:20220424T170000
DTSTAMP:20260425T103035
CREATED:20210715T184410Z
LAST-MODIFIED:20210927T054746Z
UID:11808-1650787200-1650819600@saintpiusxchurch.com
SUMMARY:Kindergarten in Session - 9:15-10:15am(in person)
DESCRIPTION:
URL:http://saintpiusxchurch.com/wp/event/kindergarten-in-session-915-1015am-27/
END:VEVENT
BEGIN:VEVENT
DTSTART;TZID=UTC:20220424T080000
DTEND;TZID=UTC:20220424T170000
DTSTAMP:20260425T103035
CREATED:20211103T193639Z
LAST-MODIFIED:20211103T193639Z
UID:12361-1650787200-1650819600@saintpiusxchurch.com
SUMMARY:YM Meals on Wheels
DESCRIPTION:
URL:http://saintpiusxchurch.com/wp/event/ym-meals-on-wheels-4/
END:VEVENT
BEGIN:VEVENT
DTSTART;TZID=UTC:20220424T080000
DTEND;TZID=UTC:20220424T170000
DTSTAMP:20260425T103035
CREATED:20220223T051519Z
LAST-MODIFIED:20220223T051519Z
UID:12807-1650787200-1650819600@saintpiusxchurch.com
SUMMARY:Birthday Blessings - 10:30am mass
DESCRIPTION:
URL:http://saintpiusxchurch.com/wp/event/birthday-blessings-1030am-mass-13/
END:VEVENT
BEGIN:VEVENT
DTSTART;TZID=UTC:20220425T080000
DTEND;TZID=UTC:20220425T170000
DTSTAMP:20260425T103035
CREATED:20210928T221724Z
LAST-MODIFIED:20210928T221724Z
UID:12283-1650873600-1650906000@saintpiusxchurch.com
SUMMARY:RE in Session - 8th Grade 3:30pm – 4:30pm (virtual via zoom)
DESCRIPTION:
URL:http://saintpiusxchurch.com/wp/event/re-in-session-8th-grade-330pm-430pm-virtual-via-zoom-4/
END:VEVENT
BEGIN:VEVENT
DTSTART;TZID=UTC:20220425T080000
DTEND;TZID=UTC:20220425T170000
DTSTAMP:20260425T103035
CREATED:20210929T201326Z
LAST-MODIFIED:20210929T201326Z
UID:12302-1650873600-1650906000@saintpiusxchurch.com
SUMMARY:RE in Session 3:30 – 5:00pm 5th\, 6th and 7th Grade(in person)
DESCRIPTION:
URL:http://saintpiusxchurch.com/wp/event/re-in-session-330-500pm-5th-6th-and-7th-gradein-person-7/
END:VEVENT
BEGIN:VEVENT
DTSTART;TZID=UTC:20220425T080000
DTEND;TZID=UTC:20220425T170000
DTSTAMP:20260425T103035
CREATED:20211104T185322Z
LAST-MODIFIED:20211104T185322Z
UID:12372-1650873600-1650906000@saintpiusxchurch.com
SUMMARY:Widows and Widowers  Mass and Meeting – 7:00pm
DESCRIPTION:
URL:http://saintpiusxchurch.com/wp/event/widows-and-widowers-mass-and-meeting-700pm-4/
END:VEVENT
BEGIN:VEVENT
DTSTART;TZID=UTC:20220425T080000
DTEND;TZID=UTC:20220425T170000
DTSTAMP:20260425T103035
CREATED:20220215T214405Z
LAST-MODIFIED:20220215T214405Z
UID:12667-1650873600-1650906000@saintpiusxchurch.com
SUMMARY:Rosary Devotion after 11:30am Mass
DESCRIPTION:
URL:http://saintpiusxchurch.com/wp/event/rosary-devotion-after-1130am-mass-52/
END:VEVENT
BEGIN:VEVENT
DTSTART;TZID=UTC:20220425T080000
DTEND;TZID=UTC:20220425T170000
DTSTAMP:20260425T103035
CREATED:20220328T220811Z
LAST-MODIFIED:20220421T212304Z
UID:12866-1650873600-1650906000@saintpiusxchurch.com
SUMMARY:Confirmation Candidates In-person Recitation of the Act of Contrition\, Nicene Creed and Ten Commandments with Fr Sebastian - 3:00-5:00pm
DESCRIPTION:
URL:http://saintpiusxchurch.com/wp/event/confirmation-candidates-group-interview-with-fr-sebastian-via-zoom-2/
END:VEVENT
BEGIN:VEVENT
DTSTART;TZID=UTC:20220426T080000
DTEND;TZID=UTC:20220426T170000
DTSTAMP:20260425T103035
CREATED:20210715T184512Z
LAST-MODIFIED:20210715T184512Z
UID:11810-1650960000-1650992400@saintpiusxchurch.com
SUMMARY:Gold Books and Banners Due
DESCRIPTION:
URL:http://saintpiusxchurch.com/wp/event/gold-books-and-banners-due-3/
END:VEVENT
BEGIN:VEVENT
DTSTART;TZID=UTC:20220426T080000
DTEND;TZID=UTC:20220426T170000
DTSTAMP:20260425T103035
CREATED:20210928T220137Z
LAST-MODIFIED:20210928T222908Z
UID:12265-1650960000-1650992400@saintpiusxchurch.com
SUMMARY:RE in Session - 1st\, 2nd and 4th Grade 3:30pm – 5:00pm (in person)
DESCRIPTION:
URL:http://saintpiusxchurch.com/wp/event/re-in-session-1st-2nd-and-4th-grade-330pm-500pm-in-person-12/
END:VEVENT
BEGIN:VEVENT
DTSTART;TZID=UTC:20220426T080000
DTEND;TZID=UTC:20220426T170000
DTSTAMP:20260425T103035
CREATED:20220215T214417Z
LAST-MODIFIED:20220215T214417Z
UID:12669-1650960000-1650992400@saintpiusxchurch.com
SUMMARY:Rosary Devotion after 11:30am Mass
DESCRIPTION:
URL:http://saintpiusxchurch.com/wp/event/rosary-devotion-after-1130am-mass-53/
END:VEVENT
BEGIN:VEVENT
DTSTART;TZID=UTC:20220427T080000
DTEND;TZID=UTC:20220427T170000
DTSTAMP:20260425T103035
CREATED:20210928T214040Z
LAST-MODIFIED:20210928T214040Z
UID:12235-1651046400-1651078800@saintpiusxchurch.com
SUMMARY:RE 3rd Grade in Session 3:30pm – 4:30pm (virtual via zoom)
DESCRIPTION:
URL:http://saintpiusxchurch.com/wp/event/re-3rd-grade-in-session-330pm-430pm-virtual-via-zoom-22/
END:VEVENT
BEGIN:VEVENT
DTSTART;TZID=UTC:20220427T080000
DTEND;TZID=UTC:20220427T170000
DTSTAMP:20260425T103035
CREATED:20220215T214428Z
LAST-MODIFIED:20220215T214428Z
UID:12671-1651046400-1651078800@saintpiusxchurch.com
SUMMARY:Rosary Devotion after 11:30am Mass
DESCRIPTION:
URL:http://saintpiusxchurch.com/wp/event/rosary-devotion-after-1130am-mass-54/
END:VEVENT
BEGIN:VEVENT
DTSTART;TZID=UTC:20220428T080000
DTEND;TZID=UTC:20220428T170000
DTSTAMP:20260425T103035
CREATED:20220215T214440Z
LAST-MODIFIED:20220215T214440Z
UID:12673-1651132800-1651165200@saintpiusxchurch.com
SUMMARY:Rosary Devotion after 11:30am Mass
DESCRIPTION:
URL:http://saintpiusxchurch.com/wp/event/rosary-devotion-after-1130am-mass-55/
END:VEVENT
END:VCALENDAR