BEGIN:VCALENDAR
VERSION:2.0
PRODID:-//Church of Saint Pius X - ECPv6.15.20//NONSGML v1.0//EN
CALSCALE:GREGORIAN
METHOD:PUBLISH
X-ORIGINAL-URL:http://saintpiusxchurch.com/wp
X-WR-CALDESC:Events for Church of Saint Pius X
REFRESH-INTERVAL;VALUE=DURATION:PT1H
X-Robots-Tag:noindex
X-PUBLISHED-TTL:PT1H
BEGIN:VTIMEZONE
TZID:UTC
BEGIN:STANDARD
TZOFFSETFROM:+0000
TZOFFSETTO:+0000
TZNAME:UTC
DTSTART:20210101T000000
END:STANDARD
END:VTIMEZONE
BEGIN:VEVENT
DTSTART;TZID=UTC:20220528T080000
DTEND;TZID=UTC:20220528T170000
DTSTAMP:20260425T085251
CREATED:20210713T203329Z
LAST-MODIFIED:20210713T203329Z
UID:11388-1653724800-1653757200@saintpiusxchurch.com
SUMMARY:9:00am Mass                                                                    5:00pm Vigil Mass
DESCRIPTION:
URL:http://saintpiusxchurch.com/wp/event/900am-mass-500pm-vigil-mass-37/
END:VEVENT
BEGIN:VEVENT
DTSTART;TZID=UTC:20220529T080000
DTEND;TZID=UTC:20220529T170000
DTSTAMP:20260425T085251
CREATED:20210715T185840Z
LAST-MODIFIED:20210715T185840Z
UID:11838-1653811200-1653843600@saintpiusxchurch.com
SUMMARY:May Flower Offering by Children-10:30am mass
DESCRIPTION:
URL:http://saintpiusxchurch.com/wp/event/may-flower-offering-by-children-1030am-mass-17/
END:VEVENT
BEGIN:VEVENT
DTSTART;VALUE=DATE:20220530
DTEND;VALUE=DATE:20220531
DTSTAMP:20260425T085251
CREATED:20220501T033458Z
LAST-MODIFIED:20220501T033458Z
UID:12911-1653868800-1653955199@saintpiusxchurch.com
SUMMARY:May Baby Shower Collection Ends (May 1-30)
DESCRIPTION:
URL:http://saintpiusxchurch.com/wp/event/may-baby-shower-collection-ends-may-1-30/
END:VEVENT
BEGIN:VEVENT
DTSTART;TZID=UTC:20220530T080000
DTEND;TZID=UTC:20220530T170000
DTSTAMP:20260425T085251
CREATED:20210715T190148Z
LAST-MODIFIED:20210715T190148Z
UID:11846-1653897600-1653930000@saintpiusxchurch.com
SUMMARY:Memorial Day No Mass/Parish Office Closed
DESCRIPTION:
URL:http://saintpiusxchurch.com/wp/event/memorial-day-no-mass-parish-office-closed-2/
END:VEVENT
BEGIN:VEVENT
DTSTART;TZID=UTC:20220530T080000
DTEND;TZID=UTC:20220530T170000
DTSTAMP:20260425T085251
CREATED:20220215T215019Z
LAST-MODIFIED:20220215T215019Z
UID:12719-1653897600-1653930000@saintpiusxchurch.com
SUMMARY:Rosary Devotion after 11:30am Mass
DESCRIPTION:
URL:http://saintpiusxchurch.com/wp/event/rosary-devotion-after-1130am-mass-78/
END:VEVENT
BEGIN:VEVENT
DTSTART;TZID=UTC:20220531T080000
DTEND;TZID=UTC:20220531T170000
DTSTAMP:20260425T085251
CREATED:20220215T215031Z
LAST-MODIFIED:20220215T215031Z
UID:12721-1653984000-1654016400@saintpiusxchurch.com
SUMMARY:Rosary Devotion after 11:30am Mass
DESCRIPTION:
URL:http://saintpiusxchurch.com/wp/event/rosary-devotion-after-1130am-mass-79/
END:VEVENT
BEGIN:VEVENT
DTSTART;TZID=UTC:20220601T080000
DTEND;TZID=UTC:20220601T170000
DTSTAMP:20260425T085251
CREATED:20220215T215135Z
LAST-MODIFIED:20220215T215135Z
UID:12723-1654070400-1654102800@saintpiusxchurch.com
SUMMARY:Rosary Devotion after 11:30am Mass
DESCRIPTION:
URL:http://saintpiusxchurch.com/wp/event/rosary-devotion-after-1130am-mass-80/
END:VEVENT
BEGIN:VEVENT
DTSTART;TZID=UTC:20220602T080000
DTEND;TZID=UTC:20220602T170000
DTSTAMP:20260425T085251
CREATED:20220215T215148Z
LAST-MODIFIED:20220215T215148Z
UID:12725-1654156800-1654189200@saintpiusxchurch.com
SUMMARY:Rosary Devotion after 11:30am Mass
DESCRIPTION:
URL:http://saintpiusxchurch.com/wp/event/rosary-devotion-after-1130am-mass-81/
END:VEVENT
BEGIN:VEVENT
DTSTART;TZID=UTC:20220602T080000
DTEND;TZID=UTC:20220602T170000
DTSTAMP:20260425T085251
CREATED:20220531T231901Z
LAST-MODIFIED:20220531T232216Z
UID:12923-1654156800-1654189200@saintpiusxchurch.com
SUMMARY:Adult Thursday Evenings at 7:00PM thru June 16\, 2022 (no classes on Holidays and major Holy Days)
DESCRIPTION:
URL:http://saintpiusxchurch.com/wp/event/thursday-evenings-at-700pm-thru-june-16-2022-no-classes-on-holidays-and-major-holy-days/
END:VEVENT
BEGIN:VEVENT
DTSTART;TZID=UTC:20220603T080000
DTEND;TZID=UTC:20220603T170000
DTSTAMP:20260425T085251
CREATED:20210713T195014Z
LAST-MODIFIED:20210713T195014Z
UID:11289-1654243200-1654275600@saintpiusxchurch.com
SUMMARY:Parish Office Closed
DESCRIPTION:
URL:http://saintpiusxchurch.com/wp/event/parish-office-closed-397/
END:VEVENT
BEGIN:VEVENT
DTSTART;TZID=UTC:20220603T080000
DTEND;TZID=UTC:20220603T170000
DTSTAMP:20260425T085251
CREATED:20220215T215201Z
LAST-MODIFIED:20220215T215201Z
UID:12727-1654243200-1654275600@saintpiusxchurch.com
SUMMARY:Rosary Devotion after 11:30am Mass
DESCRIPTION:
URL:http://saintpiusxchurch.com/wp/event/rosary-devotion-after-1130am-mass-82/
END:VEVENT
BEGIN:VEVENT
DTSTART;TZID=UTC:20220604T080000
DTEND;TZID=UTC:20220604T170000
DTSTAMP:20260425T085251
CREATED:20210713T203413Z
LAST-MODIFIED:20210713T203413Z
UID:11390-1654329600-1654362000@saintpiusxchurch.com
SUMMARY:9:00am Mass                                                                    5:00pm Vigil Mass
DESCRIPTION:
URL:http://saintpiusxchurch.com/wp/event/900am-mass-500pm-vigil-mass-38/
END:VEVENT
BEGIN:VEVENT
DTSTART;TZID=UTC:20220605T080000
DTEND;TZID=UTC:20220605T170000
DTSTAMP:20260425T085251
CREATED:20210715T185312Z
LAST-MODIFIED:20220426T204719Z
UID:11828-1654416000-1654448400@saintpiusxchurch.com
SUMMARY:RE Closing Mass 10:30am Mass
DESCRIPTION:
URL:http://saintpiusxchurch.com/wp/event/re-closing-mass-1030am-mass-6th-grade-will-do-the-readings-mass-assignments/
END:VEVENT
BEGIN:VEVENT
DTSTART;TZID=UTC:20220605T080000
DTEND;TZID=UTC:20220605T170000
DTSTAMP:20260425T085251
CREATED:20210715T190258Z
LAST-MODIFIED:20210715T190258Z
UID:11848-1654416000-1654448400@saintpiusxchurch.com
SUMMARY:Pentecost Sunday Multi-cultural Mass                                                              Potluck Luncheon after the 12:00pm mass
DESCRIPTION:
URL:http://saintpiusxchurch.com/wp/event/pentecost-sunday-multi-cultural-mass-potluck-luncheon-after-the-1200pm-mass/
END:VEVENT
BEGIN:VEVENT
DTSTART;TZID=UTC:20220605T080000
DTEND;TZID=UTC:20220605T170000
DTSTAMP:20260425T085251
CREATED:20210715T190336Z
LAST-MODIFIED:20210715T190336Z
UID:11850-1654416000-1654448400@saintpiusxchurch.com
SUMMARY:Anointing of the Sick - 12:00pm
DESCRIPTION:
URL:http://saintpiusxchurch.com/wp/event/anointing-of-the-sick-1200pm-3/
END:VEVENT
BEGIN:VEVENT
DTSTART;TZID=UTC:20220606T080000
DTEND;TZID=UTC:20220606T170000
DTSTAMP:20260425T085251
CREATED:20220215T215214Z
LAST-MODIFIED:20220215T215214Z
UID:12729-1654502400-1654534800@saintpiusxchurch.com
SUMMARY:Rosary Devotion after 11:30am Mass
DESCRIPTION:
URL:http://saintpiusxchurch.com/wp/event/rosary-devotion-after-1130am-mass-83/
END:VEVENT
BEGIN:VEVENT
DTSTART;TZID=UTC:20220607T080000
DTEND;TZID=UTC:20220607T170000
DTSTAMP:20260425T085251
CREATED:20220215T215225Z
LAST-MODIFIED:20220215T215225Z
UID:12731-1654588800-1654621200@saintpiusxchurch.com
SUMMARY:Rosary Devotion after 11:30am Mass
DESCRIPTION:
URL:http://saintpiusxchurch.com/wp/event/rosary-devotion-after-1130am-mass-84/
END:VEVENT
BEGIN:VEVENT
DTSTART;TZID=UTC:20220608T080000
DTEND;TZID=UTC:20220608T170000
DTSTAMP:20260425T085251
CREATED:20220215T215236Z
LAST-MODIFIED:20220215T215236Z
UID:12733-1654675200-1654707600@saintpiusxchurch.com
SUMMARY:Rosary Devotion after 11:30am Mass
DESCRIPTION:
URL:http://saintpiusxchurch.com/wp/event/rosary-devotion-after-1130am-mass-85/
END:VEVENT
BEGIN:VEVENT
DTSTART;TZID=UTC:20220609T080000
DTEND;TZID=UTC:20220609T170000
DTSTAMP:20260425T085251
CREATED:20220215T215250Z
LAST-MODIFIED:20220215T215250Z
UID:12735-1654761600-1654794000@saintpiusxchurch.com
SUMMARY:Rosary Devotion after 11:30am Mass
DESCRIPTION:
URL:http://saintpiusxchurch.com/wp/event/rosary-devotion-after-1130am-mass-86/
END:VEVENT
BEGIN:VEVENT
DTSTART;TZID=UTC:20220609T080000
DTEND;TZID=UTC:20220609T170000
DTSTAMP:20260425T085251
CREATED:20220531T231917Z
LAST-MODIFIED:20220531T232140Z
UID:12925-1654761600-1654794000@saintpiusxchurch.com
SUMMARY:Adult Thursday Evenings at 7:00PM thru June 16\, 2022 (no classes on Holidays and major Holy Days)
DESCRIPTION:
URL:http://saintpiusxchurch.com/wp/event/thursday-evenings-at-700pm-thru-june-16-2022-no-classes-on-holidays-and-major-holy-days-2/
END:VEVENT
BEGIN:VEVENT
DTSTART;TZID=UTC:20220610T080000
DTEND;TZID=UTC:20220610T170000
DTSTAMP:20260425T085251
CREATED:20210713T195036Z
LAST-MODIFIED:20210713T195036Z
UID:11291-1654848000-1654880400@saintpiusxchurch.com
SUMMARY:Parish Office Closed
DESCRIPTION:
URL:http://saintpiusxchurch.com/wp/event/parish-office-closed-398/
END:VEVENT
BEGIN:VEVENT
DTSTART;TZID=UTC:20220610T080000
DTEND;TZID=UTC:20220610T170000
DTSTAMP:20260425T085251
CREATED:20220215T215320Z
LAST-MODIFIED:20220215T215320Z
UID:12737-1654848000-1654880400@saintpiusxchurch.com
SUMMARY:Rosary Devotion after 11:30am Mass
DESCRIPTION:
URL:http://saintpiusxchurch.com/wp/event/rosary-devotion-after-1130am-mass-87/
END:VEVENT
BEGIN:VEVENT
DTSTART;TZID=UTC:20220611T080000
DTEND;TZID=UTC:20220611T170000
DTSTAMP:20260425T085251
CREATED:20210713T203505Z
LAST-MODIFIED:20210713T203505Z
UID:11392-1654934400-1654966800@saintpiusxchurch.com
SUMMARY:9:00am Mass                                                                    5:00pm Vigil Mass
DESCRIPTION:
URL:http://saintpiusxchurch.com/wp/event/900am-mass-500pm-vigil-mass-39/
END:VEVENT
BEGIN:VEVENT
DTSTART;TZID=UTC:20220613T080000
DTEND;TZID=UTC:20220613T170000
DTSTAMP:20260425T085251
CREATED:20220215T215337Z
LAST-MODIFIED:20220215T215337Z
UID:12739-1655107200-1655139600@saintpiusxchurch.com
SUMMARY:Rosary Devotion after 11:30am Mass
DESCRIPTION:
URL:http://saintpiusxchurch.com/wp/event/rosary-devotion-after-1130am-mass-88/
END:VEVENT
BEGIN:VEVENT
DTSTART;TZID=UTC:20220614T080000
DTEND;TZID=UTC:20220614T170000
DTSTAMP:20260425T085251
CREATED:20220215T215350Z
LAST-MODIFIED:20220215T215350Z
UID:12741-1655193600-1655226000@saintpiusxchurch.com
SUMMARY:Rosary Devotion after 11:30am Mass
DESCRIPTION:
URL:http://saintpiusxchurch.com/wp/event/rosary-devotion-after-1130am-mass-89/
END:VEVENT
BEGIN:VEVENT
DTSTART;TZID=UTC:20220615T080000
DTEND;TZID=UTC:20220615T170000
DTSTAMP:20260425T085251
CREATED:20220215T215404Z
LAST-MODIFIED:20220215T215404Z
UID:12743-1655280000-1655312400@saintpiusxchurch.com
SUMMARY:Rosary Devotion after 11:30am Mass
DESCRIPTION:
URL:http://saintpiusxchurch.com/wp/event/rosary-devotion-after-1130am-mass-90/
END:VEVENT
BEGIN:VEVENT
DTSTART;TZID=UTC:20220616T080000
DTEND;TZID=UTC:20220616T170000
DTSTAMP:20260425T085252
CREATED:20220215T215419Z
LAST-MODIFIED:20220215T215419Z
UID:12745-1655366400-1655398800@saintpiusxchurch.com
SUMMARY:Rosary Devotion after 11:30am Mass
DESCRIPTION:
URL:http://saintpiusxchurch.com/wp/event/rosary-devotion-after-1130am-mass-91/
END:VEVENT
BEGIN:VEVENT
DTSTART;TZID=UTC:20220616T080000
DTEND;TZID=UTC:20220616T170000
DTSTAMP:20260425T085252
CREATED:20220531T231931Z
LAST-MODIFIED:20220531T232106Z
UID:12927-1655366400-1655398800@saintpiusxchurch.com
SUMMARY:Adult Bible Study Thursday Evenings at 7:00PM thru June 16\, 2022 (no classes on Holidays and major Holy Days)
DESCRIPTION:
URL:http://saintpiusxchurch.com/wp/event/thursday-evenings-at-700pm-thru-june-16-2022-no-classes-on-holidays-and-major-holy-days-3/
END:VEVENT
BEGIN:VEVENT
DTSTART;TZID=UTC:20220617T080000
DTEND;TZID=UTC:20220617T170000
DTSTAMP:20260425T085252
CREATED:20220215T215437Z
LAST-MODIFIED:20220215T215437Z
UID:12747-1655452800-1655485200@saintpiusxchurch.com
SUMMARY:Rosary Devotion after 11:30am Mass
DESCRIPTION:
URL:http://saintpiusxchurch.com/wp/event/rosary-devotion-after-1130am-mass-92/
END:VEVENT
BEGIN:VEVENT
DTSTART;TZID=UTC:20220618T080000
DTEND;TZID=UTC:20220618T170000
DTSTAMP:20260425T085252
CREATED:20210713T203533Z
LAST-MODIFIED:20210713T203533Z
UID:11394-1655539200-1655571600@saintpiusxchurch.com
SUMMARY:9:00am Mass                                                                    5:00pm Vigil Mass
DESCRIPTION:
URL:http://saintpiusxchurch.com/wp/event/900am-mass-500pm-vigil-mass-40/
END:VEVENT
END:VCALENDAR