BEGIN:VCALENDAR
VERSION:2.0
PRODID:-//Church of Saint Pius X - ECPv6.15.20//NONSGML v1.0//EN
CALSCALE:GREGORIAN
METHOD:PUBLISH
X-ORIGINAL-URL:http://saintpiusxchurch.com/wp
X-WR-CALDESC:Events for Church of Saint Pius X
REFRESH-INTERVAL;VALUE=DURATION:PT1H
X-Robots-Tag:noindex
X-PUBLISHED-TTL:PT1H
BEGIN:VTIMEZONE
TZID:UTC
BEGIN:STANDARD
TZOFFSETFROM:+0000
TZOFFSETTO:+0000
TZNAME:UTC
DTSTART:20210101T000000
END:STANDARD
END:VTIMEZONE
BEGIN:VEVENT
DTSTART;TZID=UTC:20220812T080000
DTEND;TZID=UTC:20220812T170000
DTSTAMP:20260425T071408
CREATED:20210713T195602Z
LAST-MODIFIED:20210713T195602Z
UID:11307-1660291200-1660323600@saintpiusxchurch.com
SUMMARY:Parish Office Closed
DESCRIPTION:
URL:http://saintpiusxchurch.com/wp/event/parish-office-closed-406/
END:VEVENT
BEGIN:VEVENT
DTSTART;TZID=UTC:20220812T080000
DTEND;TZID=UTC:20220812T170000
DTSTAMP:20260425T071408
CREATED:20220725T205702Z
LAST-MODIFIED:20220725T205702Z
UID:13852-1660291200-1660323600@saintpiusxchurch.com
SUMMARY:Daily Rosary Devotion - 11:00am in Mary's Chapel
DESCRIPTION:
URL:http://saintpiusxchurch.com/wp/event/daily-rosary-devotion-1100am-in-marys-chapel-12/
END:VEVENT
BEGIN:VEVENT
DTSTART;TZID=UTC:20220813T080000
DTEND;TZID=UTC:20220813T170000
DTSTAMP:20260425T071408
CREATED:20210713T204006Z
LAST-MODIFIED:20210713T204006Z
UID:11410-1660377600-1660410000@saintpiusxchurch.com
SUMMARY:9:00am Mass                                                                    5:00pm Vigil Mass
DESCRIPTION:
URL:http://saintpiusxchurch.com/wp/event/900am-mass-500pm-vigil-mass-48/
END:VEVENT
BEGIN:VEVENT
DTSTART;TZID=UTC:20220814T080000
DTEND;TZID=UTC:20220814T170000
DTSTAMP:20260425T071408
CREATED:20220712T213417Z
LAST-MODIFIED:20220712T213417Z
UID:12959-1660464000-1660496400@saintpiusxchurch.com
SUMMARY:Masses – 8:00am\, 9:15am\,10:30am and 12:00pm
DESCRIPTION:
URL:http://saintpiusxchurch.com/wp/event/masses-800am-915am1030am-and-1200pm-2/
END:VEVENT
BEGIN:VEVENT
DTSTART;TZID=UTC:20220815T080000
DTEND;TZID=UTC:20220815T170000
DTSTAMP:20260425T071408
CREATED:20210715T191400Z
LAST-MODIFIED:20220712T213603Z
UID:11862-1660550400-1660582800@saintpiusxchurch.com
SUMMARY:Feast of the Assumption of the Blessed Virgin Mary (Not a Holiday of Obligation) Mass – 8:00am only
DESCRIPTION:
URL:http://saintpiusxchurch.com/wp/event/feast-of-the-assumption-of-the-blessed-virgin-mary/
END:VEVENT
BEGIN:VEVENT
DTSTART;TZID=UTC:20220815T080000
DTEND;TZID=UTC:20220815T170000
DTSTAMP:20260425T071408
CREATED:20210715T191427Z
LAST-MODIFIED:20210715T191427Z
UID:11864-1660550400-1660582800@saintpiusxchurch.com
SUMMARY:Parish Office Closed
DESCRIPTION:
URL:http://saintpiusxchurch.com/wp/event/parish-office-closed-412/
END:VEVENT
BEGIN:VEVENT
DTSTART;TZID=UTC:20220816T080000
DTEND;TZID=UTC:20220816T170000
DTSTAMP:20260425T071408
CREATED:20220725T210703Z
LAST-MODIFIED:20220725T210703Z
UID:13892-1660636800-1660669200@saintpiusxchurch.com
SUMMARY:Daily Rosary Devotion - 11:00am in Mary's Chapel
DESCRIPTION:
URL:http://saintpiusxchurch.com/wp/event/daily-rosary-devotion-1100am-in-marys-chapel-30/
END:VEVENT
BEGIN:VEVENT
DTSTART;TZID=UTC:20220817T080000
DTEND;TZID=UTC:20220817T170000
DTSTAMP:20260425T071408
CREATED:20220718T194106Z
LAST-MODIFIED:20220718T194106Z
UID:13800-1660723200-1660755600@saintpiusxchurch.com
SUMMARY:FREE Zumba Class by Maya de Jesus\, Zumba and Sweat and Swagger Instructor - (9:00-9:45am)
DESCRIPTION:
URL:http://saintpiusxchurch.com/wp/event/free-zumba-class-by-maya-de-jesus-zumba-and-sweat-and-swagger-instructor-900-945am-3/
END:VEVENT
BEGIN:VEVENT
DTSTART;TZID=UTC:20220817T080000
DTEND;TZID=UTC:20220817T170000
DTSTAMP:20260425T071408
CREATED:20220725T205800Z
LAST-MODIFIED:20220725T205800Z
UID:13855-1660723200-1660755600@saintpiusxchurch.com
SUMMARY:Daily Rosary Devotion - 11:00am in Mary's Chapel
DESCRIPTION:
URL:http://saintpiusxchurch.com/wp/event/daily-rosary-devotion-1100am-in-marys-chapel-13/
END:VEVENT
BEGIN:VEVENT
DTSTART;TZID=UTC:20220818T080000
DTEND;TZID=UTC:20220818T170000
DTSTAMP:20260425T071408
CREATED:20220725T205826Z
LAST-MODIFIED:20220725T205826Z
UID:13858-1660809600-1660842000@saintpiusxchurch.com
SUMMARY:Daily Rosary Devotion - 11:00am in Mary's Chapel
DESCRIPTION:
URL:http://saintpiusxchurch.com/wp/event/daily-rosary-devotion-1100am-in-marys-chapel-14/
END:VEVENT
BEGIN:VEVENT
DTSTART;TZID=UTC:20220819T080000
DTEND;TZID=UTC:20220819T170000
DTSTAMP:20260425T071408
CREATED:20210713T195646Z
LAST-MODIFIED:20210713T195646Z
UID:11309-1660896000-1660928400@saintpiusxchurch.com
SUMMARY:Parish Office Closed
DESCRIPTION:
URL:http://saintpiusxchurch.com/wp/event/parish-office-closed-407/
END:VEVENT
BEGIN:VEVENT
DTSTART;TZID=UTC:20220819T080000
DTEND;TZID=UTC:20220819T170000
DTSTAMP:20260425T071408
CREATED:20220725T205841Z
LAST-MODIFIED:20220725T205841Z
UID:13860-1660896000-1660928400@saintpiusxchurch.com
SUMMARY:Daily Rosary Devotion - 11:00am in Mary's Chapel
DESCRIPTION:
URL:http://saintpiusxchurch.com/wp/event/daily-rosary-devotion-1100am-in-marys-chapel-15/
END:VEVENT
BEGIN:VEVENT
DTSTART;TZID=UTC:20220820T080000
DTEND;TZID=UTC:20220820T170000
DTSTAMP:20260425T071408
CREATED:20210713T204033Z
LAST-MODIFIED:20210713T204033Z
UID:11412-1660982400-1661014800@saintpiusxchurch.com
SUMMARY:9:00am Mass                                                                    5:00pm Vigil Mass
DESCRIPTION:
URL:http://saintpiusxchurch.com/wp/event/900am-mass-500pm-vigil-mass-49/
END:VEVENT
BEGIN:VEVENT
DTSTART;TZID=UTC:20220821T080000
DTEND;TZID=UTC:20220821T170000
DTSTAMP:20260425T071408
CREATED:20220223T051737Z
LAST-MODIFIED:20220223T051737Z
UID:12815-1661068800-1661101200@saintpiusxchurch.com
SUMMARY:Birthday Blessings - 10:30am mass
DESCRIPTION:
URL:http://saintpiusxchurch.com/wp/event/birthday-blessings-1030am-mass-17/
END:VEVENT
BEGIN:VEVENT
DTSTART;TZID=UTC:20220821T080000
DTEND;TZID=UTC:20220821T170000
DTSTAMP:20260425T071408
CREATED:20220712T213435Z
LAST-MODIFIED:20220712T213435Z
UID:12961-1661068800-1661101200@saintpiusxchurch.com
SUMMARY:Masses – 8:00am\, 9:15am\,10:30am and 12:00pm
DESCRIPTION:
URL:http://saintpiusxchurch.com/wp/event/masses-800am-915am1030am-and-1200pm-3/
END:VEVENT
BEGIN:VEVENT
DTSTART;TZID=UTC:20220822T080000
DTEND;TZID=UTC:20220822T170000
DTSTAMP:20260425T071408
CREATED:20220725T205856Z
LAST-MODIFIED:20220725T205856Z
UID:13862-1661155200-1661187600@saintpiusxchurch.com
SUMMARY:Daily Rosary Devotion - 11:00am in Mary's Chapel
DESCRIPTION:
URL:http://saintpiusxchurch.com/wp/event/daily-rosary-devotion-1100am-in-marys-chapel-16/
END:VEVENT
BEGIN:VEVENT
DTSTART;TZID=UTC:20220823T080000
DTEND;TZID=UTC:20220823T170000
DTSTAMP:20260425T071408
CREATED:20220725T205913Z
LAST-MODIFIED:20220725T205913Z
UID:13864-1661241600-1661274000@saintpiusxchurch.com
SUMMARY:Daily Rosary Devotion - 11:00am in Mary's Chapel
DESCRIPTION:
URL:http://saintpiusxchurch.com/wp/event/daily-rosary-devotion-1100am-in-marys-chapel-17/
END:VEVENT
BEGIN:VEVENT
DTSTART;TZID=UTC:20220824T080000
DTEND;TZID=UTC:20220824T170000
DTSTAMP:20260425T071408
CREATED:20220718T194119Z
LAST-MODIFIED:20220718T194119Z
UID:13802-1661328000-1661360400@saintpiusxchurch.com
SUMMARY:FREE Zumba Class by Maya de Jesus\, Zumba and Sweat and Swagger Instructor - (9:00-9:45am)
DESCRIPTION:
URL:http://saintpiusxchurch.com/wp/event/free-zumba-class-by-maya-de-jesus-zumba-and-sweat-and-swagger-instructor-900-945am-4/
END:VEVENT
BEGIN:VEVENT
DTSTART;TZID=UTC:20220824T080000
DTEND;TZID=UTC:20220824T170000
DTSTAMP:20260425T071408
CREATED:20220725T205930Z
LAST-MODIFIED:20220725T205930Z
UID:13866-1661328000-1661360400@saintpiusxchurch.com
SUMMARY:Daily Rosary Devotion - 11:00am in Mary's Chapel
DESCRIPTION:
URL:http://saintpiusxchurch.com/wp/event/daily-rosary-devotion-1100am-in-marys-chapel-18/
END:VEVENT
BEGIN:VEVENT
DTSTART;TZID=UTC:20220825T080000
DTEND;TZID=UTC:20220825T170000
DTSTAMP:20260425T071408
CREATED:20220725T205947Z
LAST-MODIFIED:20220725T205947Z
UID:13868-1661414400-1661446800@saintpiusxchurch.com
SUMMARY:Daily Rosary Devotion - 11:00am in Mary's Chapel
DESCRIPTION:
URL:http://saintpiusxchurch.com/wp/event/daily-rosary-devotion-1100am-in-marys-chapel-19/
END:VEVENT
BEGIN:VEVENT
DTSTART;TZID=UTC:20220826T080000
DTEND;TZID=UTC:20220826T170000
DTSTAMP:20260425T071408
CREATED:20210713T195838Z
LAST-MODIFIED:20210713T195838Z
UID:11313-1661500800-1661533200@saintpiusxchurch.com
SUMMARY:Parish Office Closed
DESCRIPTION:
URL:http://saintpiusxchurch.com/wp/event/parish-office-closed-409/
END:VEVENT
BEGIN:VEVENT
DTSTART;TZID=UTC:20220826T080000
DTEND;TZID=UTC:20220826T170000
DTSTAMP:20260425T071408
CREATED:20220725T210002Z
LAST-MODIFIED:20220725T210002Z
UID:13870-1661500800-1661533200@saintpiusxchurch.com
SUMMARY:Daily Rosary Devotion - 11:00am in Mary's Chapel
DESCRIPTION:
URL:http://saintpiusxchurch.com/wp/event/daily-rosary-devotion-1100am-in-marys-chapel-20/
END:VEVENT
BEGIN:VEVENT
DTSTART;TZID=UTC:20220827T080000
DTEND;TZID=UTC:20220827T170000
DTSTAMP:20260425T071408
CREATED:20210713T204058Z
LAST-MODIFIED:20210713T204058Z
UID:11414-1661587200-1661619600@saintpiusxchurch.com
SUMMARY:9:00am Mass                                                                    5:00pm Vigil Mass
DESCRIPTION:
URL:http://saintpiusxchurch.com/wp/event/900am-mass-500pm-vigil-mass-50/
END:VEVENT
BEGIN:VEVENT
DTSTART;TZID=UTC:20220828T080000
DTEND;TZID=UTC:20220828T170000
DTSTAMP:20260425T071408
CREATED:20220712T213448Z
LAST-MODIFIED:20220712T213448Z
UID:12963-1661673600-1661706000@saintpiusxchurch.com
SUMMARY:Masses – 8:00am\, 9:15am\,10:30am and 12:00pm
DESCRIPTION:
URL:http://saintpiusxchurch.com/wp/event/masses-800am-915am1030am-and-1200pm-4/
END:VEVENT
BEGIN:VEVENT
DTSTART;TZID=UTC:20220829T080000
DTEND;TZID=UTC:20220829T170000
DTSTAMP:20260425T071408
CREATED:20220725T210016Z
LAST-MODIFIED:20220725T210016Z
UID:13872-1661760000-1661792400@saintpiusxchurch.com
SUMMARY:Daily Rosary Devotion - 11:00am in Mary's Chapel
DESCRIPTION:
URL:http://saintpiusxchurch.com/wp/event/daily-rosary-devotion-1100am-in-marys-chapel-21/
END:VEVENT
BEGIN:VEVENT
DTSTART;TZID=UTC:20220829T080000
DTEND;TZID=UTC:20220829T170000
DTSTAMP:20260425T071408
CREATED:20220822T203259Z
LAST-MODIFIED:20220822T203259Z
UID:13972-1661760000-1661792400@saintpiusxchurch.com
SUMMARY:Eucharistic Minister Training( with Chuck Junjulas via zoom) 7:00pm
DESCRIPTION:
URL:http://saintpiusxchurch.com/wp/event/eucharistic-minister-training-with-chuck-junjulas-via-zoom-700pm/
END:VEVENT
BEGIN:VEVENT
DTSTART;TZID=UTC:20220830T080000
DTEND;TZID=UTC:20220830T170000
DTSTAMP:20260425T071408
CREATED:20220725T210032Z
LAST-MODIFIED:20220725T210032Z
UID:13874-1661846400-1661878800@saintpiusxchurch.com
SUMMARY:Daily Rosary Devotion - 11:00am in Mary's Chapel
DESCRIPTION:
URL:http://saintpiusxchurch.com/wp/event/daily-rosary-devotion-1100am-in-marys-chapel-22/
END:VEVENT
BEGIN:VEVENT
DTSTART;TZID=UTC:20220831T080000
DTEND;TZID=UTC:20220831T170000
DTSTAMP:20260425T071408
CREATED:20220718T194134Z
LAST-MODIFIED:20220718T194134Z
UID:13804-1661932800-1661965200@saintpiusxchurch.com
SUMMARY:FREE Zumba Class by Maya de Jesus\, Zumba and Sweat and Swagger Instructor - (9:00-9:45am)
DESCRIPTION:
URL:http://saintpiusxchurch.com/wp/event/free-zumba-class-by-maya-de-jesus-zumba-and-sweat-and-swagger-instructor-900-945am-5/
END:VEVENT
BEGIN:VEVENT
DTSTART;TZID=UTC:20220831T080000
DTEND;TZID=UTC:20220831T170000
DTSTAMP:20260425T071408
CREATED:20220725T210050Z
LAST-MODIFIED:20220725T210050Z
UID:13876-1661932800-1661965200@saintpiusxchurch.com
SUMMARY:Daily Rosary Devotion - 11:00am in Mary's Chapel
DESCRIPTION:
URL:http://saintpiusxchurch.com/wp/event/daily-rosary-devotion-1100am-in-marys-chapel-23/
END:VEVENT
BEGIN:VEVENT
DTSTART;TZID=UTC:20220901T080000
DTEND;TZID=UTC:20220901T170000
DTSTAMP:20260425T071408
CREATED:20220725T210129Z
LAST-MODIFIED:20220725T210129Z
UID:13878-1662019200-1662051600@saintpiusxchurch.com
SUMMARY:Daily Rosary Devotion - 11:00am in Mary's Chapel
DESCRIPTION:
URL:http://saintpiusxchurch.com/wp/event/daily-rosary-devotion-1100am-in-marys-chapel-24/
END:VEVENT
END:VCALENDAR