BEGIN:VCALENDAR
VERSION:2.0
PRODID:-//Church of Saint Pius X - ECPv6.15.20//NONSGML v1.0//EN
CALSCALE:GREGORIAN
METHOD:PUBLISH
X-ORIGINAL-URL:http://saintpiusxchurch.com/wp
X-WR-CALDESC:Events for Church of Saint Pius X
REFRESH-INTERVAL;VALUE=DURATION:PT1H
X-Robots-Tag:noindex
X-PUBLISHED-TTL:PT1H
BEGIN:VTIMEZONE
TZID:UTC
BEGIN:STANDARD
TZOFFSETFROM:+0000
TZOFFSETTO:+0000
TZNAME:UTC
DTSTART:20220101T000000
END:STANDARD
END:VTIMEZONE
BEGIN:VEVENT
DTSTART;TZID=UTC:20230406T080000
DTEND;TZID=UTC:20230406T170000
DTSTAMP:20260424T225731
CREATED:20220713T194340Z
LAST-MODIFIED:20220713T194340Z
UID:13686-1680768000-1680800400@saintpiusxchurch.com
SUMMARY:Mass of the Lord’s Supper-8pm Adoration at the Altar of Repose at Mary’s Chapel-after Mass until 11:00pm
DESCRIPTION:
URL:http://saintpiusxchurch.com/wp/event/mass-of-the-lords-supper-8pm-adoration-at-the-altar-of-repose-at-marys-chapel-after-mass-until-1100pm/
END:VEVENT
BEGIN:VEVENT
DTSTART;TZID=UTC:20230407T080000
DTEND;TZID=UTC:20230407T170000
DTSTAMP:20260424T225731
CREATED:20220712T222415Z
LAST-MODIFIED:20220712T222415Z
UID:13161-1680854400-1680886800@saintpiusxchurch.com
SUMMARY:Parish Office Closed
DESCRIPTION:
URL:http://saintpiusxchurch.com/wp/event/parish-office-closed-446/
END:VEVENT
BEGIN:VEVENT
DTSTART;TZID=UTC:20230407T080000
DTEND;TZID=UTC:20230407T170000
DTSTAMP:20260424T225731
CREATED:20220713T194513Z
LAST-MODIFIED:20220713T194513Z
UID:13690-1680854400-1680886800@saintpiusxchurch.com
SUMMARY:Good Friday Parish Office Closed                                     Way of the Cross for Children -10:00am
DESCRIPTION:
URL:http://saintpiusxchurch.com/wp/event/good-friday-parish-office-closed-way-of-the-cross-for-children-1000am/
END:VEVENT
BEGIN:VEVENT
DTSTART;TZID=UTC:20230407T080000
DTEND;TZID=UTC:20230407T170000
DTSTAMP:20260424T225731
CREATED:20220713T195444Z
LAST-MODIFIED:20220713T195444Z
UID:13692-1680854400-1680886800@saintpiusxchurch.com
SUMMARY:Stations of the Cross – 2:30pm
DESCRIPTION:
URL:http://saintpiusxchurch.com/wp/event/stations-of-the-cross-230pm-5/
END:VEVENT
BEGIN:VEVENT
DTSTART;TZID=UTC:20230407T080000
DTEND;TZID=UTC:20230407T170000
DTSTAMP:20260424T225731
CREATED:20220713T195518Z
LAST-MODIFIED:20220713T195518Z
UID:13694-1680854400-1680886800@saintpiusxchurch.com
SUMMARY:Liturgy of the Passion and Death of Our Lord/Adoration of the Cross and Holy Communion-3:00pm
DESCRIPTION:
URL:http://saintpiusxchurch.com/wp/event/liturgy-of-the-passion-and-death-of-our-lord-adoration-of-the-cross-and-holy-communion-300pm-3/
END:VEVENT
BEGIN:VEVENT
DTSTART;TZID=UTC:20230407T080000
DTEND;TZID=UTC:20230407T170000
DTSTAMP:20260424T225731
CREATED:20220713T195542Z
LAST-MODIFIED:20220713T195542Z
UID:13696-1680854400-1680886800@saintpiusxchurch.com
SUMMARY:Tenebrae Service 7:30pm
DESCRIPTION:
URL:http://saintpiusxchurch.com/wp/event/tenebrae-service-730pm-5/
END:VEVENT
BEGIN:VEVENT
DTSTART;TZID=UTC:20230408T080000
DTEND;TZID=UTC:20230408T170000
DTSTAMP:20260424T225731
CREATED:20220712T215751Z
LAST-MODIFIED:20220712T215751Z
UID:13068-1680940800-1680973200@saintpiusxchurch.com
SUMMARY:9:00am Mass                                     5:00pm Vigil Mass
DESCRIPTION:
URL:http://saintpiusxchurch.com/wp/event/900am-mass-500pm-vigil-mass-83/
END:VEVENT
BEGIN:VEVENT
DTSTART;TZID=UTC:20230408T080000
DTEND;TZID=UTC:20230408T170000
DTSTAMP:20260424T225731
CREATED:20220713T200031Z
LAST-MODIFIED:20220713T200031Z
UID:13698-1680940800-1680973200@saintpiusxchurch.com
SUMMARY:Holy Saturday Confession – 10:00 – 11:00am Easter Vigil Mass – 8:00pm (NO 5:00pm mass)
DESCRIPTION:
URL:http://saintpiusxchurch.com/wp/event/holy-saturday-confession-1000-1100am-easter-vigil-mass-800pm-no-500pm-mass-2/
END:VEVENT
BEGIN:VEVENT
DTSTART;TZID=UTC:20230409T080000
DTEND;TZID=UTC:20230409T170000
DTSTAMP:20260424T225731
CREATED:20220712T225156Z
LAST-MODIFIED:20220712T225156Z
UID:13263-1681027200-1681059600@saintpiusxchurch.com
SUMMARY:Masses – 8:00am\, 9:15am\,10:30am and 12:00pm
DESCRIPTION:
URL:http://saintpiusxchurch.com/wp/event/masses-800am-915am1030am-and-1200pm-36/
END:VEVENT
BEGIN:VEVENT
DTSTART;TZID=UTC:20230409T080000
DTEND;TZID=UTC:20230409T170000
DTSTAMP:20260424T225731
CREATED:20220713T200114Z
LAST-MODIFIED:20220713T200114Z
UID:13700-1681027200-1681059600@saintpiusxchurch.com
SUMMARY:Easter Sunday Masses: 8:00am\, 9:15am\, 10:30am & 12:30pm                                                          Easter Egg Hunt after 10:30am mass
DESCRIPTION:
URL:http://saintpiusxchurch.com/wp/event/easter-sunday-masses-800am-915am-1030am-1230pm-easter-egg-hunt-after-1030am-mass-4/
END:VEVENT
BEGIN:VEVENT
DTSTART;TZID=UTC:20230409T080000
DTEND;TZID=UTC:20230409T170000
DTSTAMP:20260424T225731
CREATED:20220713T200203Z
LAST-MODIFIED:20220713T200203Z
UID:13702-1681027200-1681059600@saintpiusxchurch.com
SUMMARY:No Kindergarten Class
DESCRIPTION:
URL:http://saintpiusxchurch.com/wp/event/no-kindergarten-class-13/
END:VEVENT
BEGIN:VEVENT
DTSTART;TZID=UTC:20230409T080000
DTEND;TZID=UTC:20230409T170000
DTSTAMP:20260424T225731
CREATED:20220713T200258Z
LAST-MODIFIED:20220713T200258Z
UID:13704-1681027200-1681059600@saintpiusxchurch.com
SUMMARY:YM Volunteers Needed for Easter Egg Hunt
DESCRIPTION:
URL:http://saintpiusxchurch.com/wp/event/ym-volunteers-needed-for-easter-egg-hunt/
END:VEVENT
BEGIN:VEVENT
DTSTART;TZID=UTC:20230410T080000
DTEND;TZID=UTC:20230410T170000
DTSTAMP:20260424T225731
CREATED:20220713T200323Z
LAST-MODIFIED:20220725T192755Z
UID:13706-1681113600-1681146000@saintpiusxchurch.com
SUMMARY:Easter Monday No Mass/No RE Classes/Parish Office Closed
DESCRIPTION:
URL:http://saintpiusxchurch.com/wp/event/easter-monday-no-re-classes-parish-office-closed/
END:VEVENT
BEGIN:VEVENT
DTSTART;TZID=UTC:20230411T080000
DTEND;TZID=UTC:20230411T170000
DTSTAMP:20260424T225731
CREATED:20220713T200346Z
LAST-MODIFIED:20220713T200346Z
UID:13708-1681200000-1681232400@saintpiusxchurch.com
SUMMARY:RE Classes In Session 1st– 4th Grade 3:30 – 5:00pm
DESCRIPTION:
URL:http://saintpiusxchurch.com/wp/event/re-classes-in-session-1st-4th-grade-330-500pm-14/
END:VEVENT
BEGIN:VEVENT
DTSTART;TZID=UTC:20230414T080000
DTEND;TZID=UTC:20230414T170000
DTSTAMP:20260424T225731
CREATED:20220712T222430Z
LAST-MODIFIED:20220712T222430Z
UID:13163-1681459200-1681491600@saintpiusxchurch.com
SUMMARY:Parish Office Closed
DESCRIPTION:
URL:http://saintpiusxchurch.com/wp/event/parish-office-closed-447/
END:VEVENT
BEGIN:VEVENT
DTSTART;TZID=UTC:20230415T080000
DTEND;TZID=UTC:20230415T170000
DTSTAMP:20260424T225731
CREATED:20220712T215807Z
LAST-MODIFIED:20220712T215807Z
UID:13070-1681545600-1681578000@saintpiusxchurch.com
SUMMARY:9:00am Mass                                     5:00pm Vigil Mass
DESCRIPTION:
URL:http://saintpiusxchurch.com/wp/event/900am-mass-500pm-vigil-mass-84/
END:VEVENT
BEGIN:VEVENT
DTSTART;TZID=UTC:20230415T080000
DTEND;TZID=UTC:20230415T170000
DTSTAMP:20260424T225731
CREATED:20220713T193756Z
LAST-MODIFIED:20230321T194229Z
UID:13670-1681545600-1681578000@saintpiusxchurch.com
SUMMARY:5th and  6th Grade Spring Bake Sale After 5:00pm Mass drop-off half an hour before Mass
DESCRIPTION:
URL:http://saintpiusxchurch.com/wp/event/5th-and-6th-grade-spring-bake-sale-after-500pm-mass-drop-off-half-an-hour-before-mass/
END:VEVENT
BEGIN:VEVENT
DTSTART;TZID=UTC:20230416T080000
DTEND;TZID=UTC:20230416T170000
DTSTAMP:20260424T225731
CREATED:20220712T225211Z
LAST-MODIFIED:20220712T225211Z
UID:13265-1681632000-1681664400@saintpiusxchurch.com
SUMMARY:Masses – 8:00am\, 9:15am\,10:30am and 12:00pm
DESCRIPTION:
URL:http://saintpiusxchurch.com/wp/event/masses-800am-915am1030am-and-1200pm-37/
END:VEVENT
BEGIN:VEVENT
DTSTART;TZID=UTC:20230416T080000
DTEND;TZID=UTC:20230416T170000
DTSTAMP:20260424T225731
CREATED:20220713T193937Z
LAST-MODIFIED:20230321T194317Z
UID:13676-1681632000-1681664400@saintpiusxchurch.com
SUMMARY:5th and  6th Grade Spring Bake Sale-After all Masses drop-off half an hour before mass
DESCRIPTION:
URL:http://saintpiusxchurch.com/wp/event/5th-and-6th-grade-spring-bake-sale-after-all-masses-drop-off-half-an-hour-before-mass/
END:VEVENT
BEGIN:VEVENT
DTSTART;TZID=UTC:20230416T080000
DTEND;TZID=UTC:20230416T170000
DTSTAMP:20260424T225731
CREATED:20220713T200425Z
LAST-MODIFIED:20220713T200425Z
UID:13710-1681632000-1681664400@saintpiusxchurch.com
SUMMARY:Kindergarten Class in Session 9:15-10:15am
DESCRIPTION:
URL:http://saintpiusxchurch.com/wp/event/kindergarten-class-in-session-915-1015am-16/
END:VEVENT
BEGIN:VEVENT
DTSTART;TZID=UTC:20230416T080000
DTEND;TZID=UTC:20230416T170000
DTSTAMP:20260424T225731
CREATED:20220713T200506Z
LAST-MODIFIED:20220713T200506Z
UID:13712-1681632000-1681664400@saintpiusxchurch.com
SUMMARY:First Communion Family Sacrament Day –after 10:30am Mass (Main Church)
DESCRIPTION:
URL:http://saintpiusxchurch.com/wp/event/first-communion-family-sacrament-day-after-1030am-mass-main-church-2/
END:VEVENT
BEGIN:VEVENT
DTSTART;TZID=UTC:20230416T080000
DTEND;TZID=UTC:20230416T170000
DTSTAMP:20260424T225731
CREATED:20230313T185837Z
LAST-MODIFIED:20230313T185837Z
UID:14295-1681632000-1681664400@saintpiusxchurch.com
SUMMARY:Sharing Shelf Baby Shower (April 16 - May 28\, 2023)
DESCRIPTION:
URL:http://saintpiusxchurch.com/wp/event/sharing-shelf-baby-shower-april-16-may-28-2023/
END:VEVENT
BEGIN:VEVENT
DTSTART;TZID=UTC:20230416T080000
DTEND;TZID=UTC:20230416T170000
DTSTAMP:20260424T225731
CREATED:20230404T235212Z
LAST-MODIFIED:20230404T235212Z
UID:14320-1681632000-1681664400@saintpiusxchurch.com
SUMMARY:St Pius X Children's Choir Performance - 10:30am Mass
DESCRIPTION:
URL:http://saintpiusxchurch.com/wp/event/st-pius-x-childrens-choir-performance-1030am-mass/
END:VEVENT
BEGIN:VEVENT
DTSTART;TZID=UTC:20230417T080000
DTEND;TZID=UTC:20230417T170000
DTSTAMP:20260424T225731
CREATED:20220713T200616Z
LAST-MODIFIED:20221221T224545Z
UID:13714-1681718400-1681750800@saintpiusxchurch.com
SUMMARY:RE Classes In Session 5th –  8th 3:30 – 4:30pm
DESCRIPTION:
URL:http://saintpiusxchurch.com/wp/event/re-classes-in-session-5th-7th330-500pm-8th-grade-400-500pm-18/
END:VEVENT
BEGIN:VEVENT
DTSTART;TZID=UTC:20230417T080000
DTEND;TZID=UTC:20230417T170000
DTSTAMP:20260424T225731
CREATED:20221002T195612Z
LAST-MODIFIED:20221002T195612Z
UID:14021-1681718400-1681750800@saintpiusxchurch.com
SUMMARY:Parish Council Meeting 8:00pm Parish Pavilion
DESCRIPTION:
URL:http://saintpiusxchurch.com/wp/event/parish-council-meeting-800pm-parish-pavilion-8/
END:VEVENT
BEGIN:VEVENT
DTSTART;TZID=UTC:20230417T080000
DTEND;TZID=UTC:20230417T170000
DTSTAMP:20260424T225731
CREATED:20230316T212449Z
LAST-MODIFIED:20230316T212449Z
UID:14307-1681718400-1681750800@saintpiusxchurch.com
SUMMARY:In-person Recitation of the Nicene Creed\, Act of Contrition and Ten Commandments with Fr Sebastian (3:00-5:00pm Main Church)
DESCRIPTION:
URL:http://saintpiusxchurch.com/wp/event/in-person-recitation-of-the-nicene-creed-act-of-contrition-and-ten-commandments-with-fr-sebastian-300-500pm-main-church/
END:VEVENT
BEGIN:VEVENT
DTSTART;TZID=UTC:20230418T080000
DTEND;TZID=UTC:20230418T170000
DTSTAMP:20260424T225731
CREATED:20220713T200650Z
LAST-MODIFIED:20220713T200650Z
UID:13716-1681804800-1681837200@saintpiusxchurch.com
SUMMARY:RE Classes In Session 1st– 4th Grade 3:30 – 5:00pm
DESCRIPTION:
URL:http://saintpiusxchurch.com/wp/event/re-classes-in-session-1st-4th-grade-330-500pm-15/
END:VEVENT
BEGIN:VEVENT
DTSTART;TZID=UTC:20230420T080000
DTEND;TZID=UTC:20230420T170000
DTSTAMP:20260424T225731
CREATED:20230222T205304Z
LAST-MODIFIED:20230222T205304Z
UID:14275-1681977600-1682010000@saintpiusxchurch.com
SUMMARY:Crochet/Knitting Club Meeting
DESCRIPTION:
URL:http://saintpiusxchurch.com/wp/event/crochet-knitting-club-meeting-2/
END:VEVENT
BEGIN:VEVENT
DTSTART;TZID=UTC:20230421T080000
DTEND;TZID=UTC:20230421T170000
DTSTAMP:20260424T225731
CREATED:20220712T222446Z
LAST-MODIFIED:20220712T222446Z
UID:13165-1682064000-1682096400@saintpiusxchurch.com
SUMMARY:Parish Office Closed
DESCRIPTION:
URL:http://saintpiusxchurch.com/wp/event/parish-office-closed-448/
END:VEVENT
BEGIN:VEVENT
DTSTART;TZID=UTC:20230422T080000
DTEND;TZID=UTC:20230422T170000
DTSTAMP:20260424T225731
CREATED:20220712T215826Z
LAST-MODIFIED:20220712T215826Z
UID:13072-1682150400-1682182800@saintpiusxchurch.com
SUMMARY:9:00am Mass                                     5:00pm Vigil Mass
DESCRIPTION:
URL:http://saintpiusxchurch.com/wp/event/900am-mass-500pm-vigil-mass-85/
END:VEVENT
END:VCALENDAR