BEGIN:VCALENDAR
VERSION:2.0
PRODID:-//Church of Saint Pius X - ECPv6.15.20//NONSGML v1.0//EN
CALSCALE:GREGORIAN
METHOD:PUBLISH
X-ORIGINAL-URL:http://saintpiusxchurch.com/wp
X-WR-CALDESC:Events for Church of Saint Pius X
REFRESH-INTERVAL;VALUE=DURATION:PT1H
X-Robots-Tag:noindex
X-PUBLISHED-TTL:PT1H
BEGIN:VTIMEZONE
TZID:UTC
BEGIN:STANDARD
TZOFFSETFROM:+0000
TZOFFSETTO:+0000
TZNAME:UTC
DTSTART:20210101T000000
END:STANDARD
END:VTIMEZONE
BEGIN:VEVENT
DTSTART;TZID=UTC:20220902T080000
DTEND;TZID=UTC:20220902T170000
DTSTAMP:20260425T120825
CREATED:20220712T214419Z
LAST-MODIFIED:20220712T214419Z
UID:12994-1662105600-1662138000@saintpiusxchurch.com
SUMMARY:Parish Office Closed
DESCRIPTION:
URL:http://saintpiusxchurch.com/wp/event/parish-office-closed-379/
END:VEVENT
BEGIN:VEVENT
DTSTART;TZID=UTC:20220902T080000
DTEND;TZID=UTC:20220902T170000
DTSTAMP:20260425T120825
CREATED:20220725T210142Z
LAST-MODIFIED:20220725T210142Z
UID:13880-1662105600-1662138000@saintpiusxchurch.com
SUMMARY:Daily Rosary Devotion - 11:00am in Mary's Chapel
DESCRIPTION:
URL:http://saintpiusxchurch.com/wp/event/daily-rosary-devotion-1100am-in-marys-chapel-25/
END:VEVENT
BEGIN:VEVENT
DTSTART;TZID=UTC:20220903T080000
DTEND;TZID=UTC:20220903T170000
DTSTAMP:20260425T120825
CREATED:20220712T214715Z
LAST-MODIFIED:20220712T214715Z
UID:13004-1662192000-1662224400@saintpiusxchurch.com
SUMMARY:9:00am Mass                                     5:00pm Vigil Mass
DESCRIPTION:
URL:http://saintpiusxchurch.com/wp/event/900am-mass-500pm-vigil-mass-51/
END:VEVENT
BEGIN:VEVENT
DTSTART;TZID=UTC:20220904T080000
DTEND;TZID=UTC:20220904T170000
DTSTAMP:20260425T120825
CREATED:20220712T213804Z
LAST-MODIFIED:20220712T213804Z
UID:12968-1662278400-1662310800@saintpiusxchurch.com
SUMMARY:Masses – 8:00am\, 9:15am\,10:30am and 12:00pm
DESCRIPTION:
URL:http://saintpiusxchurch.com/wp/event/masses-800am-915am1030am-and-1200pm-5/
END:VEVENT
BEGIN:VEVENT
DTSTART;TZID=UTC:20220905T080000
DTEND;TZID=UTC:20220905T170000
DTSTAMP:20260425T120825
CREATED:20220712T213929Z
LAST-MODIFIED:20220712T213929Z
UID:12976-1662364800-1662397200@saintpiusxchurch.com
SUMMARY:Labor Day No Mass/ Parish Office Closed No Parish Council Meeting
DESCRIPTION:
URL:http://saintpiusxchurch.com/wp/event/labor-day-no-mass-parish-office-closed-no-parish-council-meeting/
END:VEVENT
BEGIN:VEVENT
DTSTART;TZID=UTC:20220906T080000
DTEND;TZID=UTC:20220906T170000
DTSTAMP:20260425T120825
CREATED:20220725T210200Z
LAST-MODIFIED:20220725T210200Z
UID:13882-1662451200-1662483600@saintpiusxchurch.com
SUMMARY:Daily Rosary Devotion - 11:00am in Mary's Chapel
DESCRIPTION:
URL:http://saintpiusxchurch.com/wp/event/daily-rosary-devotion-1100am-in-marys-chapel-26/
END:VEVENT
BEGIN:VEVENT
DTSTART;TZID=UTC:20220907T080000
DTEND;TZID=UTC:20220907T170000
DTSTAMP:20260425T120825
CREATED:20220718T194151Z
LAST-MODIFIED:20220718T194151Z
UID:13806-1662537600-1662570000@saintpiusxchurch.com
SUMMARY:FREE Zumba Class by Maya de Jesus\, Zumba and Sweat and Swagger Instructor - (9:00-9:45am)
DESCRIPTION:
URL:http://saintpiusxchurch.com/wp/event/free-zumba-class-by-maya-de-jesus-zumba-and-sweat-and-swagger-instructor-900-945am-6/
END:VEVENT
BEGIN:VEVENT
DTSTART;TZID=UTC:20220907T080000
DTEND;TZID=UTC:20220907T170000
DTSTAMP:20260425T120825
CREATED:20220725T210212Z
LAST-MODIFIED:20220725T210212Z
UID:13884-1662537600-1662570000@saintpiusxchurch.com
SUMMARY:Daily Rosary Devotion - 11:00am in Mary's Chapel
DESCRIPTION:
URL:http://saintpiusxchurch.com/wp/event/daily-rosary-devotion-1100am-in-marys-chapel-27/
END:VEVENT
BEGIN:VEVENT
DTSTART;TZID=UTC:20220908T080000
DTEND;TZID=UTC:20220908T170000
DTSTAMP:20260425T120825
CREATED:20220712T195504Z
LAST-MODIFIED:20220720T184704Z
UID:12955-1662624000-1662656400@saintpiusxchurch.com
SUMMARY:Mary Under The Stars Celebration of Blessed Mother’s Birthday – 7:00pm (Main Church)
DESCRIPTION:
URL:http://saintpiusxchurch.com/wp/event/mary-under-the-stars-celebration-of-blessed-mothers-birthday-700pm-church-grounds/
END:VEVENT
BEGIN:VEVENT
DTSTART;TZID=UTC:20220908T080000
DTEND;TZID=UTC:20220908T170000
DTSTAMP:20260425T120825
CREATED:20220725T210241Z
LAST-MODIFIED:20220725T210241Z
UID:13886-1662624000-1662656400@saintpiusxchurch.com
SUMMARY:Daily Rosary Devotion - 11:00am in Mary's Chapel
DESCRIPTION:
URL:http://saintpiusxchurch.com/wp/event/daily-rosary-devotion-1100am-in-marys-chapel-28/
END:VEVENT
BEGIN:VEVENT
DTSTART;TZID=UTC:20220909T080000
DTEND;TZID=UTC:20220909T170000
DTSTAMP:20260425T120825
CREATED:20220712T214434Z
LAST-MODIFIED:20220712T214434Z
UID:12996-1662710400-1662742800@saintpiusxchurch.com
SUMMARY:Parish Office Closed
DESCRIPTION:
URL:http://saintpiusxchurch.com/wp/event/parish-office-closed-413/
END:VEVENT
BEGIN:VEVENT
DTSTART;TZID=UTC:20220909T080000
DTEND;TZID=UTC:20220909T170000
DTSTAMP:20260425T120825
CREATED:20220725T210256Z
LAST-MODIFIED:20220725T210256Z
UID:13888-1662710400-1662742800@saintpiusxchurch.com
SUMMARY:Daily Rosary Devotion - 11:00am in Mary's Chapel
DESCRIPTION:
URL:http://saintpiusxchurch.com/wp/event/daily-rosary-devotion-1100am-in-marys-chapel-29/
END:VEVENT
BEGIN:VEVENT
DTSTART;TZID=UTC:20220910T080000
DTEND;TZID=UTC:20220910T170000
DTSTAMP:20260425T120825
CREATED:20220712T214740Z
LAST-MODIFIED:20220712T214740Z
UID:13006-1662796800-1662829200@saintpiusxchurch.com
SUMMARY:9:00am Mass                                     5:00pm Vigil Mass
DESCRIPTION:
URL:http://saintpiusxchurch.com/wp/event/900am-mass-500pm-vigil-mass-52/
END:VEVENT
BEGIN:VEVENT
DTSTART;TZID=UTC:20220911T080000
DTEND;TZID=UTC:20220911T170000
DTSTAMP:20260425T120825
CREATED:20220712T213823Z
LAST-MODIFIED:20220712T213823Z
UID:12970-1662883200-1662915600@saintpiusxchurch.com
SUMMARY:Masses – 8:00am\, 9:15am\,10:30am and 12:00pm
DESCRIPTION:
URL:http://saintpiusxchurch.com/wp/event/masses-800am-915am1030am-and-1200pm-6/
END:VEVENT
BEGIN:VEVENT
DTSTART;TZID=UTC:20220912T080000
DTEND;TZID=UTC:20220912T170000
DTSTAMP:20260425T120825
CREATED:20220712T214001Z
LAST-MODIFIED:20220712T214001Z
UID:12978-1662969600-1663002000@saintpiusxchurch.com
SUMMARY:11:30am Mass Begins
DESCRIPTION:
URL:http://saintpiusxchurch.com/wp/event/1130am-mass-begins-5/
END:VEVENT
BEGIN:VEVENT
DTSTART;TZID=UTC:20220912T080000
DTEND;TZID=UTC:20220912T170000
DTSTAMP:20260425T120825
CREATED:20220712T214040Z
LAST-MODIFIED:20220712T214040Z
UID:12980-1662969600-1663002000@saintpiusxchurch.com
SUMMARY:Rosary Devotion Begins after 11:30am Mass ⤑ ⤑ ⤑ ⤑ ⤑ ⤑ ⤑ ⤑
DESCRIPTION:
URL:http://saintpiusxchurch.com/wp/event/rosary-devotion-begins-after-1130am-mass-%e2%a4%91-%e2%a4%91-%e2%a4%91-%e2%a4%91-%e2%a4%91-%e2%a4%91-%e2%a4%91-%e2%a4%91/
END:VEVENT
BEGIN:VEVENT
DTSTART;TZID=UTC:20220914T080000
DTEND;TZID=UTC:20220914T170000
DTSTAMP:20260425T120825
CREATED:20220718T194203Z
LAST-MODIFIED:20220718T194203Z
UID:13808-1663142400-1663174800@saintpiusxchurch.com
SUMMARY:FREE Zumba Class by Maya de Jesus\, Zumba and Sweat and Swagger Instructor - (9:00-9:45am)
DESCRIPTION:
URL:http://saintpiusxchurch.com/wp/event/free-zumba-class-by-maya-de-jesus-zumba-and-sweat-and-swagger-instructor-900-945am-7/
END:VEVENT
BEGIN:VEVENT
DTSTART;TZID=UTC:20220916T080000
DTEND;TZID=UTC:20220916T170000
DTSTAMP:20260425T120825
CREATED:20220712T214451Z
LAST-MODIFIED:20220712T214451Z
UID:12998-1663315200-1663347600@saintpiusxchurch.com
SUMMARY:Parish Office Closed
DESCRIPTION:
URL:http://saintpiusxchurch.com/wp/event/parish-office-closed-414/
END:VEVENT
BEGIN:VEVENT
DTSTART;TZID=UTC:20220917T080000
DTEND;TZID=UTC:20220917T170000
DTSTAMP:20260425T120825
CREATED:20220712T214754Z
LAST-MODIFIED:20220712T214754Z
UID:13008-1663401600-1663434000@saintpiusxchurch.com
SUMMARY:9:00am Mass                                     5:00pm Vigil Mass
DESCRIPTION:
URL:http://saintpiusxchurch.com/wp/event/900am-mass-500pm-vigil-mass-53/
END:VEVENT
BEGIN:VEVENT
DTSTART;TZID=UTC:20220917T080000
DTEND;TZID=UTC:20220917T170000
DTSTAMP:20260425T120825
CREATED:20220712T214815Z
LAST-MODIFIED:20220712T214815Z
UID:13010-1663401600-1663434000@saintpiusxchurch.com
SUMMARY:9:00am Mass                                     5:00pm Vigil Mass
DESCRIPTION:
URL:http://saintpiusxchurch.com/wp/event/900am-mass-500pm-vigil-mass-54/
END:VEVENT
BEGIN:VEVENT
DTSTART;TZID=UTC:20220918T080000
DTEND;TZID=UTC:20220918T170000
DTSTAMP:20260425T120825
CREATED:20220712T213842Z
LAST-MODIFIED:20220712T213842Z
UID:12972-1663488000-1663520400@saintpiusxchurch.com
SUMMARY:Masses – 8:00am\, 9:15am\,10:30am and 12:00pm
DESCRIPTION:
URL:http://saintpiusxchurch.com/wp/event/masses-800am-915am1030am-and-1200pm-7/
END:VEVENT
BEGIN:VEVENT
DTSTART;TZID=UTC:20220918T080000
DTEND;TZID=UTC:20220918T170000
DTSTAMP:20260425T120825
CREATED:20220713T205325Z
LAST-MODIFIED:20220713T205325Z
UID:13791-1663488000-1663520400@saintpiusxchurch.com
SUMMARY:Catechetical Sunday - “This is my body given for you”
DESCRIPTION:
URL:http://saintpiusxchurch.com/wp/event/catechetical-sunday-this-is-my-body-given-for-you/
END:VEVENT
BEGIN:VEVENT
DTSTART;TZID=UTC:20220919T080000
DTEND;TZID=UTC:20220919T170000
DTSTAMP:20260425T120825
CREATED:20220712T214103Z
LAST-MODIFIED:20221221T221122Z
UID:12982-1663574400-1663606800@saintpiusxchurch.com
SUMMARY:RE Classes Begin 5th –  8th  3:30 – 4:30pm
DESCRIPTION:
URL:http://saintpiusxchurch.com/wp/event/re-classes-begin-5th-7th330-500pm-8th-grade-400-500pm/
END:VEVENT
BEGIN:VEVENT
DTSTART;TZID=UTC:20220920T080000
DTEND;TZID=UTC:20220920T170000
DTSTAMP:20260425T120825
CREATED:20220712T214157Z
LAST-MODIFIED:20220810T194423Z
UID:12986-1663660800-1663693200@saintpiusxchurch.com
SUMMARY:RE Classes Begin 1st– 4th Grade 3:30 – 5:00pm
DESCRIPTION:
URL:http://saintpiusxchurch.com/wp/event/re-classes-in-session-1st-4th-grade-330-500pm/
END:VEVENT
BEGIN:VEVENT
DTSTART;TZID=UTC:20220921T080000
DTEND;TZID=UTC:20220921T170000
DTSTAMP:20260425T120825
CREATED:20220712T214230Z
LAST-MODIFIED:20220712T214230Z
UID:12988-1663747200-1663779600@saintpiusxchurch.com
SUMMARY:8th Grade Confirmation Parents’ Meeting 6:00-6:30pm (via zoom)
DESCRIPTION:
URL:http://saintpiusxchurch.com/wp/event/8th-grade-confirmation-parents-meeting-600-630pm-via-zoom/
END:VEVENT
BEGIN:VEVENT
DTSTART;TZID=UTC:20220921T080000
DTEND;TZID=UTC:20220921T170000
DTSTAMP:20260425T120825
CREATED:20220712T214255Z
LAST-MODIFIED:20220712T214255Z
UID:12990-1663747200-1663779600@saintpiusxchurch.com
SUMMARY:7th Grade Pre-Confirmation Parents’ Meeting 6:40-7:10pm (via zoom)
DESCRIPTION:
URL:http://saintpiusxchurch.com/wp/event/7th-grade-pre-confirmation-parents-meeting-640-710pm-via-zoom/
END:VEVENT
BEGIN:VEVENT
DTSTART;TZID=UTC:20220921T080000
DTEND;TZID=UTC:20220921T170000
DTSTAMP:20260425T120825
CREATED:20220718T194216Z
LAST-MODIFIED:20220718T194216Z
UID:13810-1663747200-1663779600@saintpiusxchurch.com
SUMMARY:FREE Zumba Class by Maya de Jesus\, Zumba and Sweat and Swagger Instructor - (9:00-9:45am)
DESCRIPTION:
URL:http://saintpiusxchurch.com/wp/event/free-zumba-class-by-maya-de-jesus-zumba-and-sweat-and-swagger-instructor-900-945am-8/
END:VEVENT
BEGIN:VEVENT
DTSTART;TZID=UTC:20220923T080000
DTEND;TZID=UTC:20220923T170000
DTSTAMP:20260425T120825
CREATED:20220712T214507Z
LAST-MODIFIED:20220712T214507Z
UID:13000-1663920000-1663952400@saintpiusxchurch.com
SUMMARY:Parish Office Closed
DESCRIPTION:
URL:http://saintpiusxchurch.com/wp/event/parish-office-closed-415/
END:VEVENT
BEGIN:VEVENT
DTSTART;TZID=UTC:20220924T080000
DTEND;TZID=UTC:20220924T170000
DTSTAMP:20260425T120825
CREATED:20220712T214829Z
LAST-MODIFIED:20220712T214829Z
UID:13012-1664006400-1664038800@saintpiusxchurch.com
SUMMARY:9:00am Mass                                     5:00pm Vigil Mass
DESCRIPTION:
URL:http://saintpiusxchurch.com/wp/event/900am-mass-500pm-vigil-mass-55/
END:VEVENT
BEGIN:VEVENT
DTSTART;TZID=UTC:20220925T080000
DTEND;TZID=UTC:20220925T170000
DTSTAMP:20260425T120825
CREATED:20220712T213901Z
LAST-MODIFIED:20220712T213901Z
UID:12974-1664092800-1664125200@saintpiusxchurch.com
SUMMARY:Masses – 8:00am\, 9:15am\,10:30am and 12:00pm
DESCRIPTION:
URL:http://saintpiusxchurch.com/wp/event/masses-800am-915am1030am-and-1200pm-8/
END:VEVENT
END:VCALENDAR