BEGIN:VCALENDAR
VERSION:2.0
PRODID:-//Church of Saint Pius X - ECPv6.15.20//NONSGML v1.0//EN
CALSCALE:GREGORIAN
METHOD:PUBLISH
X-ORIGINAL-URL:http://saintpiusxchurch.com/wp
X-WR-CALDESC:Events for Church of Saint Pius X
REFRESH-INTERVAL;VALUE=DURATION:PT1H
X-Robots-Tag:noindex
X-PUBLISHED-TTL:PT1H
BEGIN:VTIMEZONE
TZID:UTC
BEGIN:STANDARD
TZOFFSETFROM:+0000
TZOFFSETTO:+0000
TZNAME:UTC
DTSTART:20210101T000000
END:STANDARD
END:VTIMEZONE
BEGIN:VEVENT
DTSTART;TZID=UTC:20221022T080000
DTEND;TZID=UTC:20221022T170000
DTSTAMP:20260425T120811
CREATED:20220712T215011Z
LAST-MODIFIED:20220712T215011Z
UID:13020-1666425600-1666458000@saintpiusxchurch.com
SUMMARY:9:00am Mass                                     5:00pm Vigil Mass
DESCRIPTION:
URL:http://saintpiusxchurch.com/wp/event/900am-mass-500pm-vigil-mass-59/
END:VEVENT
BEGIN:VEVENT
DTSTART;TZID=UTC:20221022T080000
DTEND;TZID=UTC:20221022T170000
DTSTAMP:20260425T120811
CREATED:20220712T232334Z
LAST-MODIFIED:20220712T232334Z
UID:13349-1666425600-1666458000@saintpiusxchurch.com
SUMMARY:Delivery of Gift Basket and Personal Gifts to the residents of New York Foundling
DESCRIPTION:
URL:http://saintpiusxchurch.com/wp/event/delivery-of-gift-basket-and-personal-gifts-to-the-residents-of-new-york-foundling/
END:VEVENT
BEGIN:VEVENT
DTSTART;TZID=UTC:20221023T080000
DTEND;TZID=UTC:20221023T170000
DTSTAMP:20260425T120811
CREATED:20220712T224313Z
LAST-MODIFIED:20220712T224313Z
UID:13213-1666512000-1666544400@saintpiusxchurch.com
SUMMARY:Masses – 8:00am\, 9:15am\,10:30am and 12:00pm
DESCRIPTION:
URL:http://saintpiusxchurch.com/wp/event/masses-800am-915am1030am-and-1200pm-13/
END:VEVENT
BEGIN:VEVENT
DTSTART;TZID=UTC:20221023T080000
DTEND;TZID=UTC:20221023T170000
DTSTAMP:20260425T120811
CREATED:20220712T232409Z
LAST-MODIFIED:20220712T232409Z
UID:13351-1666512000-1666544400@saintpiusxchurch.com
SUMMARY:Kindergarten Class in Session 9:15-10:15am
DESCRIPTION:
URL:http://saintpiusxchurch.com/wp/event/kindergarten-class-in-session-915-1015am-2/
END:VEVENT
BEGIN:VEVENT
DTSTART;TZID=UTC:20221023T080000
DTEND;TZID=UTC:20221023T170000
DTSTAMP:20260425T120811
CREATED:20220712T232429Z
LAST-MODIFIED:20220712T232429Z
UID:13353-1666512000-1666544400@saintpiusxchurch.com
SUMMARY:Trunk or Treat – after 10:30am SPX Parking Lot
DESCRIPTION:
URL:http://saintpiusxchurch.com/wp/event/trunk-or-treat-after-1030am-spx-parking-lot/
END:VEVENT
BEGIN:VEVENT
DTSTART;TZID=UTC:20221023T080000
DTEND;TZID=UTC:20221023T170000
DTSTAMP:20260425T120811
CREATED:20220712T232454Z
LAST-MODIFIED:20220712T232454Z
UID:13355-1666512000-1666544400@saintpiusxchurch.com
SUMMARY:Wedding Jubilee – 12:00pm mass
DESCRIPTION:
URL:http://saintpiusxchurch.com/wp/event/wedding-jubilee-1200pm-mass-3/
END:VEVENT
BEGIN:VEVENT
DTSTART;TZID=UTC:20221023T080000
DTEND;TZID=UTC:20221023T170000
DTSTAMP:20260425T120811
CREATED:20220912T190933Z
LAST-MODIFIED:20220912T190933Z
UID:14002-1666512000-1666544400@saintpiusxchurch.com
SUMMARY:Let's Talk About It: Speaker Series Parish Hall 3:00pm Michael O’Loughlin “Hidden Mercy: Aids\, Catholics and the Untold Stories of Compassion in the face of Fear”
DESCRIPTION:
URL:http://saintpiusxchurch.com/wp/event/lets-talk-about-it-speaker-series-parish-hall-300pm-michael-oloughlin-hidden-mercy-aids-catholics-and-the-untold-stories-of-compassion-in-the-face-of-fear/
END:VEVENT
BEGIN:VEVENT
DTSTART;TZID=UTC:20221024T080000
DTEND;TZID=UTC:20221024T170000
DTSTAMP:20260425T120811
CREATED:20220712T232558Z
LAST-MODIFIED:20221221T220800Z
UID:13359-1666598400-1666630800@saintpiusxchurch.com
SUMMARY:RE Classes In Session 5th –  8th  3:30 – 4:30pm
DESCRIPTION:
URL:http://saintpiusxchurch.com/wp/event/re-classes-in-session-5th-7th330-500pm-8th-grade-400-500pm-2/
END:VEVENT
BEGIN:VEVENT
DTSTART;TZID=UTC:20221024T080000
DTEND;TZID=UTC:20221024T170000
DTSTAMP:20260425T120811
CREATED:20220829T181807Z
LAST-MODIFIED:20220829T181807Z
UID:13978-1666598400-1666630800@saintpiusxchurch.com
SUMMARY:Widows and Widowers Mass and Meeting – 7:00pm
DESCRIPTION:
URL:http://saintpiusxchurch.com/wp/event/widows-and-widowers-mass-and-meeting-700pm-8/
END:VEVENT
BEGIN:VEVENT
DTSTART;TZID=UTC:20221025T080000
DTEND;TZID=UTC:20221025T170000
DTSTAMP:20260425T120811
CREATED:20220712T232628Z
LAST-MODIFIED:20220712T232628Z
UID:13361-1666684800-1666717200@saintpiusxchurch.com
SUMMARY:RE Classes In Session 1st– 4th Grade 3:30 – 5:00pm                                            Christmas Pageant Rehearsal
DESCRIPTION:
URL:http://saintpiusxchurch.com/wp/event/re-classes-in-session-1st-4th-grade-330-500pm-christmas-pageant-rehearsal/
END:VEVENT
BEGIN:VEVENT
DTSTART;TZID=UTC:20221027T080000
DTEND;TZID=UTC:20221027T170000
DTSTAMP:20260425T120811
CREATED:20221027T185722Z
LAST-MODIFIED:20221027T185722Z
UID:14046-1666857600-1666890000@saintpiusxchurch.com
SUMMARY:St Patrick’s Nursing Home Wish List
DESCRIPTION:
URL:http://saintpiusxchurch.com/wp/event/st-patricks-nursing-home-wish-list-4/
END:VEVENT
BEGIN:VEVENT
DTSTART;TZID=UTC:20221028T080000
DTEND;TZID=UTC:20221028T170000
DTSTAMP:20260425T120811
CREATED:20220712T220546Z
LAST-MODIFIED:20220712T220546Z
UID:13108-1666944000-1666976400@saintpiusxchurch.com
SUMMARY:Parish Office Closed
DESCRIPTION:
URL:http://saintpiusxchurch.com/wp/event/parish-office-closed-420/
END:VEVENT
BEGIN:VEVENT
DTSTART;TZID=UTC:20221029T080000
DTEND;TZID=UTC:20221029T170000
DTSTAMP:20260425T120811
CREATED:20220712T215028Z
LAST-MODIFIED:20220712T215028Z
UID:13022-1667030400-1667062800@saintpiusxchurch.com
SUMMARY:9:00am Mass                                     5:00pm Vigil Mass
DESCRIPTION:
URL:http://saintpiusxchurch.com/wp/event/900am-mass-500pm-vigil-mass-60/
END:VEVENT
BEGIN:VEVENT
DTSTART;TZID=UTC:20221030T080000
DTEND;TZID=UTC:20221030T170000
DTSTAMP:20260425T120811
CREATED:20220712T224435Z
LAST-MODIFIED:20220712T224435Z
UID:13223-1667116800-1667149200@saintpiusxchurch.com
SUMMARY:Masses – 8:00am\, 9:15am\,10:30am and 12:00pm
DESCRIPTION:
URL:http://saintpiusxchurch.com/wp/event/masses-800am-915am1030am-and-1200pm-18/
END:VEVENT
BEGIN:VEVENT
DTSTART;TZID=UTC:20221030T080000
DTEND;TZID=UTC:20221030T170000
DTSTAMP:20260425T120811
CREATED:20220712T232657Z
LAST-MODIFIED:20220712T232657Z
UID:13363-1667116800-1667149200@saintpiusxchurch.com
SUMMARY:Kindergarten Class in Session 9:15-10:15am
DESCRIPTION:
URL:http://saintpiusxchurch.com/wp/event/kindergarten-class-in-session-915-1015am-3/
END:VEVENT
BEGIN:VEVENT
DTSTART;TZID=UTC:20221030T080000
DTEND;TZID=UTC:20221030T170000
DTSTAMP:20260425T120811
CREATED:20220712T232724Z
LAST-MODIFIED:20220712T232724Z
UID:13365-1667116800-1667149200@saintpiusxchurch.com
SUMMARY:7th Grade Ministry Sunday & Commitment Service 12:00pm
DESCRIPTION:
URL:http://saintpiusxchurch.com/wp/event/7th-grade-ministry-sunday-commitment-service-1200pm-5/
END:VEVENT
BEGIN:VEVENT
DTSTART;TZID=UTC:20221031T080000
DTEND;TZID=UTC:20221031T170000
DTSTAMP:20260425T120811
CREATED:20220712T232752Z
LAST-MODIFIED:20221221T220654Z
UID:13367-1667203200-1667235600@saintpiusxchurch.com
SUMMARY:RE Classes In Session 5th –  8th 3:30 – 5:00pm
DESCRIPTION:
URL:http://saintpiusxchurch.com/wp/event/re-classes-in-session-5th-7th330-500pm-8th-grade-400-500pm-3/
END:VEVENT
BEGIN:VEVENT
DTSTART;TZID=UTC:20221031T080000
DTEND;TZID=UTC:20221031T170000
DTSTAMP:20260425T120811
CREATED:20220712T232823Z
LAST-MODIFIED:20220712T232823Z
UID:13369-1667203200-1667235600@saintpiusxchurch.com
SUMMARY:All Saints’ Day Anticipated Mass-5:00pm
DESCRIPTION:
URL:http://saintpiusxchurch.com/wp/event/all-saints-day-anticipated-mass-500pm/
END:VEVENT
BEGIN:VEVENT
DTSTART;TZID=UTC:20221031T080000
DTEND;TZID=UTC:20221031T170000
DTSTAMP:20260425T120811
CREATED:20220712T232840Z
LAST-MODIFIED:20220712T232840Z
UID:13371-1667203200-1667235600@saintpiusxchurch.com
SUMMARY:Happy Halloween
DESCRIPTION:
URL:http://saintpiusxchurch.com/wp/event/happy-halloween-4/
END:VEVENT
BEGIN:VEVENT
DTSTART;TZID=UTC:20221101T080000
DTEND;TZID=UTC:20221101T170000
DTSTAMP:20260425T120811
CREATED:20220712T233421Z
LAST-MODIFIED:20220712T233421Z
UID:13373-1667289600-1667322000@saintpiusxchurch.com
SUMMARY:All Saints’ Day No RE Classes/ Parish Office Closed
DESCRIPTION:
URL:http://saintpiusxchurch.com/wp/event/all-saints-day-no-re-classes-parish-office-closed/
END:VEVENT
BEGIN:VEVENT
DTSTART;TZID=UTC:20221101T080000
DTEND;TZID=UTC:20221101T170000
DTSTAMP:20260425T120811
CREATED:20221012T215814Z
LAST-MODIFIED:20221012T215814Z
UID:14034-1667289600-1667322000@saintpiusxchurch.com
SUMMARY:All Saints’ Day Masses: 8am\, 11:30am and 7:30pm - No RE Classes/ Parish Office Closed
DESCRIPTION:
URL:http://saintpiusxchurch.com/wp/event/all-saints-day-masses-8am-1130am-and-730pm-no-re-classes-parish-office-closed/
END:VEVENT
BEGIN:VEVENT
DTSTART;TZID=UTC:20221103T080000
DTEND;TZID=UTC:20221103T170000
DTSTAMP:20260425T120811
CREATED:20221002T201307Z
LAST-MODIFIED:20221002T201307Z
UID:14025-1667462400-1667494800@saintpiusxchurch.com
SUMMARY:Thread for Life - knitting and Crocheting - 4:00-6:00pm (Parish Hall)
DESCRIPTION:
URL:http://saintpiusxchurch.com/wp/event/thread-for-life-knitting-and-crocheting-400-600pm-parish-hall/
END:VEVENT
BEGIN:VEVENT
DTSTART;TZID=UTC:20221103T080000
DTEND;TZID=UTC:20221103T170000
DTSTAMP:20260425T120811
CREATED:20221005T193206Z
LAST-MODIFIED:20221005T193206Z
UID:14030-1667462400-1667494800@saintpiusxchurch.com
SUMMARY:Thread for Life - 4:00-6:00pm (Parish Hall)
DESCRIPTION:
URL:http://saintpiusxchurch.com/wp/event/thread-for-life-400-600pm-parish-hall/
END:VEVENT
BEGIN:VEVENT
DTSTART;TZID=UTC:20221104T080000
DTEND;TZID=UTC:20221104T170000
DTSTAMP:20260425T120811
CREATED:20220712T221721Z
LAST-MODIFIED:20220712T221721Z
UID:13113-1667548800-1667581200@saintpiusxchurch.com
SUMMARY:Parish Office Closed
DESCRIPTION:
URL:http://saintpiusxchurch.com/wp/event/parish-office-closed-422/
END:VEVENT
BEGIN:VEVENT
DTSTART;TZID=UTC:20221105T080000
DTEND;TZID=UTC:20221105T170000
DTSTAMP:20260425T120811
CREATED:20220712T215042Z
LAST-MODIFIED:20220712T215042Z
UID:13024-1667635200-1667667600@saintpiusxchurch.com
SUMMARY:9:00am Mass                                     5:00pm Vigil Mass
DESCRIPTION:
URL:http://saintpiusxchurch.com/wp/event/900am-mass-500pm-vigil-mass-61/
END:VEVENT
BEGIN:VEVENT
DTSTART;TZID=UTC:20221105T080000
DTEND;TZID=UTC:20221105T170000
DTSTAMP:20260425T120811
CREATED:20220728T181736Z
LAST-MODIFIED:20220929T175613Z
UID:13924-1667635200-1667667600@saintpiusxchurch.com
SUMMARY:Annual Wine Tasting with Vintology owner Dean Morretta  Parish Hall Parishioners and guests must be 21 or older
DESCRIPTION:
URL:http://saintpiusxchurch.com/wp/event/wine-tasting-parish-hall/
END:VEVENT
BEGIN:VEVENT
DTSTART;TZID=UTC:20221106T080000
DTEND;TZID=UTC:20221106T170000
DTSTAMP:20260425T120811
CREATED:20220712T224345Z
LAST-MODIFIED:20220712T224345Z
UID:13217-1667721600-1667754000@saintpiusxchurch.com
SUMMARY:Masses – 8:00am\, 9:15am\,10:30am and 12:00pm
DESCRIPTION:
URL:http://saintpiusxchurch.com/wp/event/masses-800am-915am1030am-and-1200pm-15/
END:VEVENT
BEGIN:VEVENT
DTSTART;TZID=UTC:20221106T080000
DTEND;TZID=UTC:20221106T170000
DTSTAMP:20260425T120811
CREATED:20220712T233450Z
LAST-MODIFIED:20220712T233450Z
UID:13375-1667721600-1667754000@saintpiusxchurch.com
SUMMARY:Kindergarten Class in Session 9:15-10:15am
DESCRIPTION:
URL:http://saintpiusxchurch.com/wp/event/kindergarten-class-in-session-915-1015am-4/
END:VEVENT
BEGIN:VEVENT
DTSTART;TZID=UTC:20221106T080000
DTEND;TZID=UTC:20221106T170000
DTSTAMP:20260425T120811
CREATED:20220801T204814Z
LAST-MODIFIED:20221030T215911Z
UID:13927-1667721600-1667754000@saintpiusxchurch.com
SUMMARY:Organ Recital 3:00pm - American Guild of Organists (Westchester Chapter)
DESCRIPTION:
URL:http://saintpiusxchurch.com/wp/event/organ-recital-330pm-american-guild-of-organists-westchester-chapter/
END:VEVENT
BEGIN:VEVENT
DTSTART;TZID=UTC:20221107T080000
DTEND;TZID=UTC:20221107T170000
DTSTAMP:20260425T120811
CREATED:20220712T233511Z
LAST-MODIFIED:20221221T220611Z
UID:13377-1667808000-1667840400@saintpiusxchurch.com
SUMMARY:RE Classes In Session 5th –  8th  3:30 – 4:30pm
DESCRIPTION:
URL:http://saintpiusxchurch.com/wp/event/re-classes-in-session-5th-7th330-500pm-8th-grade-400-500pm-4/
END:VEVENT
END:VCALENDAR