BEGIN:VCALENDAR
VERSION:2.0
PRODID:-//Church of Saint Pius X - ECPv6.15.20//NONSGML v1.0//EN
CALSCALE:GREGORIAN
METHOD:PUBLISH
X-ORIGINAL-URL:http://saintpiusxchurch.com/wp
X-WR-CALDESC:Events for Church of Saint Pius X
REFRESH-INTERVAL;VALUE=DURATION:PT1H
X-Robots-Tag:noindex
X-PUBLISHED-TTL:PT1H
BEGIN:VTIMEZONE
TZID:UTC
BEGIN:STANDARD
TZOFFSETFROM:+0000
TZOFFSETTO:+0000
TZNAME:UTC
DTSTART:20210101T000000
END:STANDARD
END:VTIMEZONE
BEGIN:VEVENT
DTSTART;TZID=UTC:20221127T080000
DTEND;TZID=UTC:20221127T170000
DTSTAMP:20260425T120812
CREATED:20220712T224714Z
LAST-MODIFIED:20220712T224714Z
UID:13225-1669536000-1669568400@saintpiusxchurch.com
SUMMARY:Masses – 8:00am\, 9:15am\,10:30am and 12:00pm
DESCRIPTION:
URL:http://saintpiusxchurch.com/wp/event/masses-800am-915am1030am-and-1200pm-12/
END:VEVENT
BEGIN:VEVENT
DTSTART;TZID=UTC:20221127T080000
DTEND;TZID=UTC:20221127T170000
DTSTAMP:20260425T120812
CREATED:20220712T234001Z
LAST-MODIFIED:20220712T234001Z
UID:13399-1669536000-1669568400@saintpiusxchurch.com
SUMMARY:No Kindergarten(Thanksgiving Day Weekend)
DESCRIPTION:
URL:http://saintpiusxchurch.com/wp/event/no-kindergartenthanksgiving-day-weekend-2/
END:VEVENT
BEGIN:VEVENT
DTSTART;TZID=UTC:20221127T080000
DTEND;TZID=UTC:20221127T170000
DTSTAMP:20260425T120812
CREATED:20220712T234502Z
LAST-MODIFIED:20220712T234502Z
UID:13420-1669536000-1669568400@saintpiusxchurch.com
SUMMARY:1st Sunday of Advent
DESCRIPTION:
URL:http://saintpiusxchurch.com/wp/event/1st-sunday-of-advent-6/
END:VEVENT
BEGIN:VEVENT
DTSTART;TZID=UTC:20221127T080000
DTEND;TZID=UTC:20221127T170000
DTSTAMP:20260425T120812
CREATED:20220712T234527Z
LAST-MODIFIED:20220712T234527Z
UID:13422-1669536000-1669568400@saintpiusxchurch.com
SUMMARY:Blessing of Advent Wreath and beginning of Building the Manger
DESCRIPTION:
URL:http://saintpiusxchurch.com/wp/event/blessing-of-advent-wreath-and-beginning-of-building-the-manger-4/
END:VEVENT
BEGIN:VEVENT
DTSTART;TZID=UTC:20221127T080000
DTEND;TZID=UTC:20221127T170000
DTSTAMP:20260425T120812
CREATED:20220712T234544Z
LAST-MODIFIED:20221111T002800Z
UID:13424-1669536000-1669568400@saintpiusxchurch.com
SUMMARY:Angel Giving Tree Begins
DESCRIPTION:
URL:http://saintpiusxchurch.com/wp/event/angel-tree-giving-begins/
END:VEVENT
BEGIN:VEVENT
DTSTART;TZID=UTC:20221127T080000
DTEND;TZID=UTC:20221127T170000
DTSTAMP:20260425T120812
CREATED:20221027T190306Z
LAST-MODIFIED:20221027T190306Z
UID:14052-1669536000-1669568400@saintpiusxchurch.com
SUMMARY:Boys Scouts Christmas Wreath Sale
DESCRIPTION:
URL:http://saintpiusxchurch.com/wp/event/boys-scouts-christmas-wreath-sale-2/
END:VEVENT
BEGIN:VEVENT
DTSTART;TZID=UTC:20221127T080000
DTEND;TZID=UTC:20221127T170000
DTSTAMP:20260425T120812
CREATED:20221027T190637Z
LAST-MODIFIED:20221027T190637Z
UID:14056-1669536000-1669568400@saintpiusxchurch.com
SUMMARY:St Patrick's Nursing Home Wish List
DESCRIPTION:
URL:http://saintpiusxchurch.com/wp/event/st-patricks-nursing-home-wish-list-6/
END:VEVENT
BEGIN:VEVENT
DTSTART;TZID=UTC:20221127T080000
DTEND;TZID=UTC:20221127T170000
DTSTAMP:20260425T120812
CREATED:20221110T213623Z
LAST-MODIFIED:20221110T213623Z
UID:14084-1669536000-1669568400@saintpiusxchurch.com
SUMMARY:Boy Scout Troop 4 Christmas Wreath Sale  - after all Masses
DESCRIPTION:
URL:http://saintpiusxchurch.com/wp/event/boy-scout-troop-4-christmas-wreath-sale-after-all-masses/
END:VEVENT
BEGIN:VEVENT
DTSTART;TZID=UTC:20221128T080000
DTEND;TZID=UTC:20221128T170000
DTSTAMP:20260425T120812
CREATED:20220712T234610Z
LAST-MODIFIED:20221221T215955Z
UID:13426-1669622400-1669654800@saintpiusxchurch.com
SUMMARY:RE Classes In Session 5th –  8th 3:30 – 4:30pm
DESCRIPTION:
URL:http://saintpiusxchurch.com/wp/event/re-classes-in-session-5th-7th330-500pm-8th-grade-400-500pm-7/
END:VEVENT
BEGIN:VEVENT
DTSTART;TZID=UTC:20221128T080000
DTEND;TZID=UTC:20221128T170000
DTSTAMP:20260425T120812
CREATED:20220712T234632Z
LAST-MODIFIED:20220712T234632Z
UID:13428-1669622400-1669654800@saintpiusxchurch.com
SUMMARY:7th and 8th Reconciliation Before Christmas(Classtime)
DESCRIPTION:
URL:http://saintpiusxchurch.com/wp/event/7th-and-8th-reconciliation-before-christmasclasstime/
END:VEVENT
BEGIN:VEVENT
DTSTART;TZID=UTC:20221129T080000
DTEND;TZID=UTC:20221129T170000
DTSTAMP:20260425T120812
CREATED:20220712T234651Z
LAST-MODIFIED:20220712T234651Z
UID:13430-1669708800-1669741200@saintpiusxchurch.com
SUMMARY:RE Classes In Session 3rd  – 4th Grade
DESCRIPTION:
URL:http://saintpiusxchurch.com/wp/event/re-classes-in-session-3rd-4th-grade/
END:VEVENT
BEGIN:VEVENT
DTSTART;TZID=UTC:20221129T080000
DTEND;TZID=UTC:20221129T170000
DTSTAMP:20260425T120812
CREATED:20220712T234730Z
LAST-MODIFIED:20220712T234730Z
UID:13432-1669708800-1669741200@saintpiusxchurch.com
SUMMARY:Reconciliation Before Christmas(Classtime)
DESCRIPTION:
URL:http://saintpiusxchurch.com/wp/event/reconciliation-before-christmasclasstime/
END:VEVENT
BEGIN:VEVENT
DTSTART;TZID=UTC:20221129T080000
DTEND;TZID=UTC:20221129T170000
DTSTAMP:20260425T120812
CREATED:20220712T234750Z
LAST-MODIFIED:20220712T234750Z
UID:13434-1669708800-1669741200@saintpiusxchurch.com
SUMMARY:1st– 4th Grade Christmas Pageant Rehearsal - 3:30 – 5:00pm
DESCRIPTION:
URL:http://saintpiusxchurch.com/wp/event/1st-4th-grade-christmas-pageant-rehearsal-330-500pm/
END:VEVENT
BEGIN:VEVENT
DTSTART;TZID=UTC:20221202T080000
DTEND;TZID=UTC:20221202T170000
DTSTAMP:20260425T120812
CREATED:20220712T221823Z
LAST-MODIFIED:20220712T221823Z
UID:13121-1669968000-1670000400@saintpiusxchurch.com
SUMMARY:Parish Office Closed
DESCRIPTION:
URL:http://saintpiusxchurch.com/wp/event/parish-office-closed-426/
END:VEVENT
BEGIN:VEVENT
DTSTART;TZID=UTC:20221203T080000
DTEND;TZID=UTC:20221203T170000
DTSTAMP:20260425T120812
CREATED:20220712T215141Z
LAST-MODIFIED:20220712T215141Z
UID:13032-1670054400-1670086800@saintpiusxchurch.com
SUMMARY:9:00am Mass                                     5:00pm Vigil Mass
DESCRIPTION:
URL:http://saintpiusxchurch.com/wp/event/900am-mass-500pm-vigil-mass-65/
END:VEVENT
BEGIN:VEVENT
DTSTART;TZID=UTC:20221203T080000
DTEND;TZID=UTC:20221203T170000
DTSTAMP:20260425T120812
CREATED:20220712T234828Z
LAST-MODIFIED:20221027T194710Z
UID:13436-1670054400-1670086800@saintpiusxchurch.com
SUMMARY:Santa Event(Narthex/SPX Grounds)10:00am-12:00pm (Raindate December 10)
DESCRIPTION:
URL:http://saintpiusxchurch.com/wp/event/santa-event-raindate-december-10/
END:VEVENT
BEGIN:VEVENT
DTSTART;TZID=UTC:20221203T080000
DTEND;TZID=UTC:20221203T170000
DTSTAMP:20260425T120812
CREATED:20220712T234854Z
LAST-MODIFIED:20221027T191404Z
UID:13438-1670054400-1670086800@saintpiusxchurch.com
SUMMARY:Christmas Caroling and Tree Lighting after 5pm mass(Raindate Dec. 10)
DESCRIPTION:
URL:http://saintpiusxchurch.com/wp/event/christmas-tree-lighting-after-5pm-massraindate-dec-10/
END:VEVENT
BEGIN:VEVENT
DTSTART;TZID=UTC:20221204T080000
DTEND;TZID=UTC:20221204T170000
DTSTAMP:20260425T120812
CREATED:20220712T224731Z
LAST-MODIFIED:20220712T224731Z
UID:13227-1670140800-1670173200@saintpiusxchurch.com
SUMMARY:Masses – 8:00am\, 9:15am\,10:30am and 12:00pm
DESCRIPTION:
URL:http://saintpiusxchurch.com/wp/event/masses-800am-915am1030am-and-1200pm-14/
END:VEVENT
BEGIN:VEVENT
DTSTART;TZID=UTC:20221204T080000
DTEND;TZID=UTC:20221204T170000
DTSTAMP:20260425T120812
CREATED:20220712T234925Z
LAST-MODIFIED:20220712T234925Z
UID:13440-1670140800-1670173200@saintpiusxchurch.com
SUMMARY:Kindergarten Class in Session 9:15-10:15am
DESCRIPTION:
URL:http://saintpiusxchurch.com/wp/event/kindergarten-class-in-session-915-1015am-6/
END:VEVENT
BEGIN:VEVENT
DTSTART;TZID=UTC:20221204T080000
DTEND;TZID=UTC:20221204T170000
DTSTAMP:20260425T120812
CREATED:20220712T234947Z
LAST-MODIFIED:20220712T234947Z
UID:13442-1670140800-1670173200@saintpiusxchurch.com
SUMMARY:2nd Sunday of Advent
DESCRIPTION:
URL:http://saintpiusxchurch.com/wp/event/2nd-sunday-of-advent-7/
END:VEVENT
BEGIN:VEVENT
DTSTART;TZID=UTC:20221204T080000
DTEND;TZID=UTC:20221204T170000
DTSTAMP:20260425T120812
CREATED:20220712T235019Z
LAST-MODIFIED:20221111T002709Z
UID:13444-1670140800-1670173200@saintpiusxchurch.com
SUMMARY:Angel Giving Tree
DESCRIPTION:
URL:http://saintpiusxchurch.com/wp/event/angel-tree-giving-12/
END:VEVENT
BEGIN:VEVENT
DTSTART;TZID=UTC:20221205T080000
DTEND;TZID=UTC:20221205T170000
DTSTAMP:20260425T120812
CREATED:20220712T235114Z
LAST-MODIFIED:20221221T215739Z
UID:13446-1670227200-1670259600@saintpiusxchurch.com
SUMMARY:RE Classes In Session 5th –  8th     3:30 – 4:30pm
DESCRIPTION:
URL:http://saintpiusxchurch.com/wp/event/re-classes-in-session-5th-7th330-500pm-8th-grade-400-500pm-8/
END:VEVENT
BEGIN:VEVENT
DTSTART;TZID=UTC:20221205T080000
DTEND;TZID=UTC:20221205T170000
DTSTAMP:20260425T120812
CREATED:20220712T235149Z
LAST-MODIFIED:20220712T235149Z
UID:13448-1670227200-1670259600@saintpiusxchurch.com
SUMMARY:5th and 6th Grade Reconciliation Before Christmas(Classtime)
DESCRIPTION:
URL:http://saintpiusxchurch.com/wp/event/5th-and-6th-grade-reconciliation-before-christmasclasstime/
END:VEVENT
BEGIN:VEVENT
DTSTART;TZID=UTC:20221205T080000
DTEND;TZID=UTC:20221205T170000
DTSTAMP:20260425T120812
CREATED:20220712T235242Z
LAST-MODIFIED:20220712T235242Z
UID:13450-1670227200-1670259600@saintpiusxchurch.com
SUMMARY:Parish Council Meeting 8:00pm Parish Pavilion
DESCRIPTION:
URL:http://saintpiusxchurch.com/wp/event/parish-council-meeting-800pm-parish-pavilion-3/
END:VEVENT
BEGIN:VEVENT
DTSTART;TZID=UTC:20221206T080000
DTEND;TZID=UTC:20221206T170000
DTSTAMP:20260425T120812
CREATED:20220712T235311Z
LAST-MODIFIED:20220712T235311Z
UID:13452-1670313600-1670346000@saintpiusxchurch.com
SUMMARY:RE Classes In Session 1st– 4th Grade 3:30 – 5:00pm                                                    Christmas Pageant Final Rehearsal
DESCRIPTION:
URL:http://saintpiusxchurch.com/wp/event/re-classes-in-session-1st-4th-grade-330-500pm-christmas-pageant-final-rehearsal/
END:VEVENT
BEGIN:VEVENT
DTSTART;TZID=UTC:20221207T080000
DTEND;TZID=UTC:20221207T170000
DTSTAMP:20260425T120812
CREATED:20220712T235336Z
LAST-MODIFIED:20221027T191839Z
UID:13454-1670400000-1670432400@saintpiusxchurch.com
SUMMARY:Vigil Mass – Solemnity of Immaculate Conception of Mary – 4:00pm
DESCRIPTION:
URL:http://saintpiusxchurch.com/wp/event/anticipated-mass-feast-of-immaculate-conception-400pm/
END:VEVENT
BEGIN:VEVENT
DTSTART;TZID=UTC:20221208T080000
DTEND;TZID=UTC:20221208T170000
DTSTAMP:20260425T120812
CREATED:20220712T235358Z
LAST-MODIFIED:20221027T191744Z
UID:13456-1670486400-1670518800@saintpiusxchurch.com
SUMMARY:Solemnity of the Immaculate Conception of Mary Masses – 8:00am\, 11:30am and 7:00pm (Parish Office Closed)
DESCRIPTION:
URL:http://saintpiusxchurch.com/wp/event/feast-of-the-immaculate-conceptionparish-office-closed-mass-700pm/
END:VEVENT
BEGIN:VEVENT
DTSTART;TZID=UTC:20221209T080000
DTEND;TZID=UTC:20221209T170000
DTSTAMP:20260425T120812
CREATED:20220712T221842Z
LAST-MODIFIED:20220712T221842Z
UID:13123-1670572800-1670605200@saintpiusxchurch.com
SUMMARY:Parish Office Closed
DESCRIPTION:
URL:http://saintpiusxchurch.com/wp/event/parish-office-closed-427/
END:VEVENT
BEGIN:VEVENT
DTSTART;TZID=UTC:20221210T080000
DTEND;TZID=UTC:20221210T170000
DTSTAMP:20260425T120812
CREATED:20220712T215159Z
LAST-MODIFIED:20220712T215159Z
UID:13034-1670659200-1670691600@saintpiusxchurch.com
SUMMARY:9:00am Mass                                     5:00pm Vigil Mass
DESCRIPTION:
URL:http://saintpiusxchurch.com/wp/event/900am-mass-500pm-vigil-mass-66/
END:VEVENT
BEGIN:VEVENT
DTSTART;TZID=UTC:20221210T080000
DTEND;TZID=UTC:20221210T170000
DTSTAMP:20260425T120812
CREATED:20220712T235428Z
LAST-MODIFIED:20220712T235428Z
UID:13458-1670659200-1670691600@saintpiusxchurch.com
SUMMARY:8th Grade Christmas Bake Sale (after 5:00pm mass)
DESCRIPTION:
URL:http://saintpiusxchurch.com/wp/event/8th-grade-christmas-bake-sale-after-500pm-mass-2/
END:VEVENT
END:VCALENDAR