BEGIN:VCALENDAR
VERSION:2.0
PRODID:-//Church of Saint Pius X - ECPv6.15.20//NONSGML v1.0//EN
CALSCALE:GREGORIAN
METHOD:PUBLISH
X-ORIGINAL-URL:http://saintpiusxchurch.com/wp
X-WR-CALDESC:Events for Church of Saint Pius X
REFRESH-INTERVAL;VALUE=DURATION:PT1H
X-Robots-Tag:noindex
X-PUBLISHED-TTL:PT1H
BEGIN:VTIMEZONE
TZID:UTC
BEGIN:STANDARD
TZOFFSETFROM:+0000
TZOFFSETTO:+0000
TZNAME:UTC
DTSTART:20210101T000000
END:STANDARD
END:VTIMEZONE
BEGIN:VEVENT
DTSTART;TZID=UTC:20220404T080000
DTEND;TZID=UTC:20220404T170000
DTSTAMP:20260424T123241
CREATED:20211104T222742Z
LAST-MODIFIED:20220319T204155Z
UID:12378-1649059200-1649091600@saintpiusxchurch.com
SUMMARY:Lifting Up Westchester - 7th and 8th Grade Community Service Project (classtime)
DESCRIPTION:
URL:http://saintpiusxchurch.com/wp/event/breakfast-run-7th-and-8th-grade/
END:VEVENT
BEGIN:VEVENT
DTSTART;TZID=UTC:20220404T080000
DTEND;TZID=UTC:20220404T170000
DTSTAMP:20260424T123241
CREATED:20220215T214037Z
LAST-MODIFIED:20220215T214037Z
UID:12635-1649059200-1649091600@saintpiusxchurch.com
SUMMARY:Rosary Devotion after 11:30am Mass
DESCRIPTION:
URL:http://saintpiusxchurch.com/wp/event/rosary-devotion-after-1130am-mass-36/
END:VEVENT
BEGIN:VEVENT
DTSTART;TZID=UTC:20220405T080000
DTEND;TZID=UTC:20220405T170000
DTSTAMP:20260424T123241
CREATED:20210928T215713Z
LAST-MODIFIED:20210928T215713Z
UID:12247-1649145600-1649178000@saintpiusxchurch.com
SUMMARY:RE in Session - 1st\, 2nd and 4th Grade 3:30pm – 5:00pm (in person)
DESCRIPTION:
URL:http://saintpiusxchurch.com/wp/event/re-in-session-1st-2nd-and-4th-grade-330pm-500pm-in-person-4/
END:VEVENT
BEGIN:VEVENT
DTSTART;TZID=UTC:20220405T080000
DTEND;TZID=UTC:20220405T170000
DTSTAMP:20260424T123241
CREATED:20220215T211232Z
LAST-MODIFIED:20220215T211232Z
UID:12563-1649145600-1649178000@saintpiusxchurch.com
SUMMARY:Stations of the Cross – 7:30pm
DESCRIPTION:
URL:http://saintpiusxchurch.com/wp/event/stations-of-the-cross-730pm-6/
END:VEVENT
BEGIN:VEVENT
DTSTART;TZID=UTC:20220405T080000
DTEND;TZID=UTC:20220405T170000
DTSTAMP:20260424T123241
CREATED:20220215T214102Z
LAST-MODIFIED:20220215T214102Z
UID:12639-1649145600-1649178000@saintpiusxchurch.com
SUMMARY:Rosary Devotion after 11:30am Mass
DESCRIPTION:
URL:http://saintpiusxchurch.com/wp/event/rosary-devotion-after-1130am-mass-38/
END:VEVENT
BEGIN:VEVENT
DTSTART;TZID=UTC:20220406T080000
DTEND;TZID=UTC:20220406T170000
DTSTAMP:20260424T123241
CREATED:20210928T213940Z
LAST-MODIFIED:20210928T213940Z
UID:12229-1649232000-1649264400@saintpiusxchurch.com
SUMMARY:RE 3rd Grade in Session 3:30pm – 4:30pm (virtual via zoom)
DESCRIPTION:
URL:http://saintpiusxchurch.com/wp/event/re-3rd-grade-in-session-330pm-430pm-virtual-via-zoom-19/
END:VEVENT
BEGIN:VEVENT
DTSTART;TZID=UTC:20220406T080000
DTEND;TZID=UTC:20220406T170000
DTSTAMP:20260424T123241
CREATED:20220215T214115Z
LAST-MODIFIED:20220215T214115Z
UID:12641-1649232000-1649264400@saintpiusxchurch.com
SUMMARY:Rosary Devotion after 11:30am Mass
DESCRIPTION:
URL:http://saintpiusxchurch.com/wp/event/rosary-devotion-after-1130am-mass-39/
END:VEVENT
BEGIN:VEVENT
DTSTART;TZID=UTC:20220406T080000
DTEND;TZID=UTC:20220406T170000
DTSTAMP:20260424T123241
CREATED:20220328T220104Z
LAST-MODIFIED:20220328T220336Z
UID:12860-1649232000-1649264400@saintpiusxchurch.com
SUMMARY:Confirmation Candidates Group Interview with Father Sebastian (via zoom)
DESCRIPTION:
URL:http://saintpiusxchurch.com/wp/event/confirmation-candidates-in-person-recitation-of-act-of-contrition-nicene-creed-and-ten-commandments-with-father-sebastian-2/
END:VEVENT
BEGIN:VEVENT
DTSTART;TZID=UTC:20220407T080000
DTEND;TZID=UTC:20220407T170000
DTSTAMP:20260424T123241
CREATED:20220215T214129Z
LAST-MODIFIED:20220215T214129Z
UID:12643-1649318400-1649350800@saintpiusxchurch.com
SUMMARY:Rosary Devotion after 11:30am Mass
DESCRIPTION:
URL:http://saintpiusxchurch.com/wp/event/rosary-devotion-after-1130am-mass-40/
END:VEVENT
BEGIN:VEVENT
DTSTART;TZID=UTC:20220408T080000
DTEND;TZID=UTC:20220408T170000
DTSTAMP:20260424T123241
CREATED:20210713T194537Z
LAST-MODIFIED:20210713T194537Z
UID:11273-1649404800-1649437200@saintpiusxchurch.com
SUMMARY:Parish Office Closed
DESCRIPTION:
URL:http://saintpiusxchurch.com/wp/event/parish-office-closed-389/
END:VEVENT
BEGIN:VEVENT
DTSTART;TZID=UTC:20220408T080000
DTEND;TZID=UTC:20220408T170000
DTSTAMP:20260424T123241
CREATED:20220215T214143Z
LAST-MODIFIED:20220215T214143Z
UID:12645-1649404800-1649437200@saintpiusxchurch.com
SUMMARY:Rosary Devotion after 11:30am Mass
DESCRIPTION:
URL:http://saintpiusxchurch.com/wp/event/rosary-devotion-after-1130am-mass-41/
END:VEVENT
BEGIN:VEVENT
DTSTART;TZID=UTC:20220409T080000
DTEND;TZID=UTC:20220409T170000
DTSTAMP:20260424T123241
CREATED:20210713T202922Z
LAST-MODIFIED:20210713T202922Z
UID:11374-1649491200-1649523600@saintpiusxchurch.com
SUMMARY:9:00am Mass                                                                    5:00pm Vigil Mass
DESCRIPTION:
URL:http://saintpiusxchurch.com/wp/event/900am-mass-500pm-vigil-mass-30/
END:VEVENT
BEGIN:VEVENT
DTSTART;TZID=UTC:20220410T080000
DTEND;TZID=UTC:20220410T170000
DTSTAMP:20260424T123241
CREATED:20210713T231535Z
LAST-MODIFIED:20220208T200145Z
UID:11740-1649577600-1649610000@saintpiusxchurch.com
SUMMARY:Lenten Food Drive (last day)
DESCRIPTION:
URL:http://saintpiusxchurch.com/wp/event/lenten-food-drive-last-day/
END:VEVENT
BEGIN:VEVENT
DTSTART;TZID=UTC:20220410T080000
DTEND;TZID=UTC:20220410T170000
DTSTAMP:20260424T123241
CREATED:20210715T182538Z
LAST-MODIFIED:20210715T182538Z
UID:11770-1649577600-1649610000@saintpiusxchurch.com
SUMMARY:Palm Sunday                                                                         No Kindergarten
DESCRIPTION:
URL:http://saintpiusxchurch.com/wp/event/palm-sunday-no-kindergarten-2/
END:VEVENT
BEGIN:VEVENT
DTSTART;TZID=UTC:20220410T080000
DTEND;TZID=UTC:20220410T170000
DTSTAMP:20260424T123241
CREATED:20220216T021110Z
LAST-MODIFIED:20220216T021110Z
UID:12788-1649577600-1649610000@saintpiusxchurch.com
SUMMARY:Procession of Children - 10:30am
DESCRIPTION:
URL:http://saintpiusxchurch.com/wp/event/procession-of-children-1030am/
END:VEVENT
BEGIN:VEVENT
DTSTART;TZID=UTC:20220410T080000
DTEND;TZID=UTC:20220410T170000
DTSTAMP:20260424T123241
CREATED:20220216T021258Z
LAST-MODIFIED:20220216T021258Z
UID:12790-1649577600-1649610000@saintpiusxchurch.com
SUMMARY:Palm Sunday Masses - 8:00am\, 9:15am\, 10:30am and 12:00pm
DESCRIPTION:
URL:http://saintpiusxchurch.com/wp/event/palm-sunday-masses-800am-915am-1030am-and-1200pm/
END:VEVENT
BEGIN:VEVENT
DTSTART;TZID=UTC:20220411T080000
DTEND;TZID=UTC:20220411T170000
DTSTAMP:20260424T123241
CREATED:20210715T182700Z
LAST-MODIFIED:20210715T182700Z
UID:11774-1649664000-1649696400@saintpiusxchurch.com
SUMMARY:Parish Council Meeting – 8:00pm
DESCRIPTION:
URL:http://saintpiusxchurch.com/wp/event/parish-council-meeting-800pm/
END:VEVENT
BEGIN:VEVENT
DTSTART;TZID=UTC:20220411T080000
DTEND;TZID=UTC:20220411T170000
DTSTAMP:20260424T123241
CREATED:20210929T201220Z
LAST-MODIFIED:20210929T205607Z
UID:12300-1649664000-1649696400@saintpiusxchurch.com
SUMMARY:No RE Spring Recess
DESCRIPTION:
URL:http://saintpiusxchurch.com/wp/event/re-in-session-330-500pm-5th-6th-and-7th-gradein-person-6/
END:VEVENT
BEGIN:VEVENT
DTSTART;TZID=UTC:20220411T080000
DTEND;TZID=UTC:20220411T170000
DTSTAMP:20260424T123241
CREATED:20220215T214155Z
LAST-MODIFIED:20220215T214155Z
UID:12647-1649664000-1649696400@saintpiusxchurch.com
SUMMARY:Rosary Devotion after 11:30am Mass
DESCRIPTION:
URL:http://saintpiusxchurch.com/wp/event/rosary-devotion-after-1130am-mass-42/
END:VEVENT
BEGIN:VEVENT
DTSTART;TZID=UTC:20220411T080000
DTEND;TZID=UTC:20220411T170000
DTSTAMP:20260424T123241
CREATED:20220216T021622Z
LAST-MODIFIED:20220216T021622Z
UID:12792-1649664000-1649696400@saintpiusxchurch.com
SUMMARY:Reconciliation(Confession) - 5:00 - 7:00pm
DESCRIPTION:
URL:http://saintpiusxchurch.com/wp/event/reconciliationconfession-500-700pm/
END:VEVENT
BEGIN:VEVENT
DTSTART;TZID=UTC:20220412T080000
DTEND;TZID=UTC:20220412T170000
DTSTAMP:20260424T123241
CREATED:20210928T215738Z
LAST-MODIFIED:20210929T205346Z
UID:12249-1649750400-1649782800@saintpiusxchurch.com
SUMMARY:No RE Spring Recess
DESCRIPTION:
URL:http://saintpiusxchurch.com/wp/event/re-in-session-1st-2nd-and-4th-grade-330pm-500pm-in-person-5/
END:VEVENT
BEGIN:VEVENT
DTSTART;TZID=UTC:20220412T080000
DTEND;TZID=UTC:20220412T170000
DTSTAMP:20260424T123241
CREATED:20220215T214205Z
LAST-MODIFIED:20220215T214205Z
UID:12649-1649750400-1649782800@saintpiusxchurch.com
SUMMARY:Rosary Devotion after 11:30am Mass
DESCRIPTION:
URL:http://saintpiusxchurch.com/wp/event/rosary-devotion-after-1130am-mass-43/
END:VEVENT
BEGIN:VEVENT
DTSTART;TZID=UTC:20220413T080000
DTEND;TZID=UTC:20220413T170000
DTSTAMP:20260424T123241
CREATED:20210928T214001Z
LAST-MODIFIED:20210929T205222Z
UID:12231-1649836800-1649869200@saintpiusxchurch.com
SUMMARY:No RE Spring Recess
DESCRIPTION:
URL:http://saintpiusxchurch.com/wp/event/re-3rd-grade-in-session-330pm-430pm-virtual-via-zoom-20/
END:VEVENT
BEGIN:VEVENT
DTSTART;TZID=UTC:20220413T080000
DTEND;TZID=UTC:20220413T170000
DTSTAMP:20260424T123241
CREATED:20220215T214217Z
LAST-MODIFIED:20220215T214217Z
UID:12651-1649836800-1649869200@saintpiusxchurch.com
SUMMARY:Rosary Devotion after 11:30am Mass
DESCRIPTION:
URL:http://saintpiusxchurch.com/wp/event/rosary-devotion-after-1130am-mass-44/
END:VEVENT
BEGIN:VEVENT
DTSTART;TZID=UTC:20220414T080000
DTEND;TZID=UTC:20220414T170000
DTSTAMP:20260424T123241
CREATED:20210715T183052Z
LAST-MODIFIED:20210715T183052Z
UID:11778-1649923200-1649955600@saintpiusxchurch.com
SUMMARY:Choir Rehearsal – 6:30pm
DESCRIPTION:
URL:http://saintpiusxchurch.com/wp/event/choir-rehearsal-630pm/
END:VEVENT
BEGIN:VEVENT
DTSTART;TZID=UTC:20220414T080000
DTEND;TZID=UTC:20220414T170000
DTSTAMP:20260424T123241
CREATED:20210715T183144Z
LAST-MODIFIED:20210715T183144Z
UID:11780-1649923200-1649955600@saintpiusxchurch.com
SUMMARY:Mass of the Lord’s Supper-8pm                                                                                                                 Adoration at the Altar of Repose at Mary’s Chapel-after Mass until 11:00pm
DESCRIPTION:
URL:http://saintpiusxchurch.com/wp/event/mass-of-the-lords-supper-8pm-adoration-at-the-altar-of-repose-at-marys/
END:VEVENT
BEGIN:VEVENT
DTSTART;TZID=UTC:20220414T080000
DTEND;TZID=UTC:20220414T170000
DTSTAMP:20260424T123241
CREATED:20210715T183332Z
LAST-MODIFIED:20210715T183332Z
UID:11784-1649923200-1649955600@saintpiusxchurch.com
SUMMARY:No Bible Study/Parish Office Closed
DESCRIPTION:
URL:http://saintpiusxchurch.com/wp/event/no-bible-study-parish-office-closed-2/
END:VEVENT
BEGIN:VEVENT
DTSTART;TZID=UTC:20220414T080000
DTEND;TZID=UTC:20220414T170000
DTSTAMP:20260424T123241
CREATED:20220215T214227Z
LAST-MODIFIED:20220215T214227Z
UID:12653-1649923200-1649955600@saintpiusxchurch.com
SUMMARY:Rosary Devotion after 11:30am Mass
DESCRIPTION:
URL:http://saintpiusxchurch.com/wp/event/rosary-devotion-after-1130am-mass-45/
END:VEVENT
BEGIN:VEVENT
DTSTART;TZID=UTC:20220415T080000
DTEND;TZID=UTC:20220415T170000
DTSTAMP:20260424T123241
CREATED:20210713T194617Z
LAST-MODIFIED:20210713T194617Z
UID:11275-1650009600-1650042000@saintpiusxchurch.com
SUMMARY:Parish Office Closed
DESCRIPTION:
URL:http://saintpiusxchurch.com/wp/event/parish-office-closed-390/
END:VEVENT
BEGIN:VEVENT
DTSTART;TZID=UTC:20220415T080000
DTEND;TZID=UTC:20220415T170000
DTSTAMP:20260424T123241
CREATED:20210715T183415Z
LAST-MODIFIED:20210715T183415Z
UID:11786-1650009600-1650042000@saintpiusxchurch.com
SUMMARY:Good Friday                              Way of the Cross for Children -10:00am
DESCRIPTION:
URL:http://saintpiusxchurch.com/wp/event/good-friday-way-of-the-cross-for-children-1000am-2/
END:VEVENT
END:VCALENDAR