BEGIN:VCALENDAR
VERSION:2.0
PRODID:-//Church of Saint Pius X - ECPv6.15.20//NONSGML v1.0//EN
CALSCALE:GREGORIAN
METHOD:PUBLISH
X-ORIGINAL-URL:http://saintpiusxchurch.com/wp
X-WR-CALDESC:Events for Church of Saint Pius X
REFRESH-INTERVAL;VALUE=DURATION:PT1H
X-Robots-Tag:noindex
X-PUBLISHED-TTL:PT1H
BEGIN:VTIMEZONE
TZID:UTC
BEGIN:STANDARD
TZOFFSETFROM:+0000
TZOFFSETTO:+0000
TZNAME:UTC
DTSTART:20210101T000000
END:STANDARD
END:VTIMEZONE
BEGIN:VEVENT
DTSTART;TZID=UTC:20220505T080000
DTEND;TZID=UTC:20220505T170000
DTSTAMP:20260424T092613
CREATED:20220215T214604Z
LAST-MODIFIED:20220215T214604Z
UID:12683-1651737600-1651770000@saintpiusxchurch.com
SUMMARY:Rosary Devotion after 11:30am Mass
DESCRIPTION:
URL:http://saintpiusxchurch.com/wp/event/rosary-devotion-after-1130am-mass-60/
END:VEVENT
BEGIN:VEVENT
DTSTART;TZID=UTC:20220506T080000
DTEND;TZID=UTC:20220506T170000
DTSTAMP:20260424T092613
CREATED:20210713T194753Z
LAST-MODIFIED:20210713T194753Z
UID:11281-1651824000-1651856400@saintpiusxchurch.com
SUMMARY:Parish Office Closed
DESCRIPTION:
URL:http://saintpiusxchurch.com/wp/event/parish-office-closed-393/
END:VEVENT
BEGIN:VEVENT
DTSTART;TZID=UTC:20220506T080000
DTEND;TZID=UTC:20220506T170000
DTSTAMP:20260424T092613
CREATED:20220215T214617Z
LAST-MODIFIED:20220215T214617Z
UID:12685-1651824000-1651856400@saintpiusxchurch.com
SUMMARY:Rosary Devotion after 11:30am Mass
DESCRIPTION:
URL:http://saintpiusxchurch.com/wp/event/rosary-devotion-after-1130am-mass-61/
END:VEVENT
BEGIN:VEVENT
DTSTART;TZID=UTC:20220507T080000
DTEND;TZID=UTC:20220507T170000
DTSTAMP:20260424T092613
CREATED:20210713T203202Z
LAST-MODIFIED:20210713T203202Z
UID:11382-1651910400-1651942800@saintpiusxchurch.com
SUMMARY:9:00am Mass                                                                    5:00pm Vigil Mass
DESCRIPTION:
URL:http://saintpiusxchurch.com/wp/event/900am-mass-500pm-vigil-mass-34/
END:VEVENT
BEGIN:VEVENT
DTSTART;TZID=UTC:20220507T080000
DTEND;TZID=UTC:20220507T170000
DTSTAMP:20260424T092613
CREATED:20220203T000426Z
LAST-MODIFIED:20220203T000426Z
UID:12541-1651910400-1651942800@saintpiusxchurch.com
SUMMARY:Confirmation Liturgy - 10:30am
DESCRIPTION:
URL:http://saintpiusxchurch.com/wp/event/confirmation-liturgy-1030am-5/
END:VEVENT
BEGIN:VEVENT
DTSTART;TZID=UTC:20220508T080000
DTEND;TZID=UTC:20220508T170000
DTSTAMP:20260424T092613
CREATED:20210715T184712Z
LAST-MODIFIED:20210927T054410Z
UID:11814-1651996800-1652029200@saintpiusxchurch.com
SUMMARY:Kindergarten in Session 9-15-10:15am(in person)
DESCRIPTION:
URL:http://saintpiusxchurch.com/wp/event/kindergarten-in-session-9-15-1015am/
END:VEVENT
BEGIN:VEVENT
DTSTART;TZID=UTC:20220508T080000
DTEND;TZID=UTC:20220508T170000
DTSTAMP:20260424T092613
CREATED:20210715T184959Z
LAST-MODIFIED:20210715T184959Z
UID:11822-1651996800-1652029200@saintpiusxchurch.com
SUMMARY:May Flower Offering by Children-10:30am mass
DESCRIPTION:
URL:http://saintpiusxchurch.com/wp/event/may-flower-offering-by-children-1030am-mass-14/
END:VEVENT
BEGIN:VEVENT
DTSTART;TZID=UTC:20220508T080000
DTEND;TZID=UTC:20220508T170000
DTSTAMP:20260424T092613
CREATED:20210715T185028Z
LAST-MODIFIED:20210715T185028Z
UID:11824-1651996800-1652029200@saintpiusxchurch.com
SUMMARY:Mother’s Day
DESCRIPTION:
URL:http://saintpiusxchurch.com/wp/event/mothers-day-6/
END:VEVENT
BEGIN:VEVENT
DTSTART;TZID=UTC:20220509T080000
DTEND;TZID=UTC:20220509T170000
DTSTAMP:20260424T092613
CREATED:20210713T212645Z
LAST-MODIFIED:20210927T054156Z
UID:11468-1652083200-1652115600@saintpiusxchurch.com
SUMMARY:RE in Session 3:30 – 5:00pm    5th\, 6th and 7th(in person)
DESCRIPTION:
URL:http://saintpiusxchurch.com/wp/event/re-in-session-330-500pm-5th-8th-grade-23/
END:VEVENT
BEGIN:VEVENT
DTSTART;TZID=UTC:20220509T080000
DTEND;TZID=UTC:20220509T170000
DTSTAMP:20260424T092613
CREATED:20210715T185104Z
LAST-MODIFIED:20210715T185104Z
UID:11826-1652083200-1652115600@saintpiusxchurch.com
SUMMARY:Parish Council Meeting 8:00pm Pavilion
DESCRIPTION:
URL:http://saintpiusxchurch.com/wp/event/parish-council-meeting-800pm-pavilion-19/
END:VEVENT
BEGIN:VEVENT
DTSTART;TZID=UTC:20220509T080000
DTEND;TZID=UTC:20220509T170000
DTSTAMP:20260424T092613
CREATED:20220215T214631Z
LAST-MODIFIED:20220215T214631Z
UID:12687-1652083200-1652115600@saintpiusxchurch.com
SUMMARY:Rosary Devotion after 11:30am Mass
DESCRIPTION:
URL:http://saintpiusxchurch.com/wp/event/rosary-devotion-after-1130am-mass-62/
END:VEVENT
BEGIN:VEVENT
DTSTART;TZID=UTC:20220510T080000
DTEND;TZID=UTC:20220510T170000
DTSTAMP:20260424T092613
CREATED:20210713T214252Z
LAST-MODIFIED:20210926T041112Z
UID:11524-1652169600-1652202000@saintpiusxchurch.com
SUMMARY:RE in Session 3:30pm– 5:00pm     1st\, 2nd and 4th Grade (in person)
DESCRIPTION:
URL:http://saintpiusxchurch.com/wp/event/re-in-session-330-500pm-1st-4th-grade-27/
END:VEVENT
BEGIN:VEVENT
DTSTART;TZID=UTC:20220510T080000
DTEND;TZID=UTC:20220510T170000
DTSTAMP:20260424T092613
CREATED:20220215T214643Z
LAST-MODIFIED:20220215T214643Z
UID:12689-1652169600-1652202000@saintpiusxchurch.com
SUMMARY:Rosary Devotion after 11:30am Mass
DESCRIPTION:
URL:http://saintpiusxchurch.com/wp/event/rosary-devotion-after-1130am-mass-63/
END:VEVENT
BEGIN:VEVENT
DTSTART;TZID=UTC:20220510T080000
DTEND;TZID=UTC:20220510T170000
DTSTAMP:20260424T092613
CREATED:20220215T214657Z
LAST-MODIFIED:20220215T214657Z
UID:12691-1652169600-1652202000@saintpiusxchurch.com
SUMMARY:Rosary Devotion after 11:30am Mass
DESCRIPTION:
URL:http://saintpiusxchurch.com/wp/event/rosary-devotion-after-1130am-mass-64/
END:VEVENT
BEGIN:VEVENT
DTSTART;TZID=UTC:20220511T080000
DTEND;TZID=UTC:20220511T170000
DTSTAMP:20260424T092613
CREATED:20210926T034602Z
LAST-MODIFIED:20210926T034602Z
UID:12038-1652256000-1652288400@saintpiusxchurch.com
SUMMARY:RE 3rd Grade in Session 3:30pm - 4:30pm (virtual via zoom)
DESCRIPTION:
URL:http://saintpiusxchurch.com/wp/event/re-3rd-grade-in-session-330pm-430pm-virtual-via-zoom-23/
END:VEVENT
BEGIN:VEVENT
DTSTART;TZID=UTC:20220511T080000
DTEND;TZID=UTC:20220511T170000
DTSTAMP:20260424T092613
CREATED:20220215T214709Z
LAST-MODIFIED:20220215T214709Z
UID:12693-1652256000-1652288400@saintpiusxchurch.com
SUMMARY:Rosary Devotion after 11:30am Mass
DESCRIPTION:
URL:http://saintpiusxchurch.com/wp/event/rosary-devotion-after-1130am-mass-65/
END:VEVENT
BEGIN:VEVENT
DTSTART;TZID=UTC:20220512T080000
DTEND;TZID=UTC:20220512T170000
DTSTAMP:20260424T092613
CREATED:20220215T214722Z
LAST-MODIFIED:20220215T214722Z
UID:12695-1652342400-1652374800@saintpiusxchurch.com
SUMMARY:Rosary Devotion after 11:30am Mass
DESCRIPTION:
URL:http://saintpiusxchurch.com/wp/event/rosary-devotion-after-1130am-mass-66/
END:VEVENT
BEGIN:VEVENT
DTSTART;TZID=UTC:20220513T080000
DTEND;TZID=UTC:20220513T170000
DTSTAMP:20260424T092613
CREATED:20210713T194827Z
LAST-MODIFIED:20210713T194827Z
UID:11283-1652428800-1652461200@saintpiusxchurch.com
SUMMARY:Parish Office Closed
DESCRIPTION:
URL:http://saintpiusxchurch.com/wp/event/parish-office-closed-394/
END:VEVENT
BEGIN:VEVENT
DTSTART;TZID=UTC:20220513T080000
DTEND;TZID=UTC:20220513T170000
DTSTAMP:20260424T092613
CREATED:20220215T214740Z
LAST-MODIFIED:20220215T214740Z
UID:12697-1652428800-1652461200@saintpiusxchurch.com
SUMMARY:Rosary Devotion after 11:30am Mass
DESCRIPTION:
URL:http://saintpiusxchurch.com/wp/event/rosary-devotion-after-1130am-mass-67/
END:VEVENT
BEGIN:VEVENT
DTSTART;TZID=UTC:20220514T080000
DTEND;TZID=UTC:20220514T170000
DTSTAMP:20260424T092613
CREATED:20210713T203229Z
LAST-MODIFIED:20210713T203229Z
UID:11384-1652515200-1652547600@saintpiusxchurch.com
SUMMARY:9:00am Mass                                                                    5:00pm Vigil Mass
DESCRIPTION:
URL:http://saintpiusxchurch.com/wp/event/900am-mass-500pm-vigil-mass-35/
END:VEVENT
BEGIN:VEVENT
DTSTART;TZID=UTC:20220514T080000
DTEND;TZID=UTC:20220514T170000
DTSTAMP:20260424T092613
CREATED:20220203T000527Z
LAST-MODIFIED:20220203T000527Z
UID:12543-1652515200-1652547600@saintpiusxchurch.com
SUMMARY:First Communion Liturgy - 10:00am
DESCRIPTION:
URL:http://saintpiusxchurch.com/wp/event/first-communion-liturgy-1000am/
END:VEVENT
BEGIN:VEVENT
DTSTART;TZID=UTC:20220514T080000
DTEND;TZID=UTC:20220514T170000
DTSTAMP:20260424T092613
CREATED:20220203T000557Z
LAST-MODIFIED:20220203T000557Z
UID:12545-1652515200-1652547600@saintpiusxchurch.com
SUMMARY:First Communion Liturgy - 12:00pm
DESCRIPTION:
URL:http://saintpiusxchurch.com/wp/event/first-communion-liturgy-1200pm/
END:VEVENT
BEGIN:VEVENT
DTSTART;TZID=UTC:20220515T080000
DTEND;TZID=UTC:20220515T170000
DTSTAMP:20260424T092613
CREATED:20210715T184803Z
LAST-MODIFIED:20210927T054056Z
UID:11816-1652601600-1652634000@saintpiusxchurch.com
SUMMARY:Kindergarten in Session 9:15 -10:15am - in person (Last Day)
DESCRIPTION:
URL:http://saintpiusxchurch.com/wp/event/kindergarten-in-session-915-1015am-last-day/
END:VEVENT
BEGIN:VEVENT
DTSTART;TZID=UTC:20220515T080000
DTEND;TZID=UTC:20220515T170000
DTSTAMP:20260424T092613
CREATED:20210715T185721Z
LAST-MODIFIED:20210715T185721Z
UID:11834-1652601600-1652634000@saintpiusxchurch.com
SUMMARY:May Flower Offering by Children-10:30am mass
DESCRIPTION:
URL:http://saintpiusxchurch.com/wp/event/may-flower-offering-by-children-1030am-mass-15/
END:VEVENT
BEGIN:VEVENT
DTSTART;TZID=UTC:20220516T080000
DTEND;TZID=UTC:20220516T170000
DTSTAMP:20260424T092613
CREATED:20210713T212717Z
LAST-MODIFIED:20210927T054250Z
UID:11470-1652688000-1652720400@saintpiusxchurch.com
SUMMARY:RE in Session 3:30 – 5:00pm    5th\, 6th and 7th Grade(in person) last day
DESCRIPTION:
URL:http://saintpiusxchurch.com/wp/event/re-in-session-330-500pm-5th-8th-grade-24/
END:VEVENT
BEGIN:VEVENT
DTSTART;TZID=UTC:20220516T080000
DTEND;TZID=UTC:20220516T170000
DTSTAMP:20260424T092613
CREATED:20220215T214753Z
LAST-MODIFIED:20220215T214753Z
UID:12699-1652688000-1652720400@saintpiusxchurch.com
SUMMARY:Rosary Devotion after 11:30am Mass
DESCRIPTION:
URL:http://saintpiusxchurch.com/wp/event/rosary-devotion-after-1130am-mass-68/
END:VEVENT
BEGIN:VEVENT
DTSTART;TZID=UTC:20220517T080000
DTEND;TZID=UTC:20220517T170000
DTSTAMP:20260424T092613
CREATED:20210713T214320Z
LAST-MODIFIED:20220216T004130Z
UID:11526-1652774400-1652806800@saintpiusxchurch.com
SUMMARY:RE in Session(last day)  3:30pm– 5:00pm     1st\, 2nd and 4th Grade (in person)
DESCRIPTION:
URL:http://saintpiusxchurch.com/wp/event/re-in-session-330-500pm-1st-4th-grade-28/
END:VEVENT
BEGIN:VEVENT
DTSTART;TZID=UTC:20220517T080000
DTEND;TZID=UTC:20220517T170000
DTSTAMP:20260424T092613
CREATED:20220215T214805Z
LAST-MODIFIED:20220215T214805Z
UID:12701-1652774400-1652806800@saintpiusxchurch.com
SUMMARY:Rosary Devotion after 11:30am Mass
DESCRIPTION:
URL:http://saintpiusxchurch.com/wp/event/rosary-devotion-after-1130am-mass-69/
END:VEVENT
BEGIN:VEVENT
DTSTART;TZID=UTC:20220518T080000
DTEND;TZID=UTC:20220518T170000
DTSTAMP:20260424T092613
CREATED:20210926T034701Z
LAST-MODIFIED:20210926T034701Z
UID:12040-1652860800-1652893200@saintpiusxchurch.com
SUMMARY:RE 3rd Grade in Session 3:30pm - 4:30pm (virtual via zoom- last day)
DESCRIPTION:
URL:http://saintpiusxchurch.com/wp/event/re-3rd-grade-in-session-330pm-430pm-virtual-via-zoom-last-day/
END:VEVENT
BEGIN:VEVENT
DTSTART;TZID=UTC:20220518T080000
DTEND;TZID=UTC:20220518T170000
DTSTAMP:20260424T092613
CREATED:20220215T214821Z
LAST-MODIFIED:20220215T214821Z
UID:12703-1652860800-1652893200@saintpiusxchurch.com
SUMMARY:Rosary Devotion after 11:30am Mass
DESCRIPTION:
URL:http://saintpiusxchurch.com/wp/event/rosary-devotion-after-1130am-mass-70/
END:VEVENT
END:VCALENDAR