BEGIN:VCALENDAR
VERSION:2.0
PRODID:-//Church of Saint Pius X - ECPv6.15.20//NONSGML v1.0//EN
CALSCALE:GREGORIAN
METHOD:PUBLISH
X-ORIGINAL-URL:http://saintpiusxchurch.com/wp
X-WR-CALDESC:Events for Church of Saint Pius X
REFRESH-INTERVAL;VALUE=DURATION:PT1H
X-Robots-Tag:noindex
X-PUBLISHED-TTL:PT1H
BEGIN:VTIMEZONE
TZID:UTC
BEGIN:STANDARD
TZOFFSETFROM:+0000
TZOFFSETTO:+0000
TZNAME:UTC
DTSTART:20210101T000000
END:STANDARD
END:VTIMEZONE
BEGIN:VEVENT
DTSTART;TZID=UTC:20220723T080000
DTEND;TZID=UTC:20220723T170000
DTSTAMP:20260424T055757
CREATED:20210713T203834Z
LAST-MODIFIED:20210713T203834Z
UID:11404-1658563200-1658595600@saintpiusxchurch.com
SUMMARY:9:00am Mass                                                                    5:00pm Vigil Mass
DESCRIPTION:
URL:http://saintpiusxchurch.com/wp/event/900am-mass-500pm-vigil-mass-45/
END:VEVENT
BEGIN:VEVENT
DTSTART;TZID=UTC:20220725T080000
DTEND;TZID=UTC:20220725T170000
DTSTAMP:20260424T055757
CREATED:20220725T223231Z
LAST-MODIFIED:20220725T223231Z
UID:13898-1658736000-1658768400@saintpiusxchurch.com
SUMMARY:St. Pius X Annual Parish Picnic - after 10:30am Mass(Parish Grounds)
DESCRIPTION:
URL:http://saintpiusxchurch.com/wp/event/st-pius-x-annual-parish-picnic-after-1030am-massparish-grounds/
END:VEVENT
BEGIN:VEVENT
DTSTART;TZID=UTC:20220726T080000
DTEND;TZID=UTC:20220726T170000
DTSTAMP:20260424T055757
CREATED:20220725T195825Z
LAST-MODIFIED:20220725T195825Z
UID:13828-1658822400-1658854800@saintpiusxchurch.com
SUMMARY:Daily Rosary Devotion  ALL ARE WELCOME TO PARTICIPATE  Monday to Friday at 11:00am in Mary's Chapel
DESCRIPTION:
URL:http://saintpiusxchurch.com/wp/event/daily-rosary-devotion-all-are-welcome-to-participate-monday-to-friday-at-1100am-in-marys-chapel/
END:VEVENT
BEGIN:VEVENT
DTSTART;TZID=UTC:20220726T080000
DTEND;TZID=UTC:20220726T170000
DTSTAMP:20260424T055757
CREATED:20220725T200212Z
LAST-MODIFIED:20220725T200212Z
UID:13830-1658822400-1658854800@saintpiusxchurch.com
SUMMARY:Daily Rosary Devotion - 11:00am in Mary's Chapel
DESCRIPTION:
URL:http://saintpiusxchurch.com/wp/event/daily-rosary-devotion-1100am-in-marys-chapel/
END:VEVENT
BEGIN:VEVENT
DTSTART;TZID=UTC:20220727T080000
DTEND;TZID=UTC:20220727T170000
DTSTAMP:20260424T055757
CREATED:20220718T193548Z
LAST-MODIFIED:20220718T193548Z
UID:13794-1658908800-1658941200@saintpiusxchurch.com
SUMMARY:FREE Zumba Class by Maya de Jesus\, Zumba and Sweat and Swagger Instructor - July 27 to October 19\, 2022(Wednesdays - 9:00-9:45am)
DESCRIPTION:
URL:http://saintpiusxchurch.com/wp/event/free-zumba-class-by-maya-de-jesus-zumba-and-sweat-and-swagger-instructor-july-27-to-october-19-2022wednesdays-900-945am/
END:VEVENT
BEGIN:VEVENT
DTSTART;TZID=UTC:20220727T080000
DTEND;TZID=UTC:20220727T170000
DTSTAMP:20260424T055757
CREATED:20220725T210759Z
LAST-MODIFIED:20220725T210759Z
UID:13894-1658908800-1658941200@saintpiusxchurch.com
SUMMARY:Daily Rosary Devotion - 11:00am in Mary's Chapel
DESCRIPTION:
URL:http://saintpiusxchurch.com/wp/event/daily-rosary-devotion-1100am-in-marys-chapel-31/
END:VEVENT
BEGIN:VEVENT
DTSTART;TZID=UTC:20220728T080000
DTEND;TZID=UTC:20220728T170000
DTSTAMP:20260424T055757
CREATED:20220725T205305Z
LAST-MODIFIED:20220725T205305Z
UID:13832-1658995200-1659027600@saintpiusxchurch.com
SUMMARY:Daily Rosary Devotion - 11:00am in Mary's Chapel
DESCRIPTION:
URL:http://saintpiusxchurch.com/wp/event/daily-rosary-devotion-1100am-in-marys-chapel-2/
END:VEVENT
BEGIN:VEVENT
DTSTART;TZID=UTC:20220729T080000
DTEND;TZID=UTC:20220729T170000
DTSTAMP:20260424T055757
CREATED:20210713T195454Z
LAST-MODIFIED:20210713T195454Z
UID:11305-1659081600-1659114000@saintpiusxchurch.com
SUMMARY:Parish Office Closed
DESCRIPTION:
URL:http://saintpiusxchurch.com/wp/event/parish-office-closed-405/
END:VEVENT
BEGIN:VEVENT
DTSTART;TZID=UTC:20220729T080000
DTEND;TZID=UTC:20220729T170000
DTSTAMP:20260424T055757
CREATED:20220725T205321Z
LAST-MODIFIED:20220725T205321Z
UID:13834-1659081600-1659114000@saintpiusxchurch.com
SUMMARY:Daily Rosary Devotion - 11:00am in Mary's Chapel
DESCRIPTION:
URL:http://saintpiusxchurch.com/wp/event/daily-rosary-devotion-1100am-in-marys-chapel-3/
END:VEVENT
BEGIN:VEVENT
DTSTART;TZID=UTC:20220730T080000
DTEND;TZID=UTC:20220730T170000
DTSTAMP:20260424T055757
CREATED:20210713T203859Z
LAST-MODIFIED:20210713T203859Z
UID:11406-1659168000-1659200400@saintpiusxchurch.com
SUMMARY:9:00am Mass                                                                    5:00pm Vigil Mass
DESCRIPTION:
URL:http://saintpiusxchurch.com/wp/event/900am-mass-500pm-vigil-mass-46/
END:VEVENT
BEGIN:VEVENT
DTSTART;TZID=UTC:20220801T080000
DTEND;TZID=UTC:20220801T170000
DTSTAMP:20260424T055757
CREATED:20210715T191118Z
LAST-MODIFIED:20210715T191118Z
UID:11858-1659340800-1659373200@saintpiusxchurch.com
SUMMARY:No Parish Council Meeting
DESCRIPTION:
URL:http://saintpiusxchurch.com/wp/event/no-parish-council-meeting-15/
END:VEVENT
BEGIN:VEVENT
DTSTART;TZID=UTC:20220801T080000
DTEND;TZID=UTC:20220801T170000
DTSTAMP:20260424T055757
CREATED:20210715T191149Z
LAST-MODIFIED:20210715T191149Z
UID:11860-1659340800-1659373200@saintpiusxchurch.com
SUMMARY:Bags to School Project August 1 – 31\, 2022
DESCRIPTION:
URL:http://saintpiusxchurch.com/wp/event/bags-to-school-project-august-1-31-2022/
END:VEVENT
BEGIN:VEVENT
DTSTART;TZID=UTC:20220801T080000
DTEND;TZID=UTC:20220801T170000
DTSTAMP:20260424T055757
CREATED:20220725T210811Z
LAST-MODIFIED:20220725T210811Z
UID:13896-1659340800-1659373200@saintpiusxchurch.com
SUMMARY:Daily Rosary Devotion - 11:00am in Mary's Chapel
DESCRIPTION:
URL:http://saintpiusxchurch.com/wp/event/daily-rosary-devotion-1100am-in-marys-chapel-32/
END:VEVENT
BEGIN:VEVENT
DTSTART;TZID=UTC:20220802T080000
DTEND;TZID=UTC:20220802T170000
DTSTAMP:20260424T055757
CREATED:20220725T205358Z
LAST-MODIFIED:20220725T205358Z
UID:13838-1659427200-1659459600@saintpiusxchurch.com
SUMMARY:Daily Rosary Devotion - 11:00am in Mary's Chapel
DESCRIPTION:
URL:http://saintpiusxchurch.com/wp/event/daily-rosary-devotion-1100am-in-marys-chapel-5/
END:VEVENT
BEGIN:VEVENT
DTSTART;TZID=UTC:20220803T080000
DTEND;TZID=UTC:20220803T170000
DTSTAMP:20260424T055757
CREATED:20220718T194024Z
LAST-MODIFIED:20220718T194024Z
UID:13796-1659513600-1659546000@saintpiusxchurch.com
SUMMARY:FREE Zumba Class by Maya de Jesus\, Zumba and Sweat and Swagger Instructor - (9:00-9:45am)
DESCRIPTION:
URL:http://saintpiusxchurch.com/wp/event/free-zumba-class-by-maya-de-jesus-zumba-and-sweat-and-swagger-instructor-900-945am/
END:VEVENT
BEGIN:VEVENT
DTSTART;TZID=UTC:20220803T080000
DTEND;TZID=UTC:20220803T170000
DTSTAMP:20260424T055757
CREATED:20220725T205412Z
LAST-MODIFIED:20220725T205412Z
UID:13840-1659513600-1659546000@saintpiusxchurch.com
SUMMARY:Daily Rosary Devotion - 11:00am in Mary's Chapel
DESCRIPTION:
URL:http://saintpiusxchurch.com/wp/event/daily-rosary-devotion-1100am-in-marys-chapel-6/
END:VEVENT
BEGIN:VEVENT
DTSTART;TZID=UTC:20220804T080000
DTEND;TZID=UTC:20220804T170000
DTSTAMP:20260424T055757
CREATED:20220725T210439Z
LAST-MODIFIED:20220725T210439Z
UID:13890-1659600000-1659632400@saintpiusxchurch.com
SUMMARY:Daily Rosary Devotion - 11:00am in Mary's Chapel
DESCRIPTION:
URL:http://saintpiusxchurch.com/wp/event/daily-rosary-devotion-1100am-in-marys-chapel-4/
END:VEVENT
BEGIN:VEVENT
DTSTART;TZID=UTC:20220805T080000
DTEND;TZID=UTC:20220805T170000
DTSTAMP:20260424T055757
CREATED:20210715T195753Z
LAST-MODIFIED:20210715T195753Z
UID:11871-1659686400-1659718800@saintpiusxchurch.com
SUMMARY:Parish Office Closed
DESCRIPTION:
URL:http://saintpiusxchurch.com/wp/event/parish-office-closed-408/
END:VEVENT
BEGIN:VEVENT
DTSTART;TZID=UTC:20220805T080000
DTEND;TZID=UTC:20220805T170000
DTSTAMP:20260424T055757
CREATED:20220725T205426Z
LAST-MODIFIED:20220725T205426Z
UID:13842-1659686400-1659718800@saintpiusxchurch.com
SUMMARY:Daily Rosary Devotion - 11:00am in Mary's Chapel
DESCRIPTION:
URL:http://saintpiusxchurch.com/wp/event/daily-rosary-devotion-1100am-in-marys-chapel-7/
END:VEVENT
BEGIN:VEVENT
DTSTART;TZID=UTC:20220806T080000
DTEND;TZID=UTC:20220806T170000
DTSTAMP:20260424T055757
CREATED:20210713T203932Z
LAST-MODIFIED:20210713T203932Z
UID:11408-1659772800-1659805200@saintpiusxchurch.com
SUMMARY:9:00am Mass                                                                    5:00pm Vigil Mass
DESCRIPTION:
URL:http://saintpiusxchurch.com/wp/event/900am-mass-500pm-vigil-mass-47/
END:VEVENT
BEGIN:VEVENT
DTSTART;TZID=UTC:20220807T080000
DTEND;TZID=UTC:20220807T170000
DTSTAMP:20260424T055757
CREATED:20220712T213356Z
LAST-MODIFIED:20220712T213356Z
UID:12957-1659859200-1659891600@saintpiusxchurch.com
SUMMARY:Masses – 8:00am\, 9:15am\,10:30am and 12:00pm
DESCRIPTION:
URL:http://saintpiusxchurch.com/wp/event/masses-800am-915am1030am-and-1200pm/
END:VEVENT
BEGIN:VEVENT
DTSTART;TZID=UTC:20220808T080000
DTEND;TZID=UTC:20220808T170000
DTSTAMP:20260424T055757
CREATED:20220725T205443Z
LAST-MODIFIED:20220725T205443Z
UID:13844-1659945600-1659978000@saintpiusxchurch.com
SUMMARY:Daily Rosary Devotion - 11:00am in Mary's Chapel
DESCRIPTION:
URL:http://saintpiusxchurch.com/wp/event/daily-rosary-devotion-1100am-in-marys-chapel-8/
END:VEVENT
BEGIN:VEVENT
DTSTART;TZID=UTC:20220809T080000
DTEND;TZID=UTC:20220809T170000
DTSTAMP:20260424T055757
CREATED:20220725T205458Z
LAST-MODIFIED:20220725T205458Z
UID:13846-1660032000-1660064400@saintpiusxchurch.com
SUMMARY:Daily Rosary Devotion - 11:00am in Mary's Chapel
DESCRIPTION:
URL:http://saintpiusxchurch.com/wp/event/daily-rosary-devotion-1100am-in-marys-chapel-9/
END:VEVENT
BEGIN:VEVENT
DTSTART;TZID=UTC:20220810T080000
DTEND;TZID=UTC:20220810T170000
DTSTAMP:20260424T055757
CREATED:20220718T194037Z
LAST-MODIFIED:20220718T194037Z
UID:13798-1660118400-1660150800@saintpiusxchurch.com
SUMMARY:FREE Zumba Class by Maya de Jesus\, Zumba and Sweat and Swagger Instructor - (9:00-9:45am)
DESCRIPTION:
URL:http://saintpiusxchurch.com/wp/event/free-zumba-class-by-maya-de-jesus-zumba-and-sweat-and-swagger-instructor-900-945am-2/
END:VEVENT
BEGIN:VEVENT
DTSTART;TZID=UTC:20220810T080000
DTEND;TZID=UTC:20220810T170000
DTSTAMP:20260424T055757
CREATED:20220725T205513Z
LAST-MODIFIED:20220725T205513Z
UID:13848-1660118400-1660150800@saintpiusxchurch.com
SUMMARY:Daily Rosary Devotion - 11:00am in Mary's Chapel
DESCRIPTION:
URL:http://saintpiusxchurch.com/wp/event/daily-rosary-devotion-1100am-in-marys-chapel-10/
END:VEVENT
BEGIN:VEVENT
DTSTART;TZID=UTC:20220811T080000
DTEND;TZID=UTC:20220811T170000
DTSTAMP:20260424T055757
CREATED:20220725T205536Z
LAST-MODIFIED:20220725T205536Z
UID:13850-1660204800-1660237200@saintpiusxchurch.com
SUMMARY:Daily Rosary Devotion - 11:00am in Mary's Chapel
DESCRIPTION:
URL:http://saintpiusxchurch.com/wp/event/daily-rosary-devotion-1100am-in-marys-chapel-11/
END:VEVENT
BEGIN:VEVENT
DTSTART;TZID=UTC:20220812T080000
DTEND;TZID=UTC:20220812T170000
DTSTAMP:20260424T055757
CREATED:20210713T195602Z
LAST-MODIFIED:20210713T195602Z
UID:11307-1660291200-1660323600@saintpiusxchurch.com
SUMMARY:Parish Office Closed
DESCRIPTION:
URL:http://saintpiusxchurch.com/wp/event/parish-office-closed-406/
END:VEVENT
BEGIN:VEVENT
DTSTART;TZID=UTC:20220812T080000
DTEND;TZID=UTC:20220812T170000
DTSTAMP:20260424T055757
CREATED:20220725T205702Z
LAST-MODIFIED:20220725T205702Z
UID:13852-1660291200-1660323600@saintpiusxchurch.com
SUMMARY:Daily Rosary Devotion - 11:00am in Mary's Chapel
DESCRIPTION:
URL:http://saintpiusxchurch.com/wp/event/daily-rosary-devotion-1100am-in-marys-chapel-12/
END:VEVENT
BEGIN:VEVENT
DTSTART;TZID=UTC:20220813T080000
DTEND;TZID=UTC:20220813T170000
DTSTAMP:20260424T055757
CREATED:20210713T204006Z
LAST-MODIFIED:20210713T204006Z
UID:11410-1660377600-1660410000@saintpiusxchurch.com
SUMMARY:9:00am Mass                                                                    5:00pm Vigil Mass
DESCRIPTION:
URL:http://saintpiusxchurch.com/wp/event/900am-mass-500pm-vigil-mass-48/
END:VEVENT
BEGIN:VEVENT
DTSTART;TZID=UTC:20220814T080000
DTEND;TZID=UTC:20220814T170000
DTSTAMP:20260424T055757
CREATED:20220712T213417Z
LAST-MODIFIED:20220712T213417Z
UID:12959-1660464000-1660496400@saintpiusxchurch.com
SUMMARY:Masses – 8:00am\, 9:15am\,10:30am and 12:00pm
DESCRIPTION:
URL:http://saintpiusxchurch.com/wp/event/masses-800am-915am1030am-and-1200pm-2/
END:VEVENT
END:VCALENDAR