BEGIN:VCALENDAR
VERSION:2.0
PRODID:-//Church of Saint Pius X - ECPv6.15.20//NONSGML v1.0//EN
CALSCALE:GREGORIAN
METHOD:PUBLISH
X-ORIGINAL-URL:http://saintpiusxchurch.com/wp
X-WR-CALDESC:Events for Church of Saint Pius X
REFRESH-INTERVAL;VALUE=DURATION:PT1H
X-Robots-Tag:noindex
X-PUBLISHED-TTL:PT1H
BEGIN:VTIMEZONE
TZID:UTC
BEGIN:STANDARD
TZOFFSETFROM:+0000
TZOFFSETTO:+0000
TZNAME:UTC
DTSTART:20210101T000000
END:STANDARD
END:VTIMEZONE
BEGIN:VEVENT
DTSTART;TZID=UTC:20221221T080000
DTEND;TZID=UTC:20221221T170000
DTSTAMP:20260425T085319
CREATED:20221108T002718Z
LAST-MODIFIED:20221108T002718Z
UID:14080-1671609600-1671642000@saintpiusxchurch.com
SUMMARY:Church Christmas Decorations - 9:00am
DESCRIPTION:
URL:http://saintpiusxchurch.com/wp/event/church-christmas-decorations-900am-3/
END:VEVENT
BEGIN:VEVENT
DTSTART;TZID=UTC:20221223T080000
DTEND;TZID=UTC:20221223T170000
DTSTAMP:20260425T085319
CREATED:20220712T221933Z
LAST-MODIFIED:20220712T221933Z
UID:13127-1671782400-1671814800@saintpiusxchurch.com
SUMMARY:Parish Office Closed
DESCRIPTION:
URL:http://saintpiusxchurch.com/wp/event/parish-office-closed-429/
END:VEVENT
BEGIN:VEVENT
DTSTART;TZID=UTC:20221224T080000
DTEND;TZID=UTC:20221224T170000
DTSTAMP:20260425T085319
CREATED:20220713T000138Z
LAST-MODIFIED:20220713T000138Z
UID:13488-1671868800-1671901200@saintpiusxchurch.com
SUMMARY:No 9:00am Mass
DESCRIPTION:
URL:http://saintpiusxchurch.com/wp/event/no-900am-mass-4/
END:VEVENT
BEGIN:VEVENT
DTSTART;TZID=UTC:20221224T080000
DTEND;TZID=UTC:20221224T170000
DTSTAMP:20260425T085319
CREATED:20220713T000157Z
LAST-MODIFIED:20221027T190142Z
UID:13490-1671868800-1671901200@saintpiusxchurch.com
SUMMARY:Confession – 10:00am-11:00am (Main Church)
DESCRIPTION:
URL:http://saintpiusxchurch.com/wp/event/confession-1000am-1100am-7/
END:VEVENT
BEGIN:VEVENT
DTSTART;TZID=UTC:20221224T080000
DTEND;TZID=UTC:20221224T170000
DTSTAMP:20260425T085319
CREATED:20220713T000216Z
LAST-MODIFIED:20220713T000216Z
UID:13492-1671868800-1671901200@saintpiusxchurch.com
SUMMARY:Christmas Eve Masses 3:00pm and 4:30pm(Masses with Homily for Children)
DESCRIPTION:
URL:http://saintpiusxchurch.com/wp/event/christmas-eve-masses-300pm-and-430pmmasses-with-homily-for-children/
END:VEVENT
BEGIN:VEVENT
DTSTART;TZID=UTC:20221224T080000
DTEND;TZID=UTC:20221224T170000
DTSTAMP:20260425T085319
CREATED:20220713T000238Z
LAST-MODIFIED:20220801T204942Z
UID:13494-1671868800-1671901200@saintpiusxchurch.com
SUMMARY:Choir Rehearsal - 5:30pm
DESCRIPTION:
URL:http://saintpiusxchurch.com/wp/event/500pm-choir-rehearsal/
END:VEVENT
BEGIN:VEVENT
DTSTART;TZID=UTC:20221224T080000
DTEND;TZID=UTC:20221224T170000
DTSTAMP:20260425T085319
CREATED:20220713T000256Z
LAST-MODIFIED:20220816T192611Z
UID:13496-1671868800-1671901200@saintpiusxchurch.com
SUMMARY:6:30pm Mass with 6:15pm SPX Choir and Musical Prelude
DESCRIPTION:
URL:http://saintpiusxchurch.com/wp/event/630pm-mass-with-spx-choir-and-musical-prelude/
END:VEVENT
BEGIN:VEVENT
DTSTART;TZID=UTC:20221224T080000
DTEND;TZID=UTC:20221224T170000
DTSTAMP:20260425T085319
CREATED:20220713T000314Z
LAST-MODIFIED:20220713T000314Z
UID:13498-1671868800-1671901200@saintpiusxchurch.com
SUMMARY:10:00pm Christmas Eve Mass for Midnight
DESCRIPTION:
URL:http://saintpiusxchurch.com/wp/event/1000pm-christmas-eve-mass-for-midnight-3/
END:VEVENT
BEGIN:VEVENT
DTSTART;TZID=UTC:20221225T080000
DTEND;TZID=UTC:20221225T170000
DTSTAMP:20260425T085319
CREATED:20220713T000336Z
LAST-MODIFIED:20220713T000336Z
UID:13500-1671955200-1671987600@saintpiusxchurch.com
SUMMARY:Christmas Day Parish Office Closed
DESCRIPTION:
URL:http://saintpiusxchurch.com/wp/event/christmas-day-parish-office-closed-2/
END:VEVENT
BEGIN:VEVENT
DTSTART;TZID=UTC:20221225T080000
DTEND;TZID=UTC:20221225T170000
DTSTAMP:20260425T085319
CREATED:20220713T000517Z
LAST-MODIFIED:20220816T192331Z
UID:13502-1671955200-1671987600@saintpiusxchurch.com
SUMMARY:Masses - 8:00am\, 9:15am\, 10:30am(not a Family Mass) & 12:00pm
DESCRIPTION:
URL:http://saintpiusxchurch.com/wp/event/masses-900am-1030amnot-a-family-mass-1200pm/
END:VEVENT
BEGIN:VEVENT
DTSTART;TZID=UTC:20221226T080000
DTEND;TZID=UTC:20221226T170000
DTSTAMP:20260425T085319
CREATED:20221027T191133Z
LAST-MODIFIED:20221027T191133Z
UID:14059-1672041600-1672074000@saintpiusxchurch.com
SUMMARY:No Mass/Parish Office Closed
DESCRIPTION:
URL:http://saintpiusxchurch.com/wp/event/no-mass-parish-office-closed-6/
END:VEVENT
BEGIN:VEVENT
DTSTART;TZID=UTC:20221230T080000
DTEND;TZID=UTC:20221230T170000
DTSTAMP:20260425T085319
CREATED:20220712T221949Z
LAST-MODIFIED:20220712T221949Z
UID:13129-1672387200-1672419600@saintpiusxchurch.com
SUMMARY:Parish Office Closed
DESCRIPTION:
URL:http://saintpiusxchurch.com/wp/event/parish-office-closed-430/
END:VEVENT
BEGIN:VEVENT
DTSTART;TZID=UTC:20221231T080000
DTEND;TZID=UTC:20221231T170000
DTSTAMP:20260425T085319
CREATED:20220713T202815Z
LAST-MODIFIED:20220801T205033Z
UID:13786-1672473600-1672506000@saintpiusxchurch.com
SUMMARY:New Year’s Eve Mass – 5:00pm Vigil Mass
DESCRIPTION:
URL:http://saintpiusxchurch.com/wp/event/new-years-eve-mass-400pm-vigil-mass-2/
END:VEVENT
BEGIN:VEVENT
DTSTART;TZID=UTC:20221231T080000
DTEND;TZID=UTC:20221231T170000
DTSTAMP:20260425T085319
CREATED:20220817T184125Z
LAST-MODIFIED:20220817T184125Z
UID:13969-1672473600-1672506000@saintpiusxchurch.com
SUMMARY:9:00am Mass
DESCRIPTION:
URL:http://saintpiusxchurch.com/wp/event/900am-mass/
END:VEVENT
BEGIN:VEVENT
DTSTART;TZID=UTC:20230101T080000
DTEND;TZID=UTC:20230101T170000
DTSTAMP:20260425T085319
CREATED:20220712T224829Z
LAST-MODIFIED:20220816T192437Z
UID:13235-1672560000-1672592400@saintpiusxchurch.com
SUMMARY:Masses – 8:00am\, 9:15am\,10:30am(Family Mass) and 12:00pm
DESCRIPTION:
URL:http://saintpiusxchurch.com/wp/event/masses-800am-915am1030am-and-1200pm-22/
END:VEVENT
BEGIN:VEVENT
DTSTART;TZID=UTC:20230101T080000
DTEND;TZID=UTC:20230101T170000
DTSTAMP:20260425T085319
CREATED:20220713T182509Z
LAST-MODIFIED:20220713T182509Z
UID:13506-1672560000-1672592400@saintpiusxchurch.com
SUMMARY:No Kindergarten Class
DESCRIPTION:
URL:http://saintpiusxchurch.com/wp/event/no-kindergarten-class-8/
END:VEVENT
BEGIN:VEVENT
DTSTART;TZID=UTC:20230102T080000
DTEND;TZID=UTC:20230102T170000
DTSTAMP:20260425T085319
CREATED:20220713T182601Z
LAST-MODIFIED:20220713T182601Z
UID:13508-1672646400-1672678800@saintpiusxchurch.com
SUMMARY:No RE Classes
DESCRIPTION:
URL:http://saintpiusxchurch.com/wp/event/no-re-classes/
END:VEVENT
BEGIN:VEVENT
DTSTART;TZID=UTC:20230102T080000
DTEND;TZID=UTC:20230102T170000
DTSTAMP:20260425T085319
CREATED:20220713T182643Z
LAST-MODIFIED:20220713T182643Z
UID:13512-1672646400-1672678800@saintpiusxchurch.com
SUMMARY:No Parish Council Meeting
DESCRIPTION:
URL:http://saintpiusxchurch.com/wp/event/no-parish-council-meeting-17/
END:VEVENT
BEGIN:VEVENT
DTSTART;TZID=UTC:20230103T080000
DTEND;TZID=UTC:20230103T170000
DTSTAMP:20260425T085319
CREATED:20220713T182617Z
LAST-MODIFIED:20220713T182617Z
UID:13510-1672732800-1672765200@saintpiusxchurch.com
SUMMARY:No RE Classes
DESCRIPTION:
URL:http://saintpiusxchurch.com/wp/event/no-re-classes-2/
END:VEVENT
BEGIN:VEVENT
DTSTART;TZID=UTC:20230106T080000
DTEND;TZID=UTC:20230106T170000
DTSTAMP:20260425T085319
CREATED:20220712T222008Z
LAST-MODIFIED:20220712T222008Z
UID:13131-1672992000-1673024400@saintpiusxchurch.com
SUMMARY:Parish Office Closed
DESCRIPTION:
URL:http://saintpiusxchurch.com/wp/event/parish-office-closed-431/
END:VEVENT
BEGIN:VEVENT
DTSTART;TZID=UTC:20230107T080000
DTEND;TZID=UTC:20230107T170000
DTSTAMP:20260425T085319
CREATED:20220712T215254Z
LAST-MODIFIED:20220712T215254Z
UID:13040-1673078400-1673110800@saintpiusxchurch.com
SUMMARY:9:00am Mass                                     5:00pm Vigil Mass
DESCRIPTION:
URL:http://saintpiusxchurch.com/wp/event/900am-mass-500pm-vigil-mass-69/
END:VEVENT
BEGIN:VEVENT
DTSTART;TZID=UTC:20230108T080000
DTEND;TZID=UTC:20230108T170000
DTSTAMP:20260425T085319
CREATED:20220712T224843Z
LAST-MODIFIED:20220712T224843Z
UID:13237-1673164800-1673197200@saintpiusxchurch.com
SUMMARY:Masses – 8:00am\, 9:15am\,10:30am and 12:00pm
DESCRIPTION:
URL:http://saintpiusxchurch.com/wp/event/masses-800am-915am1030am-and-1200pm-23/
END:VEVENT
BEGIN:VEVENT
DTSTART;TZID=UTC:20230108T080000
DTEND;TZID=UTC:20230108T170000
DTSTAMP:20260425T085319
CREATED:20220713T182719Z
LAST-MODIFIED:20220713T182719Z
UID:13514-1673164800-1673197200@saintpiusxchurch.com
SUMMARY:Kindergarten Class in Session 9:15-10:15am
DESCRIPTION:
URL:http://saintpiusxchurch.com/wp/event/kindergarten-class-in-session-915-1015am-7/
END:VEVENT
BEGIN:VEVENT
DTSTART;TZID=UTC:20230109T080000
DTEND;TZID=UTC:20230109T170000
DTSTAMP:20260425T085319
CREATED:20220713T182757Z
LAST-MODIFIED:20221221T215536Z
UID:13516-1673251200-1673283600@saintpiusxchurch.com
SUMMARY:RE Classes In Session 5th –  8th 3:30 – 4:30pm
DESCRIPTION:
URL:http://saintpiusxchurch.com/wp/event/re-classes-in-session-5th-7th330-500pm-8th-grade-400-500pm-9/
END:VEVENT
BEGIN:VEVENT
DTSTART;TZID=UTC:20230110T080000
DTEND;TZID=UTC:20230110T170000
DTSTAMP:20260425T085319
CREATED:20220713T182850Z
LAST-MODIFIED:20220713T182850Z
UID:13518-1673337600-1673370000@saintpiusxchurch.com
SUMMARY:RE Classes In Session 1st– 4th Grade 3:30 – 5:00pm
DESCRIPTION:
URL:http://saintpiusxchurch.com/wp/event/re-classes-in-session-1st-4th-grade-330-500pm-5/
END:VEVENT
BEGIN:VEVENT
DTSTART;TZID=UTC:20230110T080000
DTEND;TZID=UTC:20230110T170000
DTSTAMP:20260425T085319
CREATED:20220713T182922Z
LAST-MODIFIED:20220713T182922Z
UID:13520-1673337600-1673370000@saintpiusxchurch.com
SUMMARY:Operation Cupid Begins (United for Troops)
DESCRIPTION:
URL:http://saintpiusxchurch.com/wp/event/operation-cupid-begins-united-for-troops-3/
END:VEVENT
BEGIN:VEVENT
DTSTART;TZID=UTC:20230113T080000
DTEND;TZID=UTC:20230113T170000
DTSTAMP:20260425T085319
CREATED:20220712T222023Z
LAST-MODIFIED:20220712T222023Z
UID:13133-1673596800-1673629200@saintpiusxchurch.com
SUMMARY:Parish Office Closed
DESCRIPTION:
URL:http://saintpiusxchurch.com/wp/event/parish-office-closed-432/
END:VEVENT
BEGIN:VEVENT
DTSTART;TZID=UTC:20230114T080000
DTEND;TZID=UTC:20230114T170000
DTSTAMP:20260425T085319
CREATED:20220712T215311Z
LAST-MODIFIED:20220712T215311Z
UID:13042-1673683200-1673715600@saintpiusxchurch.com
SUMMARY:9:00am Mass                                     5:00pm Vigil Mass
DESCRIPTION:
URL:http://saintpiusxchurch.com/wp/event/900am-mass-500pm-vigil-mass-70/
END:VEVENT
BEGIN:VEVENT
DTSTART;TZID=UTC:20230115T080000
DTEND;TZID=UTC:20230115T170000
DTSTAMP:20260425T085319
CREATED:20220712T224858Z
LAST-MODIFIED:20220712T224858Z
UID:13239-1673769600-1673802000@saintpiusxchurch.com
SUMMARY:Masses – 8:00am\, 9:15am\,10:30am and 12:00pm
DESCRIPTION:
URL:http://saintpiusxchurch.com/wp/event/masses-800am-915am1030am-and-1200pm-24/
END:VEVENT
BEGIN:VEVENT
DTSTART;TZID=UTC:20230115T080000
DTEND;TZID=UTC:20230115T170000
DTSTAMP:20260425T085319
CREATED:20220713T183049Z
LAST-MODIFIED:20220713T183049Z
UID:13522-1673769600-1673802000@saintpiusxchurch.com
SUMMARY:No Kindergarten Class
DESCRIPTION:
URL:http://saintpiusxchurch.com/wp/event/no-kindergarten-class-9/
END:VEVENT
END:VCALENDAR