BEGIN:VCALENDAR
VERSION:2.0
PRODID:-//Church of Saint Pius X - ECPv6.15.20//NONSGML v1.0//EN
CALSCALE:GREGORIAN
METHOD:PUBLISH
X-WR-CALNAME:Church of Saint Pius X
X-ORIGINAL-URL:http://saintpiusxchurch.com/wp
X-WR-CALDESC:Events for Church of Saint Pius X
REFRESH-INTERVAL;VALUE=DURATION:PT1H
X-Robots-Tag:noindex
X-PUBLISHED-TTL:PT1H
BEGIN:VTIMEZONE
TZID:UTC
BEGIN:STANDARD
TZOFFSETFROM:+0000
TZOFFSETTO:+0000
TZNAME:UTC
DTSTART:20210101T000000
END:STANDARD
END:VTIMEZONE
BEGIN:VEVENT
DTSTART;TZID=UTC:20220308T080000
DTEND;TZID=UTC:20220308T170000
DTSTAMP:20260424T140907
CREATED:20210928T215017Z
LAST-MODIFIED:20210928T215017Z
UID:12241-1646726400-1646758800@saintpiusxchurch.com
SUMMARY:RE in Session - 1st\, 2nd and 4th Grade 3:30pm – 5:00pm (in person)
DESCRIPTION:
URL:http://saintpiusxchurch.com/wp/event/re-in-session-1st-2nd-and-4th-grade-330pm-500pm-in-person-2/
END:VEVENT
BEGIN:VEVENT
DTSTART;TZID=UTC:20220308T080000
DTEND;TZID=UTC:20220308T170000
DTSTAMP:20260424T140907
CREATED:20220215T211100Z
LAST-MODIFIED:20220215T211100Z
UID:12555-1646726400-1646758800@saintpiusxchurch.com
SUMMARY:Stations of the Cross – 7:30pm
DESCRIPTION:
URL:http://saintpiusxchurch.com/wp/event/stations-of-the-cross-730pm-2/
END:VEVENT
BEGIN:VEVENT
DTSTART;TZID=UTC:20220308T080000
DTEND;TZID=UTC:20220308T170000
DTSTAMP:20260424T140907
CREATED:20220215T213609Z
LAST-MODIFIED:20220215T213609Z
UID:12595-1646726400-1646758800@saintpiusxchurch.com
SUMMARY:Rosary Devotion after 11:30am Mass
DESCRIPTION:
URL:http://saintpiusxchurch.com/wp/event/rosary-devotion-after-1130am-mass-16/
END:VEVENT
BEGIN:VEVENT
DTSTART;TZID=UTC:20220309T080000
DTEND;TZID=UTC:20220309T170000
DTSTAMP:20260424T140907
CREATED:20210928T213802Z
LAST-MODIFIED:20210928T213802Z
UID:12221-1646812800-1646845200@saintpiusxchurch.com
SUMMARY:RE 3rd Grade in Session 3:30pm – 4:30pm (virtual via zoom)
DESCRIPTION:
URL:http://saintpiusxchurch.com/wp/event/re-3rd-grade-in-session-330pm-430pm-virtual-via-zoom-15/
END:VEVENT
BEGIN:VEVENT
DTSTART;TZID=UTC:20220309T080000
DTEND;TZID=UTC:20220309T170000
DTSTAMP:20260424T140907
CREATED:20220215T213621Z
LAST-MODIFIED:20220215T213621Z
UID:12597-1646812800-1646845200@saintpiusxchurch.com
SUMMARY:Rosary Devotion after 11:30am Mass
DESCRIPTION:
URL:http://saintpiusxchurch.com/wp/event/rosary-devotion-after-1130am-mass-17/
END:VEVENT
BEGIN:VEVENT
DTSTART;TZID=UTC:20220310T080000
DTEND;TZID=UTC:20220310T170000
DTSTAMP:20260424T140907
CREATED:20220215T213632Z
LAST-MODIFIED:20220215T213632Z
UID:12599-1646899200-1646931600@saintpiusxchurch.com
SUMMARY:Rosary Devotion after 11:30am Mass
DESCRIPTION:
URL:http://saintpiusxchurch.com/wp/event/rosary-devotion-after-1130am-mass-18/
END:VEVENT
BEGIN:VEVENT
DTSTART;TZID=UTC:20220311T080000
DTEND;TZID=UTC:20220311T170000
DTSTAMP:20260424T140907
CREATED:20210713T194245Z
LAST-MODIFIED:20210713T194245Z
UID:11265-1646985600-1647018000@saintpiusxchurch.com
SUMMARY:Parish Office Closed
DESCRIPTION:
URL:http://saintpiusxchurch.com/wp/event/parish-office-closed-385/
END:VEVENT
BEGIN:VEVENT
DTSTART;TZID=UTC:20220311T080000
DTEND;TZID=UTC:20220311T170000
DTSTAMP:20260424T140907
CREATED:20220215T213644Z
LAST-MODIFIED:20220215T213644Z
UID:12601-1646985600-1647018000@saintpiusxchurch.com
SUMMARY:Rosary Devotion after 11:30am Mass
DESCRIPTION:
URL:http://saintpiusxchurch.com/wp/event/rosary-devotion-after-1130am-mass-19/
END:VEVENT
BEGIN:VEVENT
DTSTART;TZID=UTC:20220312T080000
DTEND;TZID=UTC:20220312T170000
DTSTAMP:20260424T140907
CREATED:20210713T202655Z
LAST-MODIFIED:20210713T202655Z
UID:11366-1647072000-1647104400@saintpiusxchurch.com
SUMMARY:9:00am Mass                                                                   5:00pm Vigil Mass
DESCRIPTION:
URL:http://saintpiusxchurch.com/wp/event/900am-mass-500pm-vigil-mass-26/
END:VEVENT
BEGIN:VEVENT
DTSTART;TZID=UTC:20220312T080000
DTEND;TZID=UTC:20220312T170000
DTSTAMP:20260424T140907
CREATED:20210713T231238Z
LAST-MODIFIED:20210713T231238Z
UID:11730-1647072000-1647104400@saintpiusxchurch.com
SUMMARY:St. Patrick’s Bake Sale -7th Gr. Community Service Project After 5pm Mass (drop-off half an hour before mass)
DESCRIPTION:
URL:http://saintpiusxchurch.com/wp/event/st-patricks-bake-sale-7th-gr-community-service-project-after-5pm-mass-drop-off-half-an-hour-before-mass/
END:VEVENT
BEGIN:VEVENT
DTSTART;TZID=UTC:20220313T080000
DTEND;TZID=UTC:20220313T170000
DTSTAMP:20260424T140907
CREATED:20210713T231336Z
LAST-MODIFIED:20210713T231336Z
UID:11732-1647158400-1647190800@saintpiusxchurch.com
SUMMARY:1st Grade Ministry Sunday 10:30am
DESCRIPTION:
URL:http://saintpiusxchurch.com/wp/event/1st-grade-ministry-sunday-1030am-5/
END:VEVENT
BEGIN:VEVENT
DTSTART;TZID=UTC:20220313T080000
DTEND;TZID=UTC:20220313T170000
DTSTAMP:20260424T140907
CREATED:20210713T231412Z
LAST-MODIFIED:20210713T231412Z
UID:11734-1647158400-1647190800@saintpiusxchurch.com
SUMMARY:St. Patrick’s Bake Sale -7th Gr. Community Service Project After all Masses (drop-off half an hour before mass)
DESCRIPTION:
URL:http://saintpiusxchurch.com/wp/event/st-patricks-bake-sale-7th-gr-community-service-project-after-all-masses-drop-off-half-an-hour-before-mass-2/
END:VEVENT
BEGIN:VEVENT
DTSTART;TZID=UTC:20220313T080000
DTEND;TZID=UTC:20220313T170000
DTSTAMP:20260424T140907
CREATED:20210713T231437Z
LAST-MODIFIED:20210713T231437Z
UID:11736-1647158400-1647190800@saintpiusxchurch.com
SUMMARY:Lenten Food Drive
DESCRIPTION:
URL:http://saintpiusxchurch.com/wp/event/lenten-food-drive-20/
END:VEVENT
BEGIN:VEVENT
DTSTART;TZID=UTC:20220313T080000
DTEND;TZID=UTC:20220313T170000
DTSTAMP:20260424T140907
CREATED:20210715T201108Z
LAST-MODIFIED:20210927T055512Z
UID:11879-1647158400-1647190800@saintpiusxchurch.com
SUMMARY:Kindergarten in Session 9:15 - 10:15am(in person)
DESCRIPTION:
URL:http://saintpiusxchurch.com/wp/event/kindergarten-in-session-915-1015am-24/
END:VEVENT
BEGIN:VEVENT
DTSTART;TZID=UTC:20220314T080000
DTEND;TZID=UTC:20220314T170000
DTSTAMP:20260424T140907
CREATED:20210928T220445Z
LAST-MODIFIED:20210928T220445Z
UID:12271-1647244800-1647277200@saintpiusxchurch.com
SUMMARY:RE in Session 8th Grade - 3:30-4:30pm (virtual via zoom)
DESCRIPTION:
URL:http://saintpiusxchurch.com/wp/event/re-in-session-8th-grade-330-430pm-virtual-via-zoom/
END:VEVENT
BEGIN:VEVENT
DTSTART;TZID=UTC:20220314T080000
DTEND;TZID=UTC:20220314T170000
DTSTAMP:20260424T140907
CREATED:20210929T200826Z
LAST-MODIFIED:20210929T200826Z
UID:12292-1647244800-1647277200@saintpiusxchurch.com
SUMMARY:RE in Session 3:30 – 5:00pm 5th\, 6th and 7th Grade(in person)
DESCRIPTION:
URL:http://saintpiusxchurch.com/wp/event/re-in-session-330-500pm-5th-6th-and-7th-gradein-person-2/
END:VEVENT
BEGIN:VEVENT
DTSTART;TZID=UTC:20220314T080000
DTEND;TZID=UTC:20220314T170000
DTSTAMP:20260424T140907
CREATED:20220215T213700Z
LAST-MODIFIED:20220215T213700Z
UID:12603-1647244800-1647277200@saintpiusxchurch.com
SUMMARY:Rosary Devotion after 11:30am Mass
DESCRIPTION:
URL:http://saintpiusxchurch.com/wp/event/rosary-devotion-after-1130am-mass-20/
END:VEVENT
BEGIN:VEVENT
DTSTART;TZID=UTC:20220314T080000
DTEND;TZID=UTC:20220314T170000
DTSTAMP:20260424T140907
CREATED:20220302T020602Z
LAST-MODIFIED:20220302T020602Z
UID:12842-1647244800-1647277200@saintpiusxchurch.com
SUMMARY:6th Grade Stations of the Cross – 3:30pm(main church)
DESCRIPTION:
URL:http://saintpiusxchurch.com/wp/event/6th-grade-stations-of-the-cross-330pmmain-church/
END:VEVENT
BEGIN:VEVENT
DTSTART;TZID=UTC:20220315T080000
DTEND;TZID=UTC:20220315T170000
DTSTAMP:20260424T140907
CREATED:20210713T231832Z
LAST-MODIFIED:20210713T231832Z
UID:11744-1647331200-1647363600@saintpiusxchurch.com
SUMMARY:Last Day: Early Bird Special(March 1-15)RE Registration with  $50 Discount in total Registration Fee(discount applies to former/returning students only)
DESCRIPTION:
URL:http://saintpiusxchurch.com/wp/event/last-day-early-bird-specialmarch-1-15re-registration-with-50-discount-in-total-registration-feediscount-applies-to-former-returning-students-only/
END:VEVENT
BEGIN:VEVENT
DTSTART;TZID=UTC:20220315T080000
DTEND;TZID=UTC:20220315T170000
DTSTAMP:20260424T140907
CREATED:20210713T231904Z
LAST-MODIFIED:20210713T231904Z
UID:11746-1647331200-1647363600@saintpiusxchurch.com
SUMMARY:Parish Stations of the Cross – 7:30pm
DESCRIPTION:
URL:http://saintpiusxchurch.com/wp/event/parish-stations-of-the-cross-730pm-7/
END:VEVENT
BEGIN:VEVENT
DTSTART;TZID=UTC:20220315T080000
DTEND;TZID=UTC:20220315T170000
DTSTAMP:20260424T140907
CREATED:20210928T215310Z
LAST-MODIFIED:20210928T215310Z
UID:12243-1647331200-1647363600@saintpiusxchurch.com
SUMMARY:RE in Session - 1st\, 2nd and 4th Grade 3:30pm – 5:00pm (in person)
DESCRIPTION:
URL:http://saintpiusxchurch.com/wp/event/re-in-session-1st-2nd-and-4th-grade-330pm-500pm-in-person/
END:VEVENT
BEGIN:VEVENT
DTSTART;TZID=UTC:20220315T080000
DTEND;TZID=UTC:20220315T170000
DTSTAMP:20260424T140907
CREATED:20220215T211139Z
LAST-MODIFIED:20220215T211139Z
UID:12557-1647331200-1647363600@saintpiusxchurch.com
SUMMARY:Stations of the Cross – 7:30pm
DESCRIPTION:
URL:http://saintpiusxchurch.com/wp/event/stations-of-the-cross-730pm-3/
END:VEVENT
BEGIN:VEVENT
DTSTART;TZID=UTC:20220315T080000
DTEND;TZID=UTC:20220315T170000
DTSTAMP:20260424T140907
CREATED:20220215T213723Z
LAST-MODIFIED:20220215T213723Z
UID:12605-1647331200-1647363600@saintpiusxchurch.com
SUMMARY:Rosary Devotion after 11:30am Mass
DESCRIPTION:
URL:http://saintpiusxchurch.com/wp/event/rosary-devotion-after-1130am-mass-21/
END:VEVENT
BEGIN:VEVENT
DTSTART;TZID=UTC:20220315T080000
DTEND;TZID=UTC:20220315T170000
DTSTAMP:20260424T140907
CREATED:20220302T020457Z
LAST-MODIFIED:20220302T020457Z
UID:12836-1647331200-1647363600@saintpiusxchurch.com
SUMMARY:3rd Grade Stations of the Cross – 3:30pm(main church)
DESCRIPTION:
URL:http://saintpiusxchurch.com/wp/event/3rd-grade-stations-of-the-cross-330pmmain-church/
END:VEVENT
BEGIN:VEVENT
DTSTART;TZID=UTC:20220316T080000
DTEND;TZID=UTC:20220316T170000
DTSTAMP:20260424T140907
CREATED:20210713T231941Z
LAST-MODIFIED:20210713T231941Z
UID:11748-1647417600-1647450000@saintpiusxchurch.com
SUMMARY:Early Bird Special(March 16-31)RE Registration with $25 Discount in total Registration Fee(discount applies to former/returning students only)
DESCRIPTION:
URL:http://saintpiusxchurch.com/wp/event/early-bird-specialmarch-16-31re-registration-with-25-discount-in-total-registration-feediscount-applies-to-former-returning-students-only/
END:VEVENT
BEGIN:VEVENT
DTSTART;TZID=UTC:20220316T080000
DTEND;TZID=UTC:20220316T170000
DTSTAMP:20260424T140907
CREATED:20211019T232010Z
LAST-MODIFIED:20211019T232010Z
UID:12344-1647417600-1647450000@saintpiusxchurch.com
SUMMARY:2nd Grade Reconciliation Parents’ Meeting - 6:00pm via zoom
DESCRIPTION:
URL:http://saintpiusxchurch.com/wp/event/2nd-grade-reconciliation-parents-meeting-600pm-via-zoom/
END:VEVENT
BEGIN:VEVENT
DTSTART;TZID=UTC:20220316T080000
DTEND;TZID=UTC:20220316T170000
DTSTAMP:20260424T140907
CREATED:20220107T220254Z
LAST-MODIFIED:20220107T220254Z
UID:12508-1647417600-1647450000@saintpiusxchurch.com
SUMMARY:Adult Group St Patrick's Luncheon - 12:30pm
DESCRIPTION:
URL:http://saintpiusxchurch.com/wp/event/adult-group-st-patricks-luncheon-1230pm/
END:VEVENT
BEGIN:VEVENT
DTSTART;TZID=UTC:20220316T080000
DTEND;TZID=UTC:20220316T170000
DTSTAMP:20260424T140908
CREATED:20220215T213736Z
LAST-MODIFIED:20220215T213736Z
UID:12607-1647417600-1647450000@saintpiusxchurch.com
SUMMARY:Rosary Devotion after 11:30am Mass
DESCRIPTION:
URL:http://saintpiusxchurch.com/wp/event/rosary-devotion-after-1130am-mass-22/
END:VEVENT
BEGIN:VEVENT
DTSTART;TZID=UTC:20220317T080000
DTEND;TZID=UTC:20220317T170000
DTSTAMP:20260424T140908
CREATED:20210713T232133Z
LAST-MODIFIED:20210713T232133Z
UID:11752-1647504000-1647536400@saintpiusxchurch.com
SUMMARY:St. Patrick’s Day/Parish Office Closed/No RE
DESCRIPTION:
URL:http://saintpiusxchurch.com/wp/event/st-patricks-day-parish-office-closed-no-re-2/
END:VEVENT
BEGIN:VEVENT
DTSTART;TZID=UTC:20220317T080000
DTEND;TZID=UTC:20220317T170000
DTSTAMP:20260424T140908
CREATED:20220215T213750Z
LAST-MODIFIED:20220215T213750Z
UID:12609-1647504000-1647536400@saintpiusxchurch.com
SUMMARY:Rosary Devotion after 11:30am Mass
DESCRIPTION:
URL:http://saintpiusxchurch.com/wp/event/rosary-devotion-after-1130am-mass-23/
END:VEVENT
END:VCALENDAR