BEGIN:VCALENDAR
VERSION:2.0
PRODID:-//Church of Saint Pius X - ECPv6.15.20//NONSGML v1.0//EN
CALSCALE:GREGORIAN
METHOD:PUBLISH
X-ORIGINAL-URL:http://saintpiusxchurch.com/wp
X-WR-CALDESC:Events for Church of Saint Pius X
REFRESH-INTERVAL;VALUE=DURATION:PT1H
X-Robots-Tag:noindex
X-PUBLISHED-TTL:PT1H
BEGIN:VTIMEZONE
TZID:UTC
BEGIN:STANDARD
TZOFFSETFROM:+0000
TZOFFSETTO:+0000
TZNAME:UTC
DTSTART:20250101T000000
END:STANDARD
END:VTIMEZONE
BEGIN:VTIMEZONE
TZID:America/New_York
BEGIN:DAYLIGHT
TZOFFSETFROM:-0500
TZOFFSETTO:-0400
TZNAME:EDT
DTSTART:20250309T070000
END:DAYLIGHT
BEGIN:STANDARD
TZOFFSETFROM:-0400
TZOFFSETTO:-0500
TZNAME:EST
DTSTART:20251102T060000
END:STANDARD
BEGIN:DAYLIGHT
TZOFFSETFROM:-0500
TZOFFSETTO:-0400
TZNAME:EDT
DTSTART:20260308T070000
END:DAYLIGHT
BEGIN:STANDARD
TZOFFSETFROM:-0400
TZOFFSETTO:-0500
TZNAME:EST
DTSTART:20261101T060000
END:STANDARD
BEGIN:DAYLIGHT
TZOFFSETFROM:-0500
TZOFFSETTO:-0400
TZNAME:EDT
DTSTART:20270314T070000
END:DAYLIGHT
BEGIN:STANDARD
TZOFFSETFROM:-0400
TZOFFSETTO:-0500
TZNAME:EST
DTSTART:20271107T060000
END:STANDARD
END:VTIMEZONE
BEGIN:VEVENT
DTSTART;TZID=UTC:20260510T103000
DTEND;TZID=UTC:20260510T113000
DTSTAMP:20260422T130003
CREATED:20250618T224125Z
LAST-MODIFIED:20250618T224125Z
UID:18786-1778409000-1778412600@saintpiusxchurch.com
SUMMARY:May Crowning/Flower Offering by Children
DESCRIPTION:
URL:http://saintpiusxchurch.com/wp/event/may-crowning-flower-offering-by-children-2/
END:VEVENT
BEGIN:VEVENT
DTSTART;TZID=America/New_York:20260510T112000
DTEND;TZID=America/New_York:20260510T130000
DTSTAMP:20260422T130003
CREATED:20260421T152626Z
LAST-MODIFIED:20260421T152626Z
UID:19709-1778412000-1778418000@saintpiusxchurch.com
SUMMARY:SPX Choir (11:20am Rehearsal\, Noon Mass(Mother's Day)
DESCRIPTION:
URL:http://saintpiusxchurch.com/wp/event/spx-choir-1120am-rehearsal-noon-massmothers-day/
END:VEVENT
BEGIN:VEVENT
DTSTART;TZID=America/New_York:20260510T113000
DTEND;TZID=America/New_York:20260510T130000
DTSTAMP:20260422T130003
CREATED:20251126T173159Z
LAST-MODIFIED:20251126T173159Z
UID:19323-1778412600-1778418000@saintpiusxchurch.com
SUMMARY:First Communion Reception(after 10:30am Mass - Sponsored by 1st Grade)
DESCRIPTION:
URL:http://saintpiusxchurch.com/wp/event/first-communion-receptionafter-1030am-mass-sponsored-by-1st-grade/
END:VEVENT
BEGIN:VEVENT
DTSTART;TZID=America/New_York:20260511T123000
DTEND;TZID=America/New_York:20260511T160000
DTSTAMP:20260422T130003
CREATED:20250805T143349Z
LAST-MODIFIED:20250805T143349Z
UID:18934-1778502600-1778515200@saintpiusxchurch.com
SUMMARY:Scarsdale-Hartsdale Women’s Interfaith Council’s Spring Event 12:30-4:00pm
DESCRIPTION:
URL:http://saintpiusxchurch.com/wp/event/scarsdale-hartsdale-womens-interfaith-councils-spring-event-1230-400pm/
END:VEVENT
BEGIN:VEVENT
DTSTART;TZID=UTC:20260511T153000
DTEND;TZID=UTC:20260511T163000
DTSTAMP:20260422T130003
CREATED:20250618T223744Z
LAST-MODIFIED:20250618T223744Z
UID:18776-1778513400-1778517000@saintpiusxchurch.com
SUMMARY:RE in Session(Last Academic Day)
DESCRIPTION:
URL:http://saintpiusxchurch.com/wp/event/re-in-sessionlast-academic-day/
END:VEVENT
BEGIN:VEVENT
DTSTART;TZID=UTC:20260512T153000
DTEND;TZID=UTC:20260512T170000
DTSTAMP:20260422T130003
CREATED:20250618T223821Z
LAST-MODIFIED:20250618T223821Z
UID:18778-1778599800-1778605200@saintpiusxchurch.com
SUMMARY:RE in Session(Last Academic Day)
DESCRIPTION:
URL:http://saintpiusxchurch.com/wp/event/re-in-sessionlast-academic-day-2/
END:VEVENT
BEGIN:VEVENT
DTSTART;TZID=UTC:20260512T170000
DTEND;TZID=UTC:20260512T173000
DTSTAMP:20260422T130003
CREATED:20250618T223941Z
LAST-MODIFIED:20260127T192404Z
UID:18782-1778605200-1778607000@saintpiusxchurch.com
SUMMARY:Children's Choir(Last Day)
DESCRIPTION:
URL:http://saintpiusxchurch.com/wp/event/childrens-choir-20/
END:VEVENT
BEGIN:VEVENT
DTSTART;TZID=UTC:20260512T170000
DTEND;TZID=UTC:20260512T190000
DTSTAMP:20260422T130003
CREATED:20250618T224917Z
LAST-MODIFIED:20250618T224917Z
UID:18806-1778605200-1778612400@saintpiusxchurch.com
SUMMARY:RE Volunteers End of Year Dinner – After RE (Parish Hall)
DESCRIPTION:
URL:http://saintpiusxchurch.com/wp/event/re-volunteers-end-of-year-dinner-after-re-parish-hall/
END:VEVENT
BEGIN:VEVENT
DTSTART;TZID=UTC:20260513T160000
DTEND;TZID=UTC:20260513T170000
DTSTAMP:20260422T130003
CREATED:20250618T225005Z
LAST-MODIFIED:20250618T225005Z
UID:18808-1778688000-1778691600@saintpiusxchurch.com
SUMMARY:Vigil Mass for Ascension Thursday
DESCRIPTION:
URL:http://saintpiusxchurch.com/wp/event/vigil-mass-for-ascension-thursday/
END:VEVENT
BEGIN:VEVENT
DTSTART;TZID=UTC:20260514T080000
DTEND;TZID=UTC:20260514T113000
DTSTAMP:20260422T130003
CREATED:20250618T225050Z
LAST-MODIFIED:20250618T225050Z
UID:18810-1778745600-1778758200@saintpiusxchurch.com
SUMMARY:Ascension Thursday Masses – 8:00am\, and11:30am
DESCRIPTION:
URL:http://saintpiusxchurch.com/wp/event/ascension-thursday-masses-800am-and1130am/
END:VEVENT
BEGIN:VEVENT
DTSTART;TZID=America/New_York:20260514T193000
DTEND;TZID=America/New_York:20260514T210000
DTSTAMP:20260422T130003
CREATED:20260421T152845Z
LAST-MODIFIED:20260421T152845Z
UID:19711-1778787000-1778792400@saintpiusxchurch.com
SUMMARY:SPX Choir Rehearsal
DESCRIPTION:
URL:http://saintpiusxchurch.com/wp/event/spx-choir-rehearsal-4/
END:VEVENT
BEGIN:VEVENT
DTSTART;TZID=America/New_York:20260516T160000
DTEND;TZID=America/New_York:20260516T180000
DTSTAMP:20260422T130003
CREATED:20260421T153428Z
LAST-MODIFIED:20260421T153428Z
UID:19713-1778947200-1778954400@saintpiusxchurch.com
SUMMARY:SPX Choir (4:00pm Rehearsal\, 5:00pm Mass - One Enchanted Evening Concert with David and Friends following Mass)
DESCRIPTION:
URL:http://saintpiusxchurch.com/wp/event/spx-choir-400pm-rehearsal-500pm-mass-one-enchanted-evening-concert-with-david-and-friends-following-mass/
END:VEVENT
BEGIN:VEVENT
DTSTART;TZID=UTC:20260517T103000
DTEND;TZID=UTC:20260517T113000
DTSTAMP:20260422T130003
CREATED:20250618T224246Z
LAST-MODIFIED:20250618T224246Z
UID:18790-1779013800-1779017400@saintpiusxchurch.com
SUMMARY:May Crowning/Flower Offering by Children
DESCRIPTION:
URL:http://saintpiusxchurch.com/wp/event/may-crowning-flower-offering-by-children-4/
END:VEVENT
BEGIN:VEVENT
DTSTART;TZID=UTC:20260517T103000
DTEND;TZID=UTC:20260517T113000
DTSTAMP:20260422T130003
CREATED:20250618T224630Z
LAST-MODIFIED:20250618T224630Z
UID:18800-1779013800-1779017400@saintpiusxchurch.com
SUMMARY:Birthday Blessings
DESCRIPTION:
URL:http://saintpiusxchurch.com/wp/event/birthday-blessings-3/
END:VEVENT
BEGIN:VEVENT
DTSTART;TZID=UTC:20260517T120000
DTEND;TZID=UTC:20260517T130000
DTSTAMP:20260422T130003
CREATED:20250618T224705Z
LAST-MODIFIED:20250618T224705Z
UID:18802-1779019200-1779022800@saintpiusxchurch.com
SUMMARY:Anointing of the Sick
DESCRIPTION:
URL:http://saintpiusxchurch.com/wp/event/anointing-of-the-sick/
END:VEVENT
BEGIN:VEVENT
DTSTART;TZID=America/New_York:20260519T193000
DTEND;TZID=America/New_York:20260519T203000
DTSTAMP:20260422T130003
CREATED:20251211T174725Z
LAST-MODIFIED:20260421T135255Z
UID:19424-1779219000-1779222600@saintpiusxchurch.com
SUMMARY:Mary Under the Stars
DESCRIPTION:
URL:http://saintpiusxchurch.com/wp/event/mary-under-the-stars/
END:VEVENT
BEGIN:VEVENT
DTSTART;TZID=America/New_York:20260520T193000
DTEND;TZID=America/New_York:20260520T203000
DTSTAMP:20260422T130003
CREATED:20260421T153856Z
LAST-MODIFIED:20260421T153856Z
UID:19715-1779305400-1779309000@saintpiusxchurch.com
SUMMARY:SPX Choir - Mary Under The Stars(no formal choir\, but singers welcome)
DESCRIPTION:
URL:http://saintpiusxchurch.com/wp/event/spx-choir-mary-under-the-starsno-formal-choir-but-singers-welcome/
END:VEVENT
BEGIN:VEVENT
DTSTART;TZID=America/New_York:20260521T193000
DTEND;TZID=America/New_York:20260521T210000
DTSTAMP:20260422T130003
CREATED:20260421T153934Z
LAST-MODIFIED:20260421T153934Z
UID:19717-1779391800-1779397200@saintpiusxchurch.com
SUMMARY:SPX Choir Rehearsal
DESCRIPTION:
URL:http://saintpiusxchurch.com/wp/event/spx-choir-rehearsal-5/
END:VEVENT
BEGIN:VEVENT
DTSTART;TZID=America/New_York:20260523T071500
DTEND;TZID=America/New_York:20260523T081500
DTSTAMP:20260422T130003
CREATED:20250831T182625Z
LAST-MODIFIED:20250909T164130Z
UID:19008-1779520500-1779524100@saintpiusxchurch.com
SUMMARY:Men's Ministry Meeting - SPX Parish Pavilion
DESCRIPTION:
URL:http://saintpiusxchurch.com/wp/event/mens-ministry-meeting-parish-hall-10/
END:VEVENT
BEGIN:VEVENT
DTSTART;TZID=America/New_York:20260524T080000
DTEND;TZID=America/New_York:20260524T170000
DTSTAMP:20260422T130003
CREATED:20250831T182706Z
LAST-MODIFIED:20250831T182706Z
UID:19010-1779609600-1779642000@saintpiusxchurch.com
SUMMARY:Men's Ministry Meeting - Second Edition of SPX Workshop
DESCRIPTION:
URL:http://saintpiusxchurch.com/wp/event/mens-ministry-meeting-second-edition-of-spx-workshop/
END:VEVENT
BEGIN:VEVENT
DTSTART;TZID=UTC:20260524T103000
DTEND;TZID=UTC:20260524T113000
DTSTAMP:20260422T130003
CREATED:20250618T224325Z
LAST-MODIFIED:20250618T224325Z
UID:18792-1779618600-1779622200@saintpiusxchurch.com
SUMMARY:May Crowning/Flower Offering by Children
DESCRIPTION:
URL:http://saintpiusxchurch.com/wp/event/may-crowning-flower-offering-by-children-5/
END:VEVENT
BEGIN:VEVENT
DTSTART;TZID=America/New_York:20260524T103000
DTEND;TZID=America/New_York:20260524T113000
DTSTAMP:20260422T130003
CREATED:20251211T174940Z
LAST-MODIFIED:20251211T174940Z
UID:19426-1779618600-1779622200@saintpiusxchurch.com
SUMMARY:Pentecost Multi-cultural Family Mass
DESCRIPTION:
URL:http://saintpiusxchurch.com/wp/event/pentecost-multi-cultural-family-mass/
END:VEVENT
BEGIN:VEVENT
DTSTART;TZID=America/New_York:20260524T112000
DTEND;TZID=America/New_York:20260524T130000
DTSTAMP:20260422T130003
CREATED:20260421T154115Z
LAST-MODIFIED:20260421T154115Z
UID:19719-1779621600-1779627600@saintpiusxchurch.com
SUMMARY:SPX Choir (11:20am Rehearsal\, Noon Mass - Multi-Cultural Potluck Lunch after Mass)
DESCRIPTION:
URL:http://saintpiusxchurch.com/wp/event/spx-choir-1120am-rehearsal-noon-mass-multi-cultural-potluck-lunch-after-mass/
END:VEVENT
BEGIN:VEVENT
DTSTART;TZID=UTC:20260524T130000
DTEND;TZID=UTC:20260524T150000
DTSTAMP:20260422T130003
CREATED:20250618T224750Z
LAST-MODIFIED:20250618T224750Z
UID:18804-1779627600-1779634800@saintpiusxchurch.com
SUMMARY:Pentecost Sunday Multi-cultural Potluck Luncheon after 12:00pm mass(Parish Hall)
DESCRIPTION:
URL:http://saintpiusxchurch.com/wp/event/pentecost-sunday-multi-cultural-potluck-luncheon-after-1200pm-massparish-hall-2/
END:VEVENT
BEGIN:VEVENT
DTSTART;TZID=UTC:20260525T080000
DTEND;TZID=UTC:20260525T170000
DTSTAMP:20260422T130003
CREATED:20250618T225133Z
LAST-MODIFIED:20250618T225133Z
UID:18812-1779696000-1779728400@saintpiusxchurch.com
SUMMARY:Memorial Day - No Mass/Parish Office Closed
DESCRIPTION:
URL:http://saintpiusxchurch.com/wp/event/memorial-day-no-mass-parish-office-closed-6/
END:VEVENT
BEGIN:VEVENT
DTSTART;TZID=America/New_York:20260528T193000
DTEND;TZID=America/New_York:20260528T210000
DTSTAMP:20260422T130003
CREATED:20260421T154148Z
LAST-MODIFIED:20260421T154148Z
UID:19721-1779996600-1780002000@saintpiusxchurch.com
SUMMARY:SPX Choir Rehearsal
DESCRIPTION:
URL:http://saintpiusxchurch.com/wp/event/spx-choir-rehearsal-6/
END:VEVENT
BEGIN:VEVENT
DTSTART;TZID=America/New_York:20260531T080000
DTEND;TZID=America/New_York:20260531T140000
DTSTAMP:20260422T130003
CREATED:20260127T182819Z
LAST-MODIFIED:20260127T182819Z
UID:19523-1780214400-1780236000@saintpiusxchurch.com
SUMMARY:Blood Drive
DESCRIPTION:
URL:http://saintpiusxchurch.com/wp/event/blood-drive-5/
END:VEVENT
BEGIN:VEVENT
DTSTART;TZID=UTC:20260531T103000
DTEND;TZID=UTC:20260531T113000
DTSTAMP:20260422T130003
CREATED:20250618T224359Z
LAST-MODIFIED:20250618T224359Z
UID:18794-1780223400-1780227000@saintpiusxchurch.com
SUMMARY:May Crowning/Flower Offering by Children
DESCRIPTION:
URL:http://saintpiusxchurch.com/wp/event/may-crowning-flower-offering-by-children-6/
END:VEVENT
BEGIN:VEVENT
DTSTART;TZID=America/New_York:20260531T112000
DTEND;TZID=America/New_York:20260531T130000
DTSTAMP:20260422T130003
CREATED:20260421T154253Z
LAST-MODIFIED:20260421T154253Z
UID:19723-1780226400-1780232400@saintpiusxchurch.com
SUMMARY:SPX Choir (11:20am Rehearsal\, Noon Mass)
DESCRIPTION:
URL:http://saintpiusxchurch.com/wp/event/spx-choir-1120am-rehearsal-noon-mass-12/
END:VEVENT
BEGIN:VEVENT
DTSTART;TZID=America/New_York:20260601T200000
DTEND;TZID=America/New_York:20260601T210000
DTSTAMP:20260422T130003
CREATED:20250722T152008Z
LAST-MODIFIED:20250722T152008Z
UID:18904-1780344000-1780347600@saintpiusxchurch.com
SUMMARY:Parish Council Meeting
DESCRIPTION:
URL:http://saintpiusxchurch.com/wp/event/parish-council-meeting-22/
END:VEVENT
END:VCALENDAR