BEGIN:VCALENDAR
VERSION:2.0
PRODID:-//Church of Saint Pius X - ECPv6.15.20//NONSGML v1.0//EN
CALSCALE:GREGORIAN
METHOD:PUBLISH
X-WR-CALNAME:Church of Saint Pius X
X-ORIGINAL-URL:http://saintpiusxchurch.com/wp
X-WR-CALDESC:Events for Church of Saint Pius X
REFRESH-INTERVAL;VALUE=DURATION:PT1H
X-Robots-Tag:noindex
X-PUBLISHED-TTL:PT1H
BEGIN:VTIMEZONE
TZID:UTC
BEGIN:STANDARD
TZOFFSETFROM:+0000
TZOFFSETTO:+0000
TZNAME:UTC
DTSTART:20210101T000000
END:STANDARD
END:VTIMEZONE
BEGIN:VEVENT
DTSTART;TZID=UTC:20220925T080000
DTEND;TZID=UTC:20220925T170000
DTSTAMP:20260424T055708
CREATED:20220712T213901Z
LAST-MODIFIED:20220712T213901Z
UID:12974-1664092800-1664125200@saintpiusxchurch.com
SUMMARY:Masses – 8:00am\, 9:15am\,10:30am and 12:00pm
DESCRIPTION:
URL:http://saintpiusxchurch.com/wp/event/masses-800am-915am1030am-and-1200pm-8/
END:VEVENT
BEGIN:VEVENT
DTSTART;TZID=UTC:20220926T080000
DTEND;TZID=UTC:20220926T170000
DTSTAMP:20260424T055708
CREATED:20220712T214136Z
LAST-MODIFIED:20220712T214136Z
UID:12984-1664179200-1664211600@saintpiusxchurch.com
SUMMARY:No RE Classes –Rosh Hashanah
DESCRIPTION:
URL:http://saintpiusxchurch.com/wp/event/no-re-classes-rosh-hashanah/
END:VEVENT
BEGIN:VEVENT
DTSTART;TZID=UTC:20220926T080000
DTEND;TZID=UTC:20220926T170000
DTSTAMP:20260424T055708
CREATED:20220829T181750Z
LAST-MODIFIED:20220829T181750Z
UID:13976-1664179200-1664211600@saintpiusxchurch.com
SUMMARY:Widows and Widowers Mass and Meeting – 7:00pm
DESCRIPTION:
URL:http://saintpiusxchurch.com/wp/event/widows-and-widowers-mass-and-meeting-700pm-7/
END:VEVENT
BEGIN:VEVENT
DTSTART;TZID=UTC:20220927T080000
DTEND;TZID=UTC:20220927T170000
DTSTAMP:20260424T055708
CREATED:20220712T214356Z
LAST-MODIFIED:20220720T225921Z
UID:12992-1664265600-1664298000@saintpiusxchurch.com
SUMMARY:No RE Classes –Rosh Hashanah
DESCRIPTION:
URL:http://saintpiusxchurch.com/wp/event/re-classes-in-session-1st-4th-grade-330-500pm-2/
END:VEVENT
BEGIN:VEVENT
DTSTART;TZID=UTC:20220928T080000
DTEND;TZID=UTC:20220928T170000
DTSTAMP:20260424T055708
CREATED:20220718T194228Z
LAST-MODIFIED:20220718T194228Z
UID:13812-1664352000-1664384400@saintpiusxchurch.com
SUMMARY:FREE Zumba Class by Maya de Jesus\, Zumba and Sweat and Swagger Instructor - (9:00-9:45am)
DESCRIPTION:
URL:http://saintpiusxchurch.com/wp/event/free-zumba-class-by-maya-de-jesus-zumba-and-sweat-and-swagger-instructor-900-945am-9/
END:VEVENT
BEGIN:VEVENT
DTSTART;TZID=UTC:20220930T080000
DTEND;TZID=UTC:20220930T170000
DTSTAMP:20260424T055708
CREATED:20220712T214525Z
LAST-MODIFIED:20220712T214525Z
UID:13002-1664524800-1664557200@saintpiusxchurch.com
SUMMARY:Parish Office Closed
DESCRIPTION:
URL:http://saintpiusxchurch.com/wp/event/parish-office-closed-416/
END:VEVENT
BEGIN:VEVENT
DTSTART;TZID=UTC:20221001T080000
DTEND;TZID=UTC:20221001T170000
DTSTAMP:20260424T055708
CREATED:20220712T214924Z
LAST-MODIFIED:20220712T214924Z
UID:13014-1664611200-1664643600@saintpiusxchurch.com
SUMMARY:9:00am Mass                                     5:00pm Vigil Mass
DESCRIPTION:
URL:http://saintpiusxchurch.com/wp/event/900am-mass-500pm-vigil-mass-56/
END:VEVENT
BEGIN:VEVENT
DTSTART;TZID=UTC:20221001T080000
DTEND;TZID=UTC:20221001T170000
DTSTAMP:20260424T055708
CREATED:20220712T231332Z
LAST-MODIFIED:20220712T231332Z
UID:13309-1664611200-1664643600@saintpiusxchurch.com
SUMMARY:Blessing of Animals – 9:30am SPX Ground
DESCRIPTION:
URL:http://saintpiusxchurch.com/wp/event/blessing-of-animals-930am-spx-ground/
END:VEVENT
BEGIN:VEVENT
DTSTART;TZID=UTC:20221001T080000
DTEND;TZID=UTC:20221001T170000
DTSTAMP:20260424T055708
CREATED:20220712T231402Z
LAST-MODIFIED:20220712T231402Z
UID:13311-1664611200-1664643600@saintpiusxchurch.com
SUMMARY:Coat Drive (October 1– 16\, 2022)
DESCRIPTION:
URL:http://saintpiusxchurch.com/wp/event/coat-drive-october-1-16-2022/
END:VEVENT
BEGIN:VEVENT
DTSTART;TZID=UTC:20221002T080000
DTEND;TZID=UTC:20221002T170000
DTSTAMP:20260424T055708
CREATED:20220712T223049Z
LAST-MODIFIED:20220712T223049Z
UID:13203-1664697600-1664730000@saintpiusxchurch.com
SUMMARY:Kindergarten Class Begins 9:15-10:15am
DESCRIPTION:
URL:http://saintpiusxchurch.com/wp/event/kindergarten-class-begins-915-1015am/
END:VEVENT
BEGIN:VEVENT
DTSTART;TZID=UTC:20221002T080000
DTEND;TZID=UTC:20221002T170000
DTSTAMP:20260424T055708
CREATED:20220712T224210Z
LAST-MODIFIED:20220712T224210Z
UID:13205-1664697600-1664730000@saintpiusxchurch.com
SUMMARY:Masses – 8:00am\, 9:15am\,10:30am and 12:00pm
DESCRIPTION:
URL:http://saintpiusxchurch.com/wp/event/masses-800am-915am1030am-and-1200pm-9/
END:VEVENT
BEGIN:VEVENT
DTSTART;TZID=UTC:20221002T080000
DTEND;TZID=UTC:20221002T170000
DTSTAMP:20260424T055708
CREATED:20220712T231259Z
LAST-MODIFIED:20220712T231259Z
UID:13307-1664697600-1664730000@saintpiusxchurch.com
SUMMARY:Blessing of Expectant Mothers and Newborn – 10:30am mass
DESCRIPTION:
URL:http://saintpiusxchurch.com/wp/event/blessing-of-expectant-mothers-and-newborn-1030am-mass-3/
END:VEVENT
BEGIN:VEVENT
DTSTART;TZID=UTC:20221002T080000
DTEND;TZID=UTC:20221002T170000
DTSTAMP:20260424T055708
CREATED:20220712T231431Z
LAST-MODIFIED:20220712T231431Z
UID:13313-1664697600-1664730000@saintpiusxchurch.com
SUMMARY:Feast of St. Francis of Assisi
DESCRIPTION:
URL:http://saintpiusxchurch.com/wp/event/feast-of-st-francis-of-assisi-5/
END:VEVENT
BEGIN:VEVENT
DTSTART;TZID=UTC:20221003T080000
DTEND;TZID=UTC:20221003T170000
DTSTAMP:20260424T055708
CREATED:20220712T231524Z
LAST-MODIFIED:20220712T231524Z
UID:13315-1664784000-1664816400@saintpiusxchurch.com
SUMMARY:8th Grade -4:00-5:00pm
DESCRIPTION:
URL:http://saintpiusxchurch.com/wp/event/8th-grade-400-500pm/
END:VEVENT
BEGIN:VEVENT
DTSTART;TZID=UTC:20221003T080000
DTEND;TZID=UTC:20221003T170000
DTSTAMP:20260424T055708
CREATED:20220727T195322Z
LAST-MODIFIED:20220727T195507Z
UID:13915-1664784000-1664816400@saintpiusxchurch.com
SUMMARY:5th - 8th Grade Fire Drill (Classtime)
DESCRIPTION:
URL:http://saintpiusxchurch.com/wp/event/5th-8th-fire-drill-grade-classtime/
END:VEVENT
BEGIN:VEVENT
DTSTART;TZID=UTC:20221003T080000
DTEND;TZID=UTC:20221003T170000
DTSTAMP:20260424T055708
CREATED:20220810T204524Z
LAST-MODIFIED:20221221T220957Z
UID:13961-1664784000-1664816400@saintpiusxchurch.com
SUMMARY:RE Classes In Session 5th – 8th 3:30 – 4:30pm
DESCRIPTION:
URL:http://saintpiusxchurch.com/wp/event/re-classes-in-session-5th-7th-330-430pm/
END:VEVENT
BEGIN:VEVENT
DTSTART;TZID=UTC:20221004T080000
DTEND;TZID=UTC:20221004T170000
DTSTAMP:20260424T055708
CREATED:20220712T231638Z
LAST-MODIFIED:20220720T225423Z
UID:13319-1664870400-1664902800@saintpiusxchurch.com
SUMMARY:RE Classes In Session 1st– 4th Grade 3:30 – 5:00pm
DESCRIPTION:
URL:http://saintpiusxchurch.com/wp/event/no-re-classes-yom-kippur/
END:VEVENT
BEGIN:VEVENT
DTSTART;TZID=UTC:20221005T080000
DTEND;TZID=UTC:20221005T170000
DTSTAMP:20260424T055708
CREATED:20220718T194242Z
LAST-MODIFIED:20220718T194242Z
UID:13814-1664956800-1664989200@saintpiusxchurch.com
SUMMARY:FREE Zumba Class by Maya de Jesus\, Zumba and Sweat and Swagger Instructor - (9:00-9:45am)
DESCRIPTION:
URL:http://saintpiusxchurch.com/wp/event/free-zumba-class-by-maya-de-jesus-zumba-and-sweat-and-swagger-instructor-900-945am-10/
END:VEVENT
BEGIN:VEVENT
DTSTART;TZID=UTC:20221007T080000
DTEND;TZID=UTC:20221007T170000
DTSTAMP:20260424T055708
CREATED:20220712T221557Z
LAST-MODIFIED:20220712T221557Z
UID:13110-1665129600-1665162000@saintpiusxchurch.com
SUMMARY:Parish Office Closed
DESCRIPTION:
URL:http://saintpiusxchurch.com/wp/event/parish-office-closed-421/
END:VEVENT
BEGIN:VEVENT
DTSTART;TZID=UTC:20221008T080000
DTEND;TZID=UTC:20221008T170000
DTSTAMP:20260424T055708
CREATED:20220712T214943Z
LAST-MODIFIED:20220712T214943Z
UID:13016-1665216000-1665248400@saintpiusxchurch.com
SUMMARY:9:00am Mass                                     5:00pm Vigil Mass
DESCRIPTION:
URL:http://saintpiusxchurch.com/wp/event/900am-mass-500pm-vigil-mass-57/
END:VEVENT
BEGIN:VEVENT
DTSTART;TZID=UTC:20221009T080000
DTEND;TZID=UTC:20221009T170000
DTSTAMP:20260424T055708
CREATED:20220712T224226Z
LAST-MODIFIED:20220712T224226Z
UID:13207-1665302400-1665334800@saintpiusxchurch.com
SUMMARY:Masses – 8:00am\, 9:15am\,10:30am and 12:00pm
DESCRIPTION:
URL:http://saintpiusxchurch.com/wp/event/masses-800am-915am1030am-and-1200pm-10/
END:VEVENT
BEGIN:VEVENT
DTSTART;TZID=UTC:20221009T080000
DTEND;TZID=UTC:20221009T170000
DTSTAMP:20260424T055708
CREATED:20220712T231739Z
LAST-MODIFIED:20220712T231739Z
UID:13321-1665302400-1665334800@saintpiusxchurch.com
SUMMARY:No Kindergarten(Holiday weekend)
DESCRIPTION:
URL:http://saintpiusxchurch.com/wp/event/no-kindergartenholiday-weekend/
END:VEVENT
BEGIN:VEVENT
DTSTART;TZID=UTC:20221010T080000
DTEND;TZID=UTC:20221010T170000
DTSTAMP:20260424T055708
CREATED:20220712T231804Z
LAST-MODIFIED:20220712T231804Z
UID:13323-1665388800-1665421200@saintpiusxchurch.com
SUMMARY:Columbus Day No RE Classes/No Mass/Parish Office Closed
DESCRIPTION:
URL:http://saintpiusxchurch.com/wp/event/columbus-day-no-re-classes-no-mass-parish-office-closed/
END:VEVENT
BEGIN:VEVENT
DTSTART;TZID=UTC:20221011T080000
DTEND;TZID=UTC:20221011T170000
DTSTAMP:20260424T055708
CREATED:20220712T231830Z
LAST-MODIFIED:20220712T231830Z
UID:13325-1665475200-1665507600@saintpiusxchurch.com
SUMMARY:RE Classes In Session 1st– 4th Grade 3:30 – 5:00pm
DESCRIPTION:
URL:http://saintpiusxchurch.com/wp/event/re-classes-in-session-1st-4th-grade-330-500pm-3/
END:VEVENT
BEGIN:VEVENT
DTSTART;TZID=UTC:20221011T080000
DTEND;TZID=UTC:20221011T170000
DTSTAMP:20260424T055708
CREATED:20220712T231859Z
LAST-MODIFIED:20220712T231859Z
UID:13327-1665475200-1665507600@saintpiusxchurch.com
SUMMARY:Christmas Pageant Casting 3rd – 4th Grade(Classtime)
DESCRIPTION:
URL:http://saintpiusxchurch.com/wp/event/christmas-pageant-casting-3rd-4th-gradeclasstime/
END:VEVENT
BEGIN:VEVENT
DTSTART;TZID=UTC:20221011T080000
DTEND;TZID=UTC:20221011T170000
DTSTAMP:20260424T055708
CREATED:20221005T193318Z
LAST-MODIFIED:20221005T193318Z
UID:14032-1665475200-1665507600@saintpiusxchurch.com
SUMMARY:1st – 4th Grade Fire Drill (Classtime)
DESCRIPTION:
URL:http://saintpiusxchurch.com/wp/event/1st-4th-grade-fire-drill-classtime-2/
END:VEVENT
BEGIN:VEVENT
DTSTART;TZID=UTC:20221012T080000
DTEND;TZID=UTC:20221012T170000
DTSTAMP:20260424T055708
CREATED:20220718T194256Z
LAST-MODIFIED:20220718T194256Z
UID:13816-1665561600-1665594000@saintpiusxchurch.com
SUMMARY:FREE Zumba Class by Maya de Jesus\, Zumba and Sweat and Swagger Instructor - (9:00-9:45am)
DESCRIPTION:
URL:http://saintpiusxchurch.com/wp/event/free-zumba-class-by-maya-de-jesus-zumba-and-sweat-and-swagger-instructor-900-945am-11/
END:VEVENT
BEGIN:VEVENT
DTSTART;TZID=UTC:20221014T080000
DTEND;TZID=UTC:20221014T170000
DTSTAMP:20260424T055708
CREATED:20220712T220453Z
LAST-MODIFIED:20220712T220453Z
UID:13104-1665734400-1665766800@saintpiusxchurch.com
SUMMARY:Parish Office Closed
DESCRIPTION:
URL:http://saintpiusxchurch.com/wp/event/parish-office-closed-418/
END:VEVENT
BEGIN:VEVENT
DTSTART;TZID=UTC:20221015T080000
DTEND;TZID=UTC:20221015T170000
DTSTAMP:20260424T055708
CREATED:20220712T214957Z
LAST-MODIFIED:20220712T214957Z
UID:13018-1665820800-1665853200@saintpiusxchurch.com
SUMMARY:9:00am Mass                                     5:00pm Vigil Mass
DESCRIPTION:
URL:http://saintpiusxchurch.com/wp/event/900am-mass-500pm-vigil-mass-58/
END:VEVENT
BEGIN:VEVENT
DTSTART;TZID=UTC:20221015T080000
DTEND;TZID=UTC:20221015T170000
DTSTAMP:20260424T055708
CREATED:20221005T192902Z
LAST-MODIFIED:20221005T192902Z
UID:14028-1665820800-1665853200@saintpiusxchurch.com
SUMMARY:Youth Ministry Bowling Night(5:00-7:00pm) Bowlero 37 Tarrytown Road White Plains\, NY 10607
DESCRIPTION:
URL:http://saintpiusxchurch.com/wp/event/youth-ministry-bowling-night500-700pm-bowlero-37-tarrytown-road-white-plains-ny-10607/
END:VEVENT
END:VCALENDAR