BEGIN:VCALENDAR
VERSION:2.0
PRODID:-//Church of Saint Pius X - ECPv6.15.20//NONSGML v1.0//EN
CALSCALE:GREGORIAN
METHOD:PUBLISH
X-WR-CALNAME:Church of Saint Pius X
X-ORIGINAL-URL:http://saintpiusxchurch.com/wp
X-WR-CALDESC:Events for Church of Saint Pius X
REFRESH-INTERVAL;VALUE=DURATION:PT1H
X-Robots-Tag:noindex
X-PUBLISHED-TTL:PT1H
BEGIN:VTIMEZONE
TZID:UTC
BEGIN:STANDARD
TZOFFSETFROM:+0000
TZOFFSETTO:+0000
TZNAME:UTC
DTSTART:20220101T000000
END:STANDARD
END:VTIMEZONE
BEGIN:VEVENT
DTSTART;TZID=UTC:20230127T080000
DTEND;TZID=UTC:20230127T170000
DTSTAMP:20260424T024036
CREATED:20220712T222119Z
LAST-MODIFIED:20220712T222119Z
UID:13139-1674806400-1674838800@saintpiusxchurch.com
SUMMARY:Parish Office Closed
DESCRIPTION:
URL:http://saintpiusxchurch.com/wp/event/parish-office-closed-435/
END:VEVENT
BEGIN:VEVENT
DTSTART;TZID=UTC:20230127T080000
DTEND;TZID=UTC:20230127T170000
DTSTAMP:20260424T024036
CREATED:20230131T211014Z
LAST-MODIFIED:20230131T211014Z
UID:14226-1674806400-1674838800@saintpiusxchurch.com
SUMMARY:5th and 6th Grade Community Service Project January 27 - February 27\, 2023 Paws Crossed Animal Rescue Inc. (New York State registered rescue)
DESCRIPTION:
URL:http://saintpiusxchurch.com/wp/event/5th-and-6th-grade-community-service-project-january-27-february-27-2023-paws-crossed-animal-rescue-inc-new-york-state-registered-rescue/
END:VEVENT
BEGIN:VEVENT
DTSTART;TZID=UTC:20230128T080000
DTEND;TZID=UTC:20230128T170000
DTSTAMP:20260424T024036
CREATED:20220712T215400Z
LAST-MODIFIED:20220712T215400Z
UID:13048-1674892800-1674925200@saintpiusxchurch.com
SUMMARY:9:00am Mass                                     5:00pm Vigil Mass
DESCRIPTION:
URL:http://saintpiusxchurch.com/wp/event/900am-mass-500pm-vigil-mass-73/
END:VEVENT
BEGIN:VEVENT
DTSTART;TZID=UTC:20230128T080000
DTEND;TZID=UTC:20230128T170000
DTSTAMP:20260424T024036
CREATED:20221221T202755Z
LAST-MODIFIED:20221221T202755Z
UID:14131-1674892800-1674925200@saintpiusxchurch.com
SUMMARY:YM--Meditation Hour with Certified Yoga Instructor Melissa Cassesse\, Parish Hall 6pm-7pm
DESCRIPTION:
URL:http://saintpiusxchurch.com/wp/event/ym-meditation-hour-with-certified-yoga-instructor-melissa-cassesse-parish-hall-6pm-7pm/
END:VEVENT
BEGIN:VEVENT
DTSTART;TZID=UTC:20230129T080000
DTEND;TZID=UTC:20230129T170000
DTSTAMP:20260424T024036
CREATED:20220712T224931Z
LAST-MODIFIED:20220712T224931Z
UID:13243-1674979200-1675011600@saintpiusxchurch.com
SUMMARY:Masses – 8:00am\, 9:15am\,10:30am and 12:00pm
DESCRIPTION:
URL:http://saintpiusxchurch.com/wp/event/masses-800am-915am1030am-and-1200pm-26/
END:VEVENT
BEGIN:VEVENT
DTSTART;TZID=UTC:20230129T080000
DTEND;TZID=UTC:20230129T170000
DTSTAMP:20260424T024036
CREATED:20220713T183708Z
LAST-MODIFIED:20220713T183708Z
UID:13538-1674979200-1675011600@saintpiusxchurch.com
SUMMARY:Kindergarten Class in Session 9:15-10:15am
DESCRIPTION:
URL:http://saintpiusxchurch.com/wp/event/kindergarten-class-in-session-915-1015am-9/
END:VEVENT
BEGIN:VEVENT
DTSTART;TZID=UTC:20230130T080000
DTEND;TZID=UTC:20230130T170000
DTSTAMP:20260424T024036
CREATED:20220713T183758Z
LAST-MODIFIED:20221221T215311Z
UID:13540-1675065600-1675098000@saintpiusxchurch.com
SUMMARY:RE Classes In Session 5th –  8th 3:30 – 4:30pm
DESCRIPTION:
URL:http://saintpiusxchurch.com/wp/event/re-classes-in-session-5th-7th330-500pm-8th-grade-400-500pm-11/
END:VEVENT
BEGIN:VEVENT
DTSTART;TZID=UTC:20230131T080000
DTEND;TZID=UTC:20230131T170000
DTSTAMP:20260424T024036
CREATED:20220713T183820Z
LAST-MODIFIED:20220713T183820Z
UID:13542-1675152000-1675184400@saintpiusxchurch.com
SUMMARY:RE Classes In Session 1st– 4th Grade 3:30 – 5:00pm
DESCRIPTION:
URL:http://saintpiusxchurch.com/wp/event/re-classes-in-session-1st-4th-grade-330-500pm-8/
END:VEVENT
BEGIN:VEVENT
DTSTART;TZID=UTC:20230203T080000
DTEND;TZID=UTC:20230203T170000
DTSTAMP:20260424T024036
CREATED:20220712T222134Z
LAST-MODIFIED:20220712T222134Z
UID:13141-1675411200-1675443600@saintpiusxchurch.com
SUMMARY:Parish Office Closed
DESCRIPTION:
URL:http://saintpiusxchurch.com/wp/event/parish-office-closed-436/
END:VEVENT
BEGIN:VEVENT
DTSTART;TZID=UTC:20230204T080000
DTEND;TZID=UTC:20230204T170000
DTSTAMP:20260424T024036
CREATED:20220712T215419Z
LAST-MODIFIED:20220712T215419Z
UID:13050-1675497600-1675530000@saintpiusxchurch.com
SUMMARY:9:00am Mass                                     5:00pm Vigil Mass
DESCRIPTION:
URL:http://saintpiusxchurch.com/wp/event/900am-mass-500pm-vigil-mass-74/
END:VEVENT
BEGIN:VEVENT
DTSTART;TZID=UTC:20230205T080000
DTEND;TZID=UTC:20230205T170000
DTSTAMP:20260424T024036
CREATED:20220712T224944Z
LAST-MODIFIED:20220712T224944Z
UID:13245-1675584000-1675616400@saintpiusxchurch.com
SUMMARY:Masses – 8:00am\, 9:15am\,10:30am and 12:00pm
DESCRIPTION:
URL:http://saintpiusxchurch.com/wp/event/masses-800am-915am1030am-and-1200pm-27/
END:VEVENT
BEGIN:VEVENT
DTSTART;TZID=UTC:20230205T080000
DTEND;TZID=UTC:20230205T170000
DTSTAMP:20260424T024036
CREATED:20220713T183859Z
LAST-MODIFIED:20220713T183859Z
UID:13544-1675584000-1675616400@saintpiusxchurch.com
SUMMARY:Kindergarten Class in Session 9:15-10:15am
DESCRIPTION:
URL:http://saintpiusxchurch.com/wp/event/kindergarten-class-in-session-915-1015am-10/
END:VEVENT
BEGIN:VEVENT
DTSTART;TZID=UTC:20230205T080000
DTEND;TZID=UTC:20230205T170000
DTSTAMP:20260424T024036
CREATED:20230123T221901Z
LAST-MODIFIED:20230123T221901Z
UID:14203-1675584000-1675616400@saintpiusxchurch.com
SUMMARY:4th Grade Ministry Sunday - 10:30am Mass
DESCRIPTION:
URL:http://saintpiusxchurch.com/wp/event/4th-grade-ministry-sunday-1030am-mass/
END:VEVENT
BEGIN:VEVENT
DTSTART;TZID=UTC:20230206T080000
DTEND;TZID=UTC:20230206T170000
DTSTAMP:20260424T024036
CREATED:20220713T184157Z
LAST-MODIFIED:20221221T215219Z
UID:13548-1675670400-1675702800@saintpiusxchurch.com
SUMMARY:RE Classes In Session 5th –  8th 3:30 – 4:30pm
DESCRIPTION:
URL:http://saintpiusxchurch.com/wp/event/re-classes-in-session-5th-7th330-500pm-8th-grade-400-500pm-12/
END:VEVENT
BEGIN:VEVENT
DTSTART;TZID=UTC:20230206T080000
DTEND;TZID=UTC:20230206T170000
DTSTAMP:20260424T024036
CREATED:20220713T184224Z
LAST-MODIFIED:20220713T184224Z
UID:13550-1675670400-1675702800@saintpiusxchurch.com
SUMMARY:Parish Council Meeting 8:00pm Parish Pavilion
DESCRIPTION:
URL:http://saintpiusxchurch.com/wp/event/parish-council-meeting-800pm-parish-pavilion-4/
END:VEVENT
BEGIN:VEVENT
DTSTART;TZID=UTC:20230207T080000
DTEND;TZID=UTC:20230207T170000
DTSTAMP:20260424T024036
CREATED:20220713T184258Z
LAST-MODIFIED:20220713T184258Z
UID:13552-1675756800-1675789200@saintpiusxchurch.com
SUMMARY:RE Classes In Session 1st– 4th Grade 3:30 – 5:00pm
DESCRIPTION:
URL:http://saintpiusxchurch.com/wp/event/re-classes-in-session-1st-4th-grade-330-500pm-9/
END:VEVENT
BEGIN:VEVENT
DTSTART;TZID=UTC:20230209T080000
DTEND;TZID=UTC:20230209T170000
DTSTAMP:20260424T024036
CREATED:20221221T202836Z
LAST-MODIFIED:20221221T202836Z
UID:14133-1675929600-1675962000@saintpiusxchurch.com
SUMMARY:YM— Hope Community Services\, Soup Kitchen Service 4:30pm-6:00pm
DESCRIPTION:
URL:http://saintpiusxchurch.com/wp/event/ym-hope-community-services-soup-kitchen-service-430pm-600pm/
END:VEVENT
BEGIN:VEVENT
DTSTART;TZID=UTC:20230210T080000
DTEND;TZID=UTC:20230210T170000
DTSTAMP:20260424T024036
CREATED:20220712T222149Z
LAST-MODIFIED:20220712T222149Z
UID:13143-1676016000-1676048400@saintpiusxchurch.com
SUMMARY:Parish Office Closed
DESCRIPTION:
URL:http://saintpiusxchurch.com/wp/event/parish-office-closed-437/
END:VEVENT
BEGIN:VEVENT
DTSTART;TZID=UTC:20230211T080000
DTEND;TZID=UTC:20230211T170000
DTSTAMP:20260424T024036
CREATED:20220712T215433Z
LAST-MODIFIED:20220712T215433Z
UID:13052-1676102400-1676134800@saintpiusxchurch.com
SUMMARY:9:00am Mass                                     5:00pm Vigil Mass
DESCRIPTION:
URL:http://saintpiusxchurch.com/wp/event/900am-mass-500pm-vigil-mass-75/
END:VEVENT
BEGIN:VEVENT
DTSTART;TZID=UTC:20230212T080000
DTEND;TZID=UTC:20230212T170000
DTSTAMP:20260424T024036
CREATED:20220712T224958Z
LAST-MODIFIED:20220712T224958Z
UID:13247-1676188800-1676221200@saintpiusxchurch.com
SUMMARY:Masses – 8:00am\, 9:15am\,10:30am and 12:00pm
DESCRIPTION:
URL:http://saintpiusxchurch.com/wp/event/masses-800am-915am1030am-and-1200pm-28/
END:VEVENT
BEGIN:VEVENT
DTSTART;TZID=UTC:20230212T080000
DTEND;TZID=UTC:20230212T170000
DTSTAMP:20260424T024036
CREATED:20220713T184332Z
LAST-MODIFIED:20220713T184332Z
UID:13554-1676188800-1676221200@saintpiusxchurch.com
SUMMARY:Kindergarten Class in Session 9:15-10:15am
DESCRIPTION:
URL:http://saintpiusxchurch.com/wp/event/kindergarten-class-in-session-915-1015am-11/
END:VEVENT
BEGIN:VEVENT
DTSTART;TZID=UTC:20230212T080000
DTEND;TZID=UTC:20230212T170000
DTSTAMP:20260424T024036
CREATED:20230125T004303Z
LAST-MODIFIED:20230125T004303Z
UID:14220-1676188800-1676221200@saintpiusxchurch.com
SUMMARY:Hats and Scarves Distribution at Hope Community services - 7:00am - 9:00am
DESCRIPTION:
URL:http://saintpiusxchurch.com/wp/event/hats-and-scarves-distribution-at-hope-community-services-700am-900am/
END:VEVENT
BEGIN:VEVENT
DTSTART;TZID=UTC:20230213T080000
DTEND;TZID=UTC:20230213T170000
DTSTAMP:20260424T024036
CREATED:20220713T184352Z
LAST-MODIFIED:20221221T215132Z
UID:13556-1676275200-1676307600@saintpiusxchurch.com
SUMMARY:RE Classes In Session 5th –  8th 3:30 – 4:30pm
DESCRIPTION:
URL:http://saintpiusxchurch.com/wp/event/re-classes-in-session-5th-7th330-500pm-8th-grade-400-500pm-13/
END:VEVENT
BEGIN:VEVENT
DTSTART;TZID=UTC:20230214T080000
DTEND;TZID=UTC:20230214T170000
DTSTAMP:20260424T024036
CREATED:20220713T184523Z
LAST-MODIFIED:20220713T184523Z
UID:13558-1676361600-1676394000@saintpiusxchurch.com
SUMMARY:RE Classes In Session 1st– 4th Grade 3:30 – 5:00pm
DESCRIPTION:
URL:http://saintpiusxchurch.com/wp/event/re-classes-in-session-1st-4th-grade-330-500pm-10/
END:VEVENT
BEGIN:VEVENT
DTSTART;TZID=UTC:20230217T080000
DTEND;TZID=UTC:20230217T170000
DTSTAMP:20260424T024036
CREATED:20220712T222205Z
LAST-MODIFIED:20220712T222205Z
UID:13145-1676620800-1676653200@saintpiusxchurch.com
SUMMARY:Parish Office Closed
DESCRIPTION:
URL:http://saintpiusxchurch.com/wp/event/parish-office-closed-438/
END:VEVENT
BEGIN:VEVENT
DTSTART;TZID=UTC:20230218T080000
DTEND;TZID=UTC:20230218T170000
DTSTAMP:20260424T024036
CREATED:20220712T215448Z
LAST-MODIFIED:20220712T215448Z
UID:13054-1676707200-1676739600@saintpiusxchurch.com
SUMMARY:9:00am Mass                                     5:00pm Vigil Mass
DESCRIPTION:
URL:http://saintpiusxchurch.com/wp/event/900am-mass-500pm-vigil-mass-76/
END:VEVENT
BEGIN:VEVENT
DTSTART;TZID=UTC:20230219T080000
DTEND;TZID=UTC:20230219T170000
DTSTAMP:20260424T024036
CREATED:20220712T225012Z
LAST-MODIFIED:20220712T225012Z
UID:13249-1676793600-1676826000@saintpiusxchurch.com
SUMMARY:Masses – 8:00am\, 9:15am\,10:30am and 12:00pm
DESCRIPTION:
URL:http://saintpiusxchurch.com/wp/event/masses-800am-915am1030am-and-1200pm-29/
END:VEVENT
BEGIN:VEVENT
DTSTART;TZID=UTC:20230219T080000
DTEND;TZID=UTC:20230219T170000
DTSTAMP:20260424T024036
CREATED:20220713T184600Z
LAST-MODIFIED:20220713T184600Z
UID:13560-1676793600-1676826000@saintpiusxchurch.com
SUMMARY:No Kindergarten Class
DESCRIPTION:
URL:http://saintpiusxchurch.com/wp/event/no-kindergarten-class-10/
END:VEVENT
BEGIN:VEVENT
DTSTART;TZID=UTC:20230219T080000
DTEND;TZID=UTC:20230219T170000
DTSTAMP:20260424T024036
CREATED:20220713T184626Z
LAST-MODIFIED:20220713T184626Z
UID:13562-1676793600-1676826000@saintpiusxchurch.com
SUMMARY:RE Mid-Winter Break
DESCRIPTION:
URL:http://saintpiusxchurch.com/wp/event/re-mid-winter-break-2/
END:VEVENT
BEGIN:VEVENT
DTSTART;TZID=UTC:20230219T080000
DTEND;TZID=UTC:20230219T170000
DTSTAMP:20260424T024036
CREATED:20220713T184720Z
LAST-MODIFIED:20220713T184720Z
UID:13568-1676793600-1676826000@saintpiusxchurch.com
SUMMARY:Birthday Blessings – 10:30am Mass
DESCRIPTION:
URL:http://saintpiusxchurch.com/wp/event/birthday-blessings-1030am-mass-19/
END:VEVENT
END:VCALENDAR