BEGIN:VCALENDAR
VERSION:2.0
PRODID:-//Church of Saint Pius X - ECPv6.15.20//NONSGML v1.0//EN
CALSCALE:GREGORIAN
METHOD:PUBLISH
X-WR-CALNAME:Church of Saint Pius X
X-ORIGINAL-URL:http://saintpiusxchurch.com/wp
X-WR-CALDESC:Events for Church of Saint Pius X
REFRESH-INTERVAL;VALUE=DURATION:PT1H
X-Robots-Tag:noindex
X-PUBLISHED-TTL:PT1H
BEGIN:VTIMEZONE
TZID:UTC
BEGIN:STANDARD
TZOFFSETFROM:+0000
TZOFFSETTO:+0000
TZNAME:UTC
DTSTART:20210101T000000
END:STANDARD
END:VTIMEZONE
BEGIN:VEVENT
DTSTART;TZID=UTC:20220315T080000
DTEND;TZID=UTC:20220315T170000
DTSTAMP:20260424T173731
CREATED:20210928T215310Z
LAST-MODIFIED:20210928T215310Z
UID:12243-1647331200-1647363600@saintpiusxchurch.com
SUMMARY:RE in Session - 1st\, 2nd and 4th Grade 3:30pm – 5:00pm (in person)
DESCRIPTION:
URL:http://saintpiusxchurch.com/wp/event/re-in-session-1st-2nd-and-4th-grade-330pm-500pm-in-person/
END:VEVENT
BEGIN:VEVENT
DTSTART;TZID=UTC:20220315T080000
DTEND;TZID=UTC:20220315T170000
DTSTAMP:20260424T173731
CREATED:20220215T211139Z
LAST-MODIFIED:20220215T211139Z
UID:12557-1647331200-1647363600@saintpiusxchurch.com
SUMMARY:Stations of the Cross – 7:30pm
DESCRIPTION:
URL:http://saintpiusxchurch.com/wp/event/stations-of-the-cross-730pm-3/
END:VEVENT
BEGIN:VEVENT
DTSTART;TZID=UTC:20220315T080000
DTEND;TZID=UTC:20220315T170000
DTSTAMP:20260424T173731
CREATED:20220215T213723Z
LAST-MODIFIED:20220215T213723Z
UID:12605-1647331200-1647363600@saintpiusxchurch.com
SUMMARY:Rosary Devotion after 11:30am Mass
DESCRIPTION:
URL:http://saintpiusxchurch.com/wp/event/rosary-devotion-after-1130am-mass-21/
END:VEVENT
BEGIN:VEVENT
DTSTART;TZID=UTC:20220315T080000
DTEND;TZID=UTC:20220315T170000
DTSTAMP:20260424T173731
CREATED:20220302T020457Z
LAST-MODIFIED:20220302T020457Z
UID:12836-1647331200-1647363600@saintpiusxchurch.com
SUMMARY:3rd Grade Stations of the Cross – 3:30pm(main church)
DESCRIPTION:
URL:http://saintpiusxchurch.com/wp/event/3rd-grade-stations-of-the-cross-330pmmain-church/
END:VEVENT
BEGIN:VEVENT
DTSTART;TZID=UTC:20220316T080000
DTEND;TZID=UTC:20220316T170000
DTSTAMP:20260424T173731
CREATED:20210713T231941Z
LAST-MODIFIED:20210713T231941Z
UID:11748-1647417600-1647450000@saintpiusxchurch.com
SUMMARY:Early Bird Special(March 16-31)RE Registration with $25 Discount in total Registration Fee(discount applies to former/returning students only)
DESCRIPTION:
URL:http://saintpiusxchurch.com/wp/event/early-bird-specialmarch-16-31re-registration-with-25-discount-in-total-registration-feediscount-applies-to-former-returning-students-only/
END:VEVENT
BEGIN:VEVENT
DTSTART;TZID=UTC:20220316T080000
DTEND;TZID=UTC:20220316T170000
DTSTAMP:20260424T173731
CREATED:20211019T232010Z
LAST-MODIFIED:20211019T232010Z
UID:12344-1647417600-1647450000@saintpiusxchurch.com
SUMMARY:2nd Grade Reconciliation Parents’ Meeting - 6:00pm via zoom
DESCRIPTION:
URL:http://saintpiusxchurch.com/wp/event/2nd-grade-reconciliation-parents-meeting-600pm-via-zoom/
END:VEVENT
BEGIN:VEVENT
DTSTART;TZID=UTC:20220316T080000
DTEND;TZID=UTC:20220316T170000
DTSTAMP:20260424T173731
CREATED:20220107T220254Z
LAST-MODIFIED:20220107T220254Z
UID:12508-1647417600-1647450000@saintpiusxchurch.com
SUMMARY:Adult Group St Patrick's Luncheon - 12:30pm
DESCRIPTION:
URL:http://saintpiusxchurch.com/wp/event/adult-group-st-patricks-luncheon-1230pm/
END:VEVENT
BEGIN:VEVENT
DTSTART;TZID=UTC:20220316T080000
DTEND;TZID=UTC:20220316T170000
DTSTAMP:20260424T173731
CREATED:20220215T213736Z
LAST-MODIFIED:20220215T213736Z
UID:12607-1647417600-1647450000@saintpiusxchurch.com
SUMMARY:Rosary Devotion after 11:30am Mass
DESCRIPTION:
URL:http://saintpiusxchurch.com/wp/event/rosary-devotion-after-1130am-mass-22/
END:VEVENT
BEGIN:VEVENT
DTSTART;TZID=UTC:20220317T080000
DTEND;TZID=UTC:20220317T170000
DTSTAMP:20260424T173731
CREATED:20210713T232133Z
LAST-MODIFIED:20210713T232133Z
UID:11752-1647504000-1647536400@saintpiusxchurch.com
SUMMARY:St. Patrick’s Day/Parish Office Closed/No RE
DESCRIPTION:
URL:http://saintpiusxchurch.com/wp/event/st-patricks-day-parish-office-closed-no-re-2/
END:VEVENT
BEGIN:VEVENT
DTSTART;TZID=UTC:20220317T080000
DTEND;TZID=UTC:20220317T170000
DTSTAMP:20260424T173731
CREATED:20220215T213750Z
LAST-MODIFIED:20220215T213750Z
UID:12609-1647504000-1647536400@saintpiusxchurch.com
SUMMARY:Rosary Devotion after 11:30am Mass
DESCRIPTION:
URL:http://saintpiusxchurch.com/wp/event/rosary-devotion-after-1130am-mass-23/
END:VEVENT
BEGIN:VEVENT
DTSTART;TZID=UTC:20220318T080000
DTEND;TZID=UTC:20220318T170000
DTSTAMP:20260424T173731
CREATED:20210713T194320Z
LAST-MODIFIED:20210713T194320Z
UID:11267-1647590400-1647622800@saintpiusxchurch.com
SUMMARY:Parish Office Closed
DESCRIPTION:
URL:http://saintpiusxchurch.com/wp/event/parish-office-closed-386/
END:VEVENT
BEGIN:VEVENT
DTSTART;TZID=UTC:20220318T080000
DTEND;TZID=UTC:20220318T170000
DTSTAMP:20260424T173731
CREATED:20220215T213802Z
LAST-MODIFIED:20220215T213802Z
UID:12611-1647590400-1647622800@saintpiusxchurch.com
SUMMARY:Rosary Devotion after 11:30am Mass
DESCRIPTION:
URL:http://saintpiusxchurch.com/wp/event/rosary-devotion-after-1130am-mass-24/
END:VEVENT
BEGIN:VEVENT
DTSTART;TZID=UTC:20220318T080000
DTEND;TZID=UTC:20220318T170000
DTSTAMP:20260424T173731
CREATED:20220215T213820Z
LAST-MODIFIED:20220215T213820Z
UID:12613-1647590400-1647622800@saintpiusxchurch.com
SUMMARY:Rosary Devotion after 11:30am Mass
DESCRIPTION:
URL:http://saintpiusxchurch.com/wp/event/rosary-devotion-after-1130am-mass-25/
END:VEVENT
BEGIN:VEVENT
DTSTART;TZID=UTC:20220319T080000
DTEND;TZID=UTC:20220319T170000
DTSTAMP:20260424T173731
CREATED:20210713T202733Z
LAST-MODIFIED:20210713T202733Z
UID:11368-1647676800-1647709200@saintpiusxchurch.com
SUMMARY:9:00am Mass                                                                    5:00pm Vigil Mass
DESCRIPTION:
URL:http://saintpiusxchurch.com/wp/event/900am-mass-500pm-vigil-mass-27/
END:VEVENT
BEGIN:VEVENT
DTSTART;TZID=UTC:20220319T080000
DTEND;TZID=UTC:20220319T170000
DTSTAMP:20260424T173731
CREATED:20210713T232212Z
LAST-MODIFIED:20210713T232212Z
UID:11754-1647676800-1647709200@saintpiusxchurch.com
SUMMARY:Teen Boutique (March 19th to April 4th)
DESCRIPTION:
URL:http://saintpiusxchurch.com/wp/event/teen-boutique-march-19th-to-april-4th/
END:VEVENT
BEGIN:VEVENT
DTSTART;TZID=UTC:20220319T080000
DTEND;TZID=UTC:20220319T170000
DTSTAMP:20260424T173731
CREATED:20220208T213223Z
LAST-MODIFIED:20220309T223454Z
UID:12549-1647676800-1647709200@saintpiusxchurch.com
SUMMARY:2nd Grade First Reconciliation Day 10:00am (Main Church)
DESCRIPTION:
URL:http://saintpiusxchurch.com/wp/event/2nd-grade-reconciliation-day-1030am-main-church/
END:VEVENT
BEGIN:VEVENT
DTSTART;TZID=UTC:20220320T080000
DTEND;TZID=UTC:20220320T170000
DTSTAMP:20260424T173731
CREATED:20210713T231502Z
LAST-MODIFIED:20210713T231502Z
UID:11738-1647763200-1647795600@saintpiusxchurch.com
SUMMARY:Lenten Food Drive
DESCRIPTION:
URL:http://saintpiusxchurch.com/wp/event/lenten-food-drive-21/
END:VEVENT
BEGIN:VEVENT
DTSTART;TZID=UTC:20220320T080000
DTEND;TZID=UTC:20220320T170000
DTSTAMP:20260424T173731
CREATED:20210713T232251Z
LAST-MODIFIED:20210713T232251Z
UID:11756-1647763200-1647795600@saintpiusxchurch.com
SUMMARY:Confirmation Family Sacrament Day-after 12pm Mass
DESCRIPTION:
URL:http://saintpiusxchurch.com/wp/event/confirmation-family-sacrament-day-after-12pm-mass-2/
END:VEVENT
BEGIN:VEVENT
DTSTART;TZID=UTC:20220320T080000
DTEND;TZID=UTC:20220320T170000
DTSTAMP:20260424T173731
CREATED:20210715T201128Z
LAST-MODIFIED:20210927T055259Z
UID:11881-1647763200-1647795600@saintpiusxchurch.com
SUMMARY:Kindergarten in Session 9:15-10:15am(in person)
DESCRIPTION:
URL:http://saintpiusxchurch.com/wp/event/kindergarten-in-session-915-1015am-25/
END:VEVENT
BEGIN:VEVENT
DTSTART;TZID=UTC:20220320T080000
DTEND;TZID=UTC:20220320T170000
DTSTAMP:20260424T173731
CREATED:20220223T051246Z
LAST-MODIFIED:20220223T051246Z
UID:12805-1647763200-1647795600@saintpiusxchurch.com
SUMMARY:Birthday Blessings - 10:30am mass
DESCRIPTION:
URL:http://saintpiusxchurch.com/wp/event/birthday-blessings-1030am-mass-12/
END:VEVENT
BEGIN:VEVENT
DTSTART;TZID=UTC:20220321T080000
DTEND;TZID=UTC:20220321T170000
DTSTAMP:20260424T173731
CREATED:20210928T220511Z
LAST-MODIFIED:20210928T222441Z
UID:12273-1647849600-1647882000@saintpiusxchurch.com
SUMMARY:RE in Session - 8th Grade 3:30pm – 4:30pm (virtual via zoom)
DESCRIPTION:
URL:http://saintpiusxchurch.com/wp/event/re-in-session-1st-2nd-and-4th-grade-330pm-500pm-in-person-14/
END:VEVENT
BEGIN:VEVENT
DTSTART;TZID=UTC:20220321T080000
DTEND;TZID=UTC:20220321T170000
DTSTAMP:20260424T173731
CREATED:20210929T200846Z
LAST-MODIFIED:20210929T200846Z
UID:12294-1647849600-1647882000@saintpiusxchurch.com
SUMMARY:RE in Session 3:30 – 5:00pm 5th\, 6th and 7th Grade(in person)
DESCRIPTION:
URL:http://saintpiusxchurch.com/wp/event/re-in-session-330-500pm-5th-6th-and-7th-gradein-person-3/
END:VEVENT
BEGIN:VEVENT
DTSTART;TZID=UTC:20220321T080000
DTEND;TZID=UTC:20220321T170000
DTSTAMP:20260424T173731
CREATED:20220215T213834Z
LAST-MODIFIED:20220215T213834Z
UID:12615-1647849600-1647882000@saintpiusxchurch.com
SUMMARY:Rosary Devotion after 11:30am Mass
DESCRIPTION:
URL:http://saintpiusxchurch.com/wp/event/rosary-devotion-after-1130am-mass-26/
END:VEVENT
BEGIN:VEVENT
DTSTART;TZID=UTC:20220321T080000
DTEND;TZID=UTC:20220321T170000
DTSTAMP:20260424T173731
CREATED:20220302T020626Z
LAST-MODIFIED:20220302T020626Z
UID:12844-1647849600-1647882000@saintpiusxchurch.com
SUMMARY:7th Grade Stations of the Cross – 3:30pm(main church)
DESCRIPTION:
URL:http://saintpiusxchurch.com/wp/event/7th-grade-stations-of-the-cross-330pmmain-church/
END:VEVENT
BEGIN:VEVENT
DTSTART;TZID=UTC:20220322T080000
DTEND;TZID=UTC:20220322T170000
DTSTAMP:20260424T173731
CREATED:20210928T215331Z
LAST-MODIFIED:20210928T215331Z
UID:12245-1647936000-1647968400@saintpiusxchurch.com
SUMMARY:RE in Session - 1st\, 2nd and 4th Grade 3:30pm – 5:00pm (in person)
DESCRIPTION:
URL:http://saintpiusxchurch.com/wp/event/re-in-session-1st-2nd-and-4th-grade-330pm-500pm-in-person-3/
END:VEVENT
BEGIN:VEVENT
DTSTART;TZID=UTC:20220322T080000
DTEND;TZID=UTC:20220322T170000
DTSTAMP:20260424T173731
CREATED:20220215T211157Z
LAST-MODIFIED:20220215T211157Z
UID:12559-1647936000-1647968400@saintpiusxchurch.com
SUMMARY:Stations of the Cross – 7:30pm
DESCRIPTION:
URL:http://saintpiusxchurch.com/wp/event/stations-of-the-cross-730pm-4/
END:VEVENT
BEGIN:VEVENT
DTSTART;TZID=UTC:20220322T080000
DTEND;TZID=UTC:20220322T170000
DTSTAMP:20260424T173731
CREATED:20220215T213845Z
LAST-MODIFIED:20220215T213845Z
UID:12617-1647936000-1647968400@saintpiusxchurch.com
SUMMARY:Rosary Devotion after 11:30am Mass
DESCRIPTION:
URL:http://saintpiusxchurch.com/wp/event/rosary-devotion-after-1130am-mass-27/
END:VEVENT
BEGIN:VEVENT
DTSTART;TZID=UTC:20220322T080000
DTEND;TZID=UTC:20220322T170000
DTSTAMP:20260424T173731
CREATED:20220302T020520Z
LAST-MODIFIED:20220302T020520Z
UID:12838-1647936000-1647968400@saintpiusxchurch.com
SUMMARY:4th Grade Stations of the Cross – 3:30pm(main church)
DESCRIPTION:
URL:http://saintpiusxchurch.com/wp/event/4th-grade-stations-of-the-cross-330pmmain-church/
END:VEVENT
BEGIN:VEVENT
DTSTART;TZID=UTC:20220323T080000
DTEND;TZID=UTC:20220323T170000
DTSTAMP:20260424T173731
CREATED:20210928T213843Z
LAST-MODIFIED:20210928T213843Z
UID:12225-1648022400-1648054800@saintpiusxchurch.com
SUMMARY:RE 3rd Grade in Session 3:30pm – 4:30pm (virtual via zoom)
DESCRIPTION:
URL:http://saintpiusxchurch.com/wp/event/re-3rd-grade-in-session-330pm-430pm-virtual-via-zoom-17/
END:VEVENT
BEGIN:VEVENT
DTSTART;TZID=UTC:20220323T080000
DTEND;TZID=UTC:20220323T170000
DTSTAMP:20260424T173731
CREATED:20220215T213856Z
LAST-MODIFIED:20220215T213856Z
UID:12619-1648022400-1648054800@saintpiusxchurch.com
SUMMARY:Rosary Devotion after 11:30am Mass
DESCRIPTION:
URL:http://saintpiusxchurch.com/wp/event/rosary-devotion-after-1130am-mass-28/
END:VEVENT
END:VCALENDAR