BEGIN:VCALENDAR
VERSION:2.0
PRODID:-//Church of Saint Pius X - ECPv6.15.20//NONSGML v1.0//EN
CALSCALE:GREGORIAN
METHOD:PUBLISH
X-ORIGINAL-URL:http://saintpiusxchurch.com/wp
X-WR-CALDESC:Events for Church of Saint Pius X
REFRESH-INTERVAL;VALUE=DURATION:PT1H
X-Robots-Tag:noindex
X-PUBLISHED-TTL:PT1H
BEGIN:VTIMEZONE
TZID:UTC
BEGIN:STANDARD
TZOFFSETFROM:+0000
TZOFFSETTO:+0000
TZNAME:UTC
DTSTART:20220101T000000
END:STANDARD
END:VTIMEZONE
BEGIN:VEVENT
DTSTART;TZID=UTC:20230212T080000
DTEND;TZID=UTC:20230212T170000
DTSTAMP:20260424T042524
CREATED:20220713T184332Z
LAST-MODIFIED:20220713T184332Z
UID:13554-1676188800-1676221200@saintpiusxchurch.com
SUMMARY:Kindergarten Class in Session 9:15-10:15am
DESCRIPTION:
URL:http://saintpiusxchurch.com/wp/event/kindergarten-class-in-session-915-1015am-11/
END:VEVENT
BEGIN:VEVENT
DTSTART;TZID=UTC:20230212T080000
DTEND;TZID=UTC:20230212T170000
DTSTAMP:20260424T042524
CREATED:20230125T004303Z
LAST-MODIFIED:20230125T004303Z
UID:14220-1676188800-1676221200@saintpiusxchurch.com
SUMMARY:Hats and Scarves Distribution at Hope Community services - 7:00am - 9:00am
DESCRIPTION:
URL:http://saintpiusxchurch.com/wp/event/hats-and-scarves-distribution-at-hope-community-services-700am-900am/
END:VEVENT
BEGIN:VEVENT
DTSTART;TZID=UTC:20230213T080000
DTEND;TZID=UTC:20230213T170000
DTSTAMP:20260424T042524
CREATED:20220713T184352Z
LAST-MODIFIED:20221221T215132Z
UID:13556-1676275200-1676307600@saintpiusxchurch.com
SUMMARY:RE Classes In Session 5th –  8th 3:30 – 4:30pm
DESCRIPTION:
URL:http://saintpiusxchurch.com/wp/event/re-classes-in-session-5th-7th330-500pm-8th-grade-400-500pm-13/
END:VEVENT
BEGIN:VEVENT
DTSTART;TZID=UTC:20230214T080000
DTEND;TZID=UTC:20230214T170000
DTSTAMP:20260424T042524
CREATED:20220713T184523Z
LAST-MODIFIED:20220713T184523Z
UID:13558-1676361600-1676394000@saintpiusxchurch.com
SUMMARY:RE Classes In Session 1st– 4th Grade 3:30 – 5:00pm
DESCRIPTION:
URL:http://saintpiusxchurch.com/wp/event/re-classes-in-session-1st-4th-grade-330-500pm-10/
END:VEVENT
BEGIN:VEVENT
DTSTART;TZID=UTC:20230217T080000
DTEND;TZID=UTC:20230217T170000
DTSTAMP:20260424T042524
CREATED:20220712T222205Z
LAST-MODIFIED:20220712T222205Z
UID:13145-1676620800-1676653200@saintpiusxchurch.com
SUMMARY:Parish Office Closed
DESCRIPTION:
URL:http://saintpiusxchurch.com/wp/event/parish-office-closed-438/
END:VEVENT
BEGIN:VEVENT
DTSTART;TZID=UTC:20230218T080000
DTEND;TZID=UTC:20230218T170000
DTSTAMP:20260424T042524
CREATED:20220712T215448Z
LAST-MODIFIED:20220712T215448Z
UID:13054-1676707200-1676739600@saintpiusxchurch.com
SUMMARY:9:00am Mass                                     5:00pm Vigil Mass
DESCRIPTION:
URL:http://saintpiusxchurch.com/wp/event/900am-mass-500pm-vigil-mass-76/
END:VEVENT
BEGIN:VEVENT
DTSTART;TZID=UTC:20230219T080000
DTEND;TZID=UTC:20230219T170000
DTSTAMP:20260424T042524
CREATED:20220712T225012Z
LAST-MODIFIED:20220712T225012Z
UID:13249-1676793600-1676826000@saintpiusxchurch.com
SUMMARY:Masses – 8:00am\, 9:15am\,10:30am and 12:00pm
DESCRIPTION:
URL:http://saintpiusxchurch.com/wp/event/masses-800am-915am1030am-and-1200pm-29/
END:VEVENT
BEGIN:VEVENT
DTSTART;TZID=UTC:20230219T080000
DTEND;TZID=UTC:20230219T170000
DTSTAMP:20260424T042524
CREATED:20220713T184600Z
LAST-MODIFIED:20220713T184600Z
UID:13560-1676793600-1676826000@saintpiusxchurch.com
SUMMARY:No Kindergarten Class
DESCRIPTION:
URL:http://saintpiusxchurch.com/wp/event/no-kindergarten-class-10/
END:VEVENT
BEGIN:VEVENT
DTSTART;TZID=UTC:20230219T080000
DTEND;TZID=UTC:20230219T170000
DTSTAMP:20260424T042524
CREATED:20220713T184626Z
LAST-MODIFIED:20220713T184626Z
UID:13562-1676793600-1676826000@saintpiusxchurch.com
SUMMARY:RE Mid-Winter Break
DESCRIPTION:
URL:http://saintpiusxchurch.com/wp/event/re-mid-winter-break-2/
END:VEVENT
BEGIN:VEVENT
DTSTART;TZID=UTC:20230219T080000
DTEND;TZID=UTC:20230219T170000
DTSTAMP:20260424T042524
CREATED:20220713T184720Z
LAST-MODIFIED:20220713T184720Z
UID:13568-1676793600-1676826000@saintpiusxchurch.com
SUMMARY:Birthday Blessings – 10:30am Mass
DESCRIPTION:
URL:http://saintpiusxchurch.com/wp/event/birthday-blessings-1030am-mass-19/
END:VEVENT
BEGIN:VEVENT
DTSTART;TZID=UTC:20230220T080000
DTEND;TZID=UTC:20230220T170000
DTSTAMP:20260424T042524
CREATED:20220713T184640Z
LAST-MODIFIED:20230124T233315Z
UID:13564-1676880000-1676912400@saintpiusxchurch.com
SUMMARY:President's Day - Parish Office Closed                    RE Mid-Winter Break
DESCRIPTION:
URL:http://saintpiusxchurch.com/wp/event/re-mid-winter-break-3/
END:VEVENT
BEGIN:VEVENT
DTSTART;TZID=UTC:20230221T080000
DTEND;TZID=UTC:20230221T170000
DTSTAMP:20260424T042524
CREATED:20220713T184656Z
LAST-MODIFIED:20220713T184656Z
UID:13566-1676966400-1676998800@saintpiusxchurch.com
SUMMARY:RE Mid-Winter Break
DESCRIPTION:
URL:http://saintpiusxchurch.com/wp/event/re-mid-winter-break-4/
END:VEVENT
BEGIN:VEVENT
DTSTART;TZID=UTC:20230222T080000
DTEND;TZID=UTC:20230222T170000
DTSTAMP:20260424T042524
CREATED:20220713T184802Z
LAST-MODIFIED:20220713T184802Z
UID:13570-1677052800-1677085200@saintpiusxchurch.com
SUMMARY:Ash Wednesday
DESCRIPTION:
URL:http://saintpiusxchurch.com/wp/event/ash-wednesday-2/
END:VEVENT
BEGIN:VEVENT
DTSTART;TZID=UTC:20230222T080000
DTEND;TZID=UTC:20230222T170000
DTSTAMP:20260424T042524
CREATED:20220713T184829Z
LAST-MODIFIED:20220727T183103Z
UID:13572-1677052800-1677085200@saintpiusxchurch.com
SUMMARY:Masses – 8:00am\, 11:30am & 7:30pm (Main Church) w/ Cantor Distribution of Ashes –  3:00pm & 5:00pm(Main Church)
DESCRIPTION:
URL:http://saintpiusxchurch.com/wp/event/masses-630am-8am-1130am-730pm-main-church-w-cantor-distribution-of-ashes-300pm-500pmmain-church/
END:VEVENT
BEGIN:VEVENT
DTSTART;TZID=UTC:20230222T080000
DTEND;TZID=UTC:20230222T170000
DTSTAMP:20260424T042524
CREATED:20221221T205331Z
LAST-MODIFIED:20221221T205331Z
UID:14145-1677052800-1677085200@saintpiusxchurch.com
SUMMARY:Lenten Food Drive Begins
DESCRIPTION:
URL:http://saintpiusxchurch.com/wp/event/lenten-food-drive-begins-6/
END:VEVENT
BEGIN:VEVENT
DTSTART;TZID=UTC:20230224T080000
DTEND;TZID=UTC:20230224T170000
DTSTAMP:20260424T042524
CREATED:20220712T222223Z
LAST-MODIFIED:20220712T222223Z
UID:13147-1677225600-1677258000@saintpiusxchurch.com
SUMMARY:Parish Office Closed
DESCRIPTION:
URL:http://saintpiusxchurch.com/wp/event/parish-office-closed-439/
END:VEVENT
BEGIN:VEVENT
DTSTART;TZID=UTC:20230225T080000
DTEND;TZID=UTC:20230225T170000
DTSTAMP:20260424T042524
CREATED:20220712T215505Z
LAST-MODIFIED:20220712T215505Z
UID:13056-1677312000-1677344400@saintpiusxchurch.com
SUMMARY:9:00am Mass                                     5:00pm Vigil Mass
DESCRIPTION:
URL:http://saintpiusxchurch.com/wp/event/900am-mass-500pm-vigil-mass-77/
END:VEVENT
BEGIN:VEVENT
DTSTART;TZID=UTC:20230226T080000
DTEND;TZID=UTC:20230226T170000
DTSTAMP:20260424T042524
CREATED:20220712T225026Z
LAST-MODIFIED:20220712T225026Z
UID:13251-1677398400-1677430800@saintpiusxchurch.com
SUMMARY:Masses – 8:00am\, 9:15am\,10:30am and 12:00pm
DESCRIPTION:
URL:http://saintpiusxchurch.com/wp/event/masses-800am-915am1030am-and-1200pm-30/
END:VEVENT
BEGIN:VEVENT
DTSTART;TZID=UTC:20230226T080000
DTEND;TZID=UTC:20230226T170000
DTSTAMP:20260424T042524
CREATED:20220713T184907Z
LAST-MODIFIED:20220713T184907Z
UID:13574-1677398400-1677430800@saintpiusxchurch.com
SUMMARY:No Kindergarten Class
DESCRIPTION:
URL:http://saintpiusxchurch.com/wp/event/no-kindergarten-class-11/
END:VEVENT
BEGIN:VEVENT
DTSTART;TZID=UTC:20230226T080000
DTEND;TZID=UTC:20230226T170000
DTSTAMP:20260424T042524
CREATED:20230208T010731Z
LAST-MODIFIED:20230208T010731Z
UID:14236-1677398400-1677430800@saintpiusxchurch.com
SUMMARY:Lenten Food Drive
DESCRIPTION:
URL:http://saintpiusxchurch.com/wp/event/lenten-food-drive-27/
END:VEVENT
BEGIN:VEVENT
DTSTART;TZID=UTC:20230227T080000
DTEND;TZID=UTC:20230227T170000
DTSTAMP:20260424T042524
CREATED:20220713T184944Z
LAST-MODIFIED:20221221T215040Z
UID:13576-1677484800-1677517200@saintpiusxchurch.com
SUMMARY:RE Classes In Session 5th –  8th 3:30 – 4:30pm
DESCRIPTION:
URL:http://saintpiusxchurch.com/wp/event/re-classes-in-session-5th-7th330-500pm-8th-grade-400-500pm-14/
END:VEVENT
BEGIN:VEVENT
DTSTART;TZID=UTC:20230227T080000
DTEND;TZID=UTC:20230227T170000
DTSTAMP:20260424T042524
CREATED:20220829T181927Z
LAST-MODIFIED:20220829T181927Z
UID:13986-1677484800-1677517200@saintpiusxchurch.com
SUMMARY:Widows and Widowers Mass and Meeting – 7:00pm
DESCRIPTION:
URL:http://saintpiusxchurch.com/wp/event/widows-and-widowers-mass-and-meeting-700pm-12/
END:VEVENT
BEGIN:VEVENT
DTSTART;TZID=UTC:20230227T080000
DTEND;TZID=UTC:20230227T170000
DTSTAMP:20260424T042524
CREATED:20230123T222015Z
LAST-MODIFIED:20230123T222015Z
UID:14205-1677484800-1677517200@saintpiusxchurch.com
SUMMARY:7th Grade Brown Bag Lunch Project - Classtime
DESCRIPTION:
URL:http://saintpiusxchurch.com/wp/event/7th-grade-brown-bag-lunch-project-classtime/
END:VEVENT
BEGIN:VEVENT
DTSTART;TZID=UTC:20230227T080000
DTEND;TZID=UTC:20230227T170000
DTSTAMP:20260424T042524
CREATED:20230131T211127Z
LAST-MODIFIED:20230131T211315Z
UID:14228-1677484800-1677517200@saintpiusxchurch.com
SUMMARY:5th and 6th Grade Community Service Project January 27 - February 27\, 2023 - Paws Crossed Animal Rescue Inc. (New York State registered rescue)
DESCRIPTION:
URL:http://saintpiusxchurch.com/wp/event/5th-and-6th-grade-community-service-project-january-27-february-27-2023-bin-is-provided-in-the-narthex-paws-crossed-animal-rescue-inc-new-york-state-registered-rescue/
END:VEVENT
BEGIN:VEVENT
DTSTART;TZID=UTC:20230227T080000
DTEND;TZID=UTC:20230227T170000
DTSTAMP:20260424T042524
CREATED:20230214T212419Z
LAST-MODIFIED:20230214T213013Z
UID:14250-1677484800-1677517200@saintpiusxchurch.com
SUMMARY:5th Grade Stations of the Cross - 4:00pm
DESCRIPTION:
URL:http://saintpiusxchurch.com/wp/event/8th-grade-stations-of-the-cross-430pm/
END:VEVENT
BEGIN:VEVENT
DTSTART;TZID=UTC:20230227T080000
DTEND;TZID=UTC:20230227T170000
DTSTAMP:20260424T042524
CREATED:20230214T212508Z
LAST-MODIFIED:20230214T212508Z
UID:14254-1677484800-1677517200@saintpiusxchurch.com
SUMMARY:8th Grade Stations of the Cross - 4:30pm
DESCRIPTION:
URL:http://saintpiusxchurch.com/wp/event/8th-grade-stations-of-the-cross-430pm-2/
END:VEVENT
BEGIN:VEVENT
DTSTART;TZID=UTC:20230228T080000
DTEND;TZID=UTC:20230228T170000
DTSTAMP:20260424T042524
CREATED:20220713T185146Z
LAST-MODIFIED:20220713T185146Z
UID:13580-1677571200-1677603600@saintpiusxchurch.com
SUMMARY:RE Classes In Session 1st– 4th Grade 3:30 – 5:00pm
DESCRIPTION:
URL:http://saintpiusxchurch.com/wp/event/re-classes-in-session-1st-4th-grade-330-500pm-11/
END:VEVENT
BEGIN:VEVENT
DTSTART;TZID=UTC:20230228T080000
DTEND;TZID=UTC:20230228T170000
DTSTAMP:20260424T042524
CREATED:20220713T185843Z
LAST-MODIFIED:20220713T185843Z
UID:13598-1677571200-1677603600@saintpiusxchurch.com
SUMMARY:Adult Stations of the Cross- 7:30pm
DESCRIPTION:
URL:http://saintpiusxchurch.com/wp/event/adult-stations-of-the-cross-730pm/
END:VEVENT
BEGIN:VEVENT
DTSTART;TZID=UTC:20230301T080000
DTEND;TZID=UTC:20230301T170000
DTSTAMP:20260424T042524
CREATED:20220713T185938Z
LAST-MODIFIED:20220713T185938Z
UID:13602-1677657600-1677690000@saintpiusxchurch.com
SUMMARY:Early Bird Special(March 1-15)RE Registration with  $50 Discount in total Registration Fee(discount applies to former/returning students only)
DESCRIPTION:
URL:http://saintpiusxchurch.com/wp/event/early-bird-specialmarch-1-15re-registration-with-50-discount-in-total-registration-feediscount-applies-to-former-returning-students-only-2/
END:VEVENT
BEGIN:VEVENT
DTSTART;TZID=UTC:20230303T080000
DTEND;TZID=UTC:20230303T170000
DTSTAMP:20260424T042524
CREATED:20220712T222239Z
LAST-MODIFIED:20220712T222239Z
UID:13149-1677830400-1677862800@saintpiusxchurch.com
SUMMARY:Parish Office Closed
DESCRIPTION:
URL:http://saintpiusxchurch.com/wp/event/parish-office-closed-440/
END:VEVENT
END:VCALENDAR