BEGIN:VCALENDAR
VERSION:2.0
PRODID:-//Church of Saint Pius X - ECPv6.15.20//NONSGML v1.0//EN
CALSCALE:GREGORIAN
METHOD:PUBLISH
X-ORIGINAL-URL:http://saintpiusxchurch.com/wp
X-WR-CALDESC:Events for Church of Saint Pius X
REFRESH-INTERVAL;VALUE=DURATION:PT1H
X-Robots-Tag:noindex
X-PUBLISHED-TTL:PT1H
BEGIN:VTIMEZONE
TZID:UTC
BEGIN:STANDARD
TZOFFSETFROM:+0000
TZOFFSETTO:+0000
TZNAME:UTC
DTSTART:20220101T000000
END:STANDARD
END:VTIMEZONE
BEGIN:VEVENT
DTSTART;TZID=UTC:20230227T080000
DTEND;TZID=UTC:20230227T170000
DTSTAMP:20260424T074018
CREATED:20220713T184944Z
LAST-MODIFIED:20221221T215040Z
UID:13576-1677484800-1677517200@saintpiusxchurch.com
SUMMARY:RE Classes In Session 5th –  8th 3:30 – 4:30pm
DESCRIPTION:
URL:http://saintpiusxchurch.com/wp/event/re-classes-in-session-5th-7th330-500pm-8th-grade-400-500pm-14/
END:VEVENT
BEGIN:VEVENT
DTSTART;TZID=UTC:20230227T080000
DTEND;TZID=UTC:20230227T170000
DTSTAMP:20260424T074018
CREATED:20220829T181927Z
LAST-MODIFIED:20220829T181927Z
UID:13986-1677484800-1677517200@saintpiusxchurch.com
SUMMARY:Widows and Widowers Mass and Meeting – 7:00pm
DESCRIPTION:
URL:http://saintpiusxchurch.com/wp/event/widows-and-widowers-mass-and-meeting-700pm-12/
END:VEVENT
BEGIN:VEVENT
DTSTART;TZID=UTC:20230227T080000
DTEND;TZID=UTC:20230227T170000
DTSTAMP:20260424T074018
CREATED:20230123T222015Z
LAST-MODIFIED:20230123T222015Z
UID:14205-1677484800-1677517200@saintpiusxchurch.com
SUMMARY:7th Grade Brown Bag Lunch Project - Classtime
DESCRIPTION:
URL:http://saintpiusxchurch.com/wp/event/7th-grade-brown-bag-lunch-project-classtime/
END:VEVENT
BEGIN:VEVENT
DTSTART;TZID=UTC:20230227T080000
DTEND;TZID=UTC:20230227T170000
DTSTAMP:20260424T074018
CREATED:20230131T211127Z
LAST-MODIFIED:20230131T211315Z
UID:14228-1677484800-1677517200@saintpiusxchurch.com
SUMMARY:5th and 6th Grade Community Service Project January 27 - February 27\, 2023 - Paws Crossed Animal Rescue Inc. (New York State registered rescue)
DESCRIPTION:
URL:http://saintpiusxchurch.com/wp/event/5th-and-6th-grade-community-service-project-january-27-february-27-2023-bin-is-provided-in-the-narthex-paws-crossed-animal-rescue-inc-new-york-state-registered-rescue/
END:VEVENT
BEGIN:VEVENT
DTSTART;TZID=UTC:20230227T080000
DTEND;TZID=UTC:20230227T170000
DTSTAMP:20260424T074018
CREATED:20230214T212419Z
LAST-MODIFIED:20230214T213013Z
UID:14250-1677484800-1677517200@saintpiusxchurch.com
SUMMARY:5th Grade Stations of the Cross - 4:00pm
DESCRIPTION:
URL:http://saintpiusxchurch.com/wp/event/8th-grade-stations-of-the-cross-430pm/
END:VEVENT
BEGIN:VEVENT
DTSTART;TZID=UTC:20230227T080000
DTEND;TZID=UTC:20230227T170000
DTSTAMP:20260424T074018
CREATED:20230214T212508Z
LAST-MODIFIED:20230214T212508Z
UID:14254-1677484800-1677517200@saintpiusxchurch.com
SUMMARY:8th Grade Stations of the Cross - 4:30pm
DESCRIPTION:
URL:http://saintpiusxchurch.com/wp/event/8th-grade-stations-of-the-cross-430pm-2/
END:VEVENT
BEGIN:VEVENT
DTSTART;TZID=UTC:20230228T080000
DTEND;TZID=UTC:20230228T170000
DTSTAMP:20260424T074018
CREATED:20220713T185146Z
LAST-MODIFIED:20220713T185146Z
UID:13580-1677571200-1677603600@saintpiusxchurch.com
SUMMARY:RE Classes In Session 1st– 4th Grade 3:30 – 5:00pm
DESCRIPTION:
URL:http://saintpiusxchurch.com/wp/event/re-classes-in-session-1st-4th-grade-330-500pm-11/
END:VEVENT
BEGIN:VEVENT
DTSTART;TZID=UTC:20230228T080000
DTEND;TZID=UTC:20230228T170000
DTSTAMP:20260424T074018
CREATED:20220713T185843Z
LAST-MODIFIED:20220713T185843Z
UID:13598-1677571200-1677603600@saintpiusxchurch.com
SUMMARY:Adult Stations of the Cross- 7:30pm
DESCRIPTION:
URL:http://saintpiusxchurch.com/wp/event/adult-stations-of-the-cross-730pm/
END:VEVENT
BEGIN:VEVENT
DTSTART;TZID=UTC:20230301T080000
DTEND;TZID=UTC:20230301T170000
DTSTAMP:20260424T074018
CREATED:20220713T185938Z
LAST-MODIFIED:20220713T185938Z
UID:13602-1677657600-1677690000@saintpiusxchurch.com
SUMMARY:Early Bird Special(March 1-15)RE Registration with  $50 Discount in total Registration Fee(discount applies to former/returning students only)
DESCRIPTION:
URL:http://saintpiusxchurch.com/wp/event/early-bird-specialmarch-1-15re-registration-with-50-discount-in-total-registration-feediscount-applies-to-former-returning-students-only-2/
END:VEVENT
BEGIN:VEVENT
DTSTART;TZID=UTC:20230303T080000
DTEND;TZID=UTC:20230303T170000
DTSTAMP:20260424T074018
CREATED:20220712T222239Z
LAST-MODIFIED:20220712T222239Z
UID:13149-1677830400-1677862800@saintpiusxchurch.com
SUMMARY:Parish Office Closed
DESCRIPTION:
URL:http://saintpiusxchurch.com/wp/event/parish-office-closed-440/
END:VEVENT
BEGIN:VEVENT
DTSTART;TZID=UTC:20230304T080000
DTEND;TZID=UTC:20230304T170000
DTSTAMP:20260424T074018
CREATED:20220712T215627Z
LAST-MODIFIED:20220712T215627Z
UID:13058-1677916800-1677949200@saintpiusxchurch.com
SUMMARY:9:00am Mass                                     5:00pm Vigil Mass
DESCRIPTION:
URL:http://saintpiusxchurch.com/wp/event/900am-mass-500pm-vigil-mass-78/
END:VEVENT
BEGIN:VEVENT
DTSTART;TZID=UTC:20230304T080000
DTEND;TZID=UTC:20230304T170000
DTSTAMP:20260424T074018
CREATED:20221018T225156Z
LAST-MODIFIED:20221018T225156Z
UID:14039-1677916800-1677949200@saintpiusxchurch.com
SUMMARY:8th Grade Confirmation Retreat - The Center at Mariandale Ossining\, NY
DESCRIPTION:
URL:http://saintpiusxchurch.com/wp/event/8th-grade-confirmation-retreat-the-center-at-mariandale-ossining-ny/
END:VEVENT
BEGIN:VEVENT
DTSTART;TZID=UTC:20230305T080000
DTEND;TZID=UTC:20230305T170000
DTSTAMP:20260424T074018
CREATED:20220712T225040Z
LAST-MODIFIED:20220712T225040Z
UID:13253-1678003200-1678035600@saintpiusxchurch.com
SUMMARY:Masses – 8:00am\, 9:15am\,10:30am and 12:00pm
DESCRIPTION:
URL:http://saintpiusxchurch.com/wp/event/masses-800am-915am1030am-and-1200pm-31/
END:VEVENT
BEGIN:VEVENT
DTSTART;TZID=UTC:20230305T080000
DTEND;TZID=UTC:20230305T170000
DTSTAMP:20260424T074018
CREATED:20220713T185324Z
LAST-MODIFIED:20220713T185324Z
UID:13584-1678003200-1678035600@saintpiusxchurch.com
SUMMARY:Kindergarten Class in Session 9:15-10:15am
DESCRIPTION:
URL:http://saintpiusxchurch.com/wp/event/kindergarten-class-in-session-915-1015am-12/
END:VEVENT
BEGIN:VEVENT
DTSTART;TZID=UTC:20230305T080000
DTEND;TZID=UTC:20230305T170000
DTSTAMP:20260424T074018
CREATED:20220713T185451Z
LAST-MODIFIED:20220713T185451Z
UID:13590-1678003200-1678035600@saintpiusxchurch.com
SUMMARY:Lenten Food Drive
DESCRIPTION:
URL:http://saintpiusxchurch.com/wp/event/lenten-food-drive-25/
END:VEVENT
BEGIN:VEVENT
DTSTART;TZID=UTC:20230305T080000
DTEND;TZID=UTC:20230305T170000
DTSTAMP:20260424T074018
CREATED:20230214T221119Z
LAST-MODIFIED:20230214T221258Z
UID:14269-1678003200-1678035600@saintpiusxchurch.com
SUMMARY:Living the Legacy of Vatican II  in Today’s Parish:  Prospects and Challenges - This event is free. 1:30pm (Parish Hall - Ramsey Road\, ramp entrance or through  school lobby/ parking lot on Secor Road)
DESCRIPTION:
URL:http://saintpiusxchurch.com/wp/event/living-the-legacy-of-vatican-ii-in-todays-parish-prospects-and-challenges-130pm-parish-hall-ramsey-road-ramp-entrance-or-through-school-lobby-parking-lot-on-secor-road/
END:VEVENT
BEGIN:VEVENT
DTSTART;TZID=UTC:20230306T080000
DTEND;TZID=UTC:20230306T170000
DTSTAMP:20260424T074018
CREATED:20220713T185630Z
LAST-MODIFIED:20221221T214916Z
UID:13592-1678089600-1678122000@saintpiusxchurch.com
SUMMARY:RE Classes In Session 5th –  8th 3:30 – 4:30pm
DESCRIPTION:
URL:http://saintpiusxchurch.com/wp/event/5th-7th-330-500pm-8th-grade-400-500pm/
END:VEVENT
BEGIN:VEVENT
DTSTART;TZID=UTC:20230306T080000
DTEND;TZID=UTC:20230306T170000
DTSTAMP:20260424T074018
CREATED:20220713T185718Z
LAST-MODIFIED:20220713T185718Z
UID:13594-1678089600-1678122000@saintpiusxchurch.com
SUMMARY:Parish Council Meeting 8:00pm Parish Pavilion
DESCRIPTION:
URL:http://saintpiusxchurch.com/wp/event/parish-council-meeting-800pm-parish-pavilion-5/
END:VEVENT
BEGIN:VEVENT
DTSTART;TZID=UTC:20230306T080000
DTEND;TZID=UTC:20230306T170000
DTSTAMP:20260424T074018
CREATED:20230214T212832Z
LAST-MODIFIED:20230214T212832Z
UID:14261-1678089600-1678122000@saintpiusxchurch.com
SUMMARY:6th Grade Stations of the Cross - 4:00pm
DESCRIPTION:
URL:http://saintpiusxchurch.com/wp/event/6th-grade-stations-of-the-cross-400pm/
END:VEVENT
BEGIN:VEVENT
DTSTART;TZID=UTC:20230307T080000
DTEND;TZID=UTC:20230307T170000
DTSTAMP:20260424T074018
CREATED:20220713T185753Z
LAST-MODIFIED:20220713T185753Z
UID:13596-1678176000-1678208400@saintpiusxchurch.com
SUMMARY:RE Classes In Session 1st– 4th Grade 3:30 – 5:00pm
DESCRIPTION:
URL:http://saintpiusxchurch.com/wp/event/re-classes-in-session-1st-4th-grade-330-500pm-12/
END:VEVENT
BEGIN:VEVENT
DTSTART;TZID=UTC:20230307T080000
DTEND;TZID=UTC:20230307T170000
DTSTAMP:20260424T074018
CREATED:20220713T185905Z
LAST-MODIFIED:20220713T185905Z
UID:13600-1678176000-1678208400@saintpiusxchurch.com
SUMMARY:Adult Stations of the Cross- 7:30pm
DESCRIPTION:
URL:http://saintpiusxchurch.com/wp/event/adult-stations-of-the-cross-730pm-2/
END:VEVENT
BEGIN:VEVENT
DTSTART;TZID=UTC:20230307T080000
DTEND;TZID=UTC:20230307T170000
DTSTAMP:20260424T074018
CREATED:20230214T212713Z
LAST-MODIFIED:20230301T200645Z
UID:14257-1678176000-1678208400@saintpiusxchurch.com
SUMMARY:4th Grade Stations of the Cross - 4:30pm
DESCRIPTION:
URL:http://saintpiusxchurch.com/wp/event/4th-grade-stations-of-the-cross-400pm/
END:VEVENT
BEGIN:VEVENT
DTSTART;TZID=UTC:20230307T080000
DTEND;TZID=UTC:20230307T170000
DTSTAMP:20260424T074018
CREATED:20230214T212902Z
LAST-MODIFIED:20230307T014942Z
UID:14263-1678176000-1678208400@saintpiusxchurch.com
SUMMARY:3rd Grade Stations of the Cross - 4:00pm(both Classes)
DESCRIPTION:
URL:http://saintpiusxchurch.com/wp/event/3rd-grade-stations-of-the-cross-400pm/
END:VEVENT
BEGIN:VEVENT
DTSTART;TZID=UTC:20230308T080000
DTEND;TZID=UTC:20230308T170000
DTSTAMP:20260424T074018
CREATED:20220713T190001Z
LAST-MODIFIED:20220713T190001Z
UID:13604-1678262400-1678294800@saintpiusxchurch.com
SUMMARY:2nd Gr. Reconciliation Parent Meeting – 6:00pm via zoom
DESCRIPTION:
URL:http://saintpiusxchurch.com/wp/event/2nd-gr-reconciliation-parent-meeting-600pm-via-zoom/
END:VEVENT
BEGIN:VEVENT
DTSTART;TZID=UTC:20230310T080000
DTEND;TZID=UTC:20230310T170000
DTSTAMP:20260424T074018
CREATED:20220712T222255Z
LAST-MODIFIED:20220712T222255Z
UID:13151-1678435200-1678467600@saintpiusxchurch.com
SUMMARY:Parish Office Closed
DESCRIPTION:
URL:http://saintpiusxchurch.com/wp/event/parish-office-closed-441/
END:VEVENT
BEGIN:VEVENT
DTSTART;TZID=UTC:20230311T080000
DTEND;TZID=UTC:20230311T170000
DTSTAMP:20260424T074018
CREATED:20220712T215641Z
LAST-MODIFIED:20220712T215641Z
UID:13060-1678521600-1678554000@saintpiusxchurch.com
SUMMARY:9:00am Mass                                     5:00pm Vigil Mass
DESCRIPTION:
URL:http://saintpiusxchurch.com/wp/event/900am-mass-500pm-vigil-mass-79/
END:VEVENT
BEGIN:VEVENT
DTSTART;TZID=UTC:20230311T080000
DTEND;TZID=UTC:20230311T170000
DTSTAMP:20260424T074018
CREATED:20220713T190034Z
LAST-MODIFIED:20220713T190034Z
UID:13606-1678521600-1678554000@saintpiusxchurch.com
SUMMARY:St. Patrick’s Bake Sale -7th Gr. Community Service Project After 5pm Mass (drop-off half an hour before mass)
DESCRIPTION:
URL:http://saintpiusxchurch.com/wp/event/st-patricks-bake-sale-7th-gr-community-service-project-after-5pm-mass-drop-off-half-an-hour-before-mass-2/
END:VEVENT
BEGIN:VEVENT
DTSTART;TZID=UTC:20230312T080000
DTEND;TZID=UTC:20230312T170000
DTSTAMP:20260424T074018
CREATED:20220712T225057Z
LAST-MODIFIED:20220712T225057Z
UID:13255-1678608000-1678640400@saintpiusxchurch.com
SUMMARY:Masses – 8:00am\, 9:15am\,10:30am and 12:00pm
DESCRIPTION:
URL:http://saintpiusxchurch.com/wp/event/masses-800am-915am1030am-and-1200pm-32/
END:VEVENT
BEGIN:VEVENT
DTSTART;TZID=UTC:20230312T080000
DTEND;TZID=UTC:20230312T170000
DTSTAMP:20260424T074018
CREATED:20220713T190110Z
LAST-MODIFIED:20220713T190110Z
UID:13608-1678608000-1678640400@saintpiusxchurch.com
SUMMARY:Kindergarten Class in Session 9:15-10:15am
DESCRIPTION:
URL:http://saintpiusxchurch.com/wp/event/kindergarten-class-in-session-915-1015am-13/
END:VEVENT
BEGIN:VEVENT
DTSTART;TZID=UTC:20230312T080000
DTEND;TZID=UTC:20230312T170000
DTSTAMP:20260424T074018
CREATED:20220713T190145Z
LAST-MODIFIED:20220713T203530Z
UID:13610-1678608000-1678640400@saintpiusxchurch.com
SUMMARY:St. Patrick’s Bake Sale -7th Gr. Community Service Project After all Masses (drop-off half an hour before mass)
DESCRIPTION:
URL:http://saintpiusxchurch.com/wp/event/community-service-project-after-all-masses-drop-off-half-an-hour-before-mass/
END:VEVENT
END:VCALENDAR