BEGIN:VCALENDAR
VERSION:2.0
PRODID:-//Church of Saint Pius X - ECPv6.15.20//NONSGML v1.0//EN
CALSCALE:GREGORIAN
METHOD:PUBLISH
X-ORIGINAL-URL:http://saintpiusxchurch.com/wp
X-WR-CALDESC:Events for Church of Saint Pius X
REFRESH-INTERVAL;VALUE=DURATION:PT1H
X-Robots-Tag:noindex
X-PUBLISHED-TTL:PT1H
BEGIN:VTIMEZONE
TZID:UTC
BEGIN:STANDARD
TZOFFSETFROM:+0000
TZOFFSETTO:+0000
TZNAME:UTC
DTSTART:20210101T000000
END:STANDARD
END:VTIMEZONE
BEGIN:VEVENT
DTSTART;TZID=UTC:20221101T080000
DTEND;TZID=UTC:20221101T170000
DTSTAMP:20260423T195644
CREATED:20220712T233421Z
LAST-MODIFIED:20220712T233421Z
UID:13373-1667289600-1667322000@saintpiusxchurch.com
SUMMARY:All Saints’ Day No RE Classes/ Parish Office Closed
DESCRIPTION:
URL:http://saintpiusxchurch.com/wp/event/all-saints-day-no-re-classes-parish-office-closed/
END:VEVENT
BEGIN:VEVENT
DTSTART;TZID=UTC:20221101T080000
DTEND;TZID=UTC:20221101T170000
DTSTAMP:20260423T195644
CREATED:20221012T215814Z
LAST-MODIFIED:20221012T215814Z
UID:14034-1667289600-1667322000@saintpiusxchurch.com
SUMMARY:All Saints’ Day Masses: 8am\, 11:30am and 7:30pm - No RE Classes/ Parish Office Closed
DESCRIPTION:
URL:http://saintpiusxchurch.com/wp/event/all-saints-day-masses-8am-1130am-and-730pm-no-re-classes-parish-office-closed/
END:VEVENT
BEGIN:VEVENT
DTSTART;TZID=UTC:20221103T080000
DTEND;TZID=UTC:20221103T170000
DTSTAMP:20260423T195644
CREATED:20221002T201307Z
LAST-MODIFIED:20221002T201307Z
UID:14025-1667462400-1667494800@saintpiusxchurch.com
SUMMARY:Thread for Life - knitting and Crocheting - 4:00-6:00pm (Parish Hall)
DESCRIPTION:
URL:http://saintpiusxchurch.com/wp/event/thread-for-life-knitting-and-crocheting-400-600pm-parish-hall/
END:VEVENT
BEGIN:VEVENT
DTSTART;TZID=UTC:20221103T080000
DTEND;TZID=UTC:20221103T170000
DTSTAMP:20260423T195644
CREATED:20221005T193206Z
LAST-MODIFIED:20221005T193206Z
UID:14030-1667462400-1667494800@saintpiusxchurch.com
SUMMARY:Thread for Life - 4:00-6:00pm (Parish Hall)
DESCRIPTION:
URL:http://saintpiusxchurch.com/wp/event/thread-for-life-400-600pm-parish-hall/
END:VEVENT
BEGIN:VEVENT
DTSTART;TZID=UTC:20221104T080000
DTEND;TZID=UTC:20221104T170000
DTSTAMP:20260423T195644
CREATED:20220712T221721Z
LAST-MODIFIED:20220712T221721Z
UID:13113-1667548800-1667581200@saintpiusxchurch.com
SUMMARY:Parish Office Closed
DESCRIPTION:
URL:http://saintpiusxchurch.com/wp/event/parish-office-closed-422/
END:VEVENT
BEGIN:VEVENT
DTSTART;TZID=UTC:20221105T080000
DTEND;TZID=UTC:20221105T170000
DTSTAMP:20260423T195644
CREATED:20220712T215042Z
LAST-MODIFIED:20220712T215042Z
UID:13024-1667635200-1667667600@saintpiusxchurch.com
SUMMARY:9:00am Mass                                     5:00pm Vigil Mass
DESCRIPTION:
URL:http://saintpiusxchurch.com/wp/event/900am-mass-500pm-vigil-mass-61/
END:VEVENT
BEGIN:VEVENT
DTSTART;TZID=UTC:20221105T080000
DTEND;TZID=UTC:20221105T170000
DTSTAMP:20260423T195644
CREATED:20220728T181736Z
LAST-MODIFIED:20220929T175613Z
UID:13924-1667635200-1667667600@saintpiusxchurch.com
SUMMARY:Annual Wine Tasting with Vintology owner Dean Morretta  Parish Hall Parishioners and guests must be 21 or older
DESCRIPTION:
URL:http://saintpiusxchurch.com/wp/event/wine-tasting-parish-hall/
END:VEVENT
BEGIN:VEVENT
DTSTART;TZID=UTC:20221106T080000
DTEND;TZID=UTC:20221106T170000
DTSTAMP:20260423T195644
CREATED:20220712T224345Z
LAST-MODIFIED:20220712T224345Z
UID:13217-1667721600-1667754000@saintpiusxchurch.com
SUMMARY:Masses – 8:00am\, 9:15am\,10:30am and 12:00pm
DESCRIPTION:
URL:http://saintpiusxchurch.com/wp/event/masses-800am-915am1030am-and-1200pm-15/
END:VEVENT
BEGIN:VEVENT
DTSTART;TZID=UTC:20221106T080000
DTEND;TZID=UTC:20221106T170000
DTSTAMP:20260423T195644
CREATED:20220712T233450Z
LAST-MODIFIED:20220712T233450Z
UID:13375-1667721600-1667754000@saintpiusxchurch.com
SUMMARY:Kindergarten Class in Session 9:15-10:15am
DESCRIPTION:
URL:http://saintpiusxchurch.com/wp/event/kindergarten-class-in-session-915-1015am-4/
END:VEVENT
BEGIN:VEVENT
DTSTART;TZID=UTC:20221106T080000
DTEND;TZID=UTC:20221106T170000
DTSTAMP:20260423T195644
CREATED:20220801T204814Z
LAST-MODIFIED:20221030T215911Z
UID:13927-1667721600-1667754000@saintpiusxchurch.com
SUMMARY:Organ Recital 3:00pm - American Guild of Organists (Westchester Chapter)
DESCRIPTION:
URL:http://saintpiusxchurch.com/wp/event/organ-recital-330pm-american-guild-of-organists-westchester-chapter/
END:VEVENT
BEGIN:VEVENT
DTSTART;TZID=UTC:20221107T080000
DTEND;TZID=UTC:20221107T170000
DTSTAMP:20260423T195644
CREATED:20220712T233511Z
LAST-MODIFIED:20221221T220611Z
UID:13377-1667808000-1667840400@saintpiusxchurch.com
SUMMARY:RE Classes In Session 5th –  8th  3:30 – 4:30pm
DESCRIPTION:
URL:http://saintpiusxchurch.com/wp/event/re-classes-in-session-5th-7th330-500pm-8th-grade-400-500pm-4/
END:VEVENT
BEGIN:VEVENT
DTSTART;TZID=UTC:20221107T080000
DTEND;TZID=UTC:20221107T170000
DTSTAMP:20260423T195644
CREATED:20220712T233536Z
LAST-MODIFIED:20220712T233536Z
UID:13379-1667808000-1667840400@saintpiusxchurch.com
SUMMARY:7th Grade Pre-Confirmation Interview(classtime) with Fr Raymond
DESCRIPTION:
URL:http://saintpiusxchurch.com/wp/event/7th-grade-pre-confirmation-interviewclasstime-with-fr-raymond/
END:VEVENT
BEGIN:VEVENT
DTSTART;TZID=UTC:20221107T080000
DTEND;TZID=UTC:20221107T170000
DTSTAMP:20260423T195644
CREATED:20220712T233605Z
LAST-MODIFIED:20220712T233605Z
UID:13381-1667808000-1667840400@saintpiusxchurch.com
SUMMARY:Parish Council Meeting 8:00pm Parish Pavilion
DESCRIPTION:
URL:http://saintpiusxchurch.com/wp/event/parish-council-meeting-800pm-parish-pavilion-2/
END:VEVENT
BEGIN:VEVENT
DTSTART;TZID=UTC:20221108T080000
DTEND;TZID=UTC:20221108T170000
DTSTAMP:20260423T195644
CREATED:20220712T233625Z
LAST-MODIFIED:20220712T233625Z
UID:13383-1667894400-1667926800@saintpiusxchurch.com
SUMMARY:Election Day No RE Classes/Parish Office Closed
DESCRIPTION:
URL:http://saintpiusxchurch.com/wp/event/election-day-no-re-classes-parish-office-closed/
END:VEVENT
BEGIN:VEVENT
DTSTART;TZID=UTC:20221111T080000
DTEND;TZID=UTC:20221111T170000
DTSTAMP:20260423T195644
CREATED:20220712T221736Z
LAST-MODIFIED:20220712T221736Z
UID:13115-1668153600-1668186000@saintpiusxchurch.com
SUMMARY:Parish Office Closed
DESCRIPTION:
URL:http://saintpiusxchurch.com/wp/event/parish-office-closed-423/
END:VEVENT
BEGIN:VEVENT
DTSTART;TZID=UTC:20221111T080000
DTEND;TZID=UTC:20221111T170000
DTSTAMP:20260423T195644
CREATED:20220712T233645Z
LAST-MODIFIED:20220712T233645Z
UID:13385-1668153600-1668186000@saintpiusxchurch.com
SUMMARY:Veteran’s Day
DESCRIPTION:
URL:http://saintpiusxchurch.com/wp/event/veterans-day-3/
END:VEVENT
BEGIN:VEVENT
DTSTART;TZID=UTC:20221112T080000
DTEND;TZID=UTC:20221112T170000
DTSTAMP:20260423T195644
CREATED:20220712T215058Z
LAST-MODIFIED:20220712T215058Z
UID:13026-1668240000-1668272400@saintpiusxchurch.com
SUMMARY:9:00am Mass                                     5:00pm Vigil Mass
DESCRIPTION:
URL:http://saintpiusxchurch.com/wp/event/900am-mass-500pm-vigil-mass-62/
END:VEVENT
BEGIN:VEVENT
DTSTART;TZID=UTC:20221113T080000
DTEND;TZID=UTC:20221113T170000
DTSTAMP:20260423T195644
CREATED:20220712T224403Z
LAST-MODIFIED:20220712T224403Z
UID:13219-1668326400-1668358800@saintpiusxchurch.com
SUMMARY:Masses – 8:00am\, 9:15am\,10:30am and 12:00pm
DESCRIPTION:
URL:http://saintpiusxchurch.com/wp/event/masses-800am-915am1030am-and-1200pm-16/
END:VEVENT
BEGIN:VEVENT
DTSTART;TZID=UTC:20221113T080000
DTEND;TZID=UTC:20221113T170000
DTSTAMP:20260423T195644
CREATED:20220712T233718Z
LAST-MODIFIED:20220712T233718Z
UID:13387-1668326400-1668358800@saintpiusxchurch.com
SUMMARY:Kindergarten Class in Session 9:15-10:15am
DESCRIPTION:
URL:http://saintpiusxchurch.com/wp/event/kindergarten-class-in-session-915-1015am-5/
END:VEVENT
BEGIN:VEVENT
DTSTART;TZID=UTC:20221114T080000
DTEND;TZID=UTC:20221114T170000
DTSTAMP:20260423T195644
CREATED:20220712T233805Z
LAST-MODIFIED:20221221T220526Z
UID:13391-1668412800-1668445200@saintpiusxchurch.com
SUMMARY:RE Classes In Session 5th –  8th  3:30 – 4:30pm
DESCRIPTION:
URL:http://saintpiusxchurch.com/wp/event/re-classes-in-session-5th-7th330-500pm-8th-grade-400-500pm-5/
END:VEVENT
BEGIN:VEVENT
DTSTART;TZID=UTC:20221115T080000
DTEND;TZID=UTC:20221115T170000
DTSTAMP:20260423T195644
CREATED:20220712T233838Z
LAST-MODIFIED:20220712T233838Z
UID:13393-1668499200-1668531600@saintpiusxchurch.com
SUMMARY:RE Classes In Session 1st– 4th Grade 3:30 – 5:00pm                                           Christmas Pageant Rehearsal
DESCRIPTION:
URL:http://saintpiusxchurch.com/wp/event/re-classes-in-session-1st-4th-grade-330-500pm-christmas-pageant-rehearsal-2/
END:VEVENT
BEGIN:VEVENT
DTSTART;TZID=UTC:20221118T080000
DTEND;TZID=UTC:20221118T170000
DTSTAMP:20260423T195644
CREATED:20220712T221751Z
LAST-MODIFIED:20220712T221751Z
UID:13117-1668758400-1668790800@saintpiusxchurch.com
SUMMARY:Parish Office Closed
DESCRIPTION:
URL:http://saintpiusxchurch.com/wp/event/parish-office-closed-424/
END:VEVENT
BEGIN:VEVENT
DTSTART;TZID=UTC:20221118T080000
DTEND;TZID=UTC:20221118T170000
DTSTAMP:20260423T195644
CREATED:20221025T181838Z
LAST-MODIFIED:20221025T181838Z
UID:14041-1668758400-1668790800@saintpiusxchurch.com
SUMMARY:5th and 6th Grade Community Service Project -Halloween Candies Distribution in Hope Community Services (New Rochelle\, NY)
DESCRIPTION:
URL:http://saintpiusxchurch.com/wp/event/5th-and-6th-grade-community-service-project-halloween-candies-distribution-in-hope-community-services-new-rochelle-ny/
END:VEVENT
BEGIN:VEVENT
DTSTART;TZID=UTC:20221119T080000
DTEND;TZID=UTC:20221119T170000
DTSTAMP:20260423T195644
CREATED:20220712T215111Z
LAST-MODIFIED:20220712T215111Z
UID:13028-1668844800-1668877200@saintpiusxchurch.com
SUMMARY:9:00am Mass                                     5:00pm Vigil Mass
DESCRIPTION:
URL:http://saintpiusxchurch.com/wp/event/900am-mass-500pm-vigil-mass-63/
END:VEVENT
BEGIN:VEVENT
DTSTART;TZID=UTC:20221119T080000
DTEND;TZID=UTC:20221119T170000
DTSTAMP:20260423T195644
CREATED:20220712T233911Z
LAST-MODIFIED:20220712T233911Z
UID:13395-1668844800-1668877200@saintpiusxchurch.com
SUMMARY:Thanksgiving Food Drive 4:45pm – 6:00pm(Leave frozen turkeys in the school lobby  or on the bench outside the school)
DESCRIPTION:
URL:http://saintpiusxchurch.com/wp/event/thanksgiving-food-drive-445pm-600pmleave-frozen-turkeys-in-the-school-lobby-or-on-the-bench-outside-the-school-2/
END:VEVENT
BEGIN:VEVENT
DTSTART;TZID=UTC:20221120T080000
DTEND;TZID=UTC:20221120T170000
DTSTAMP:20260423T195644
CREATED:20220712T224420Z
LAST-MODIFIED:20220712T224420Z
UID:13221-1668931200-1668963600@saintpiusxchurch.com
SUMMARY:Masses – 8:00am\, 9:15am\,10:30am and 12:00pm
DESCRIPTION:
URL:http://saintpiusxchurch.com/wp/event/masses-800am-915am1030am-and-1200pm-17/
END:VEVENT
BEGIN:VEVENT
DTSTART;TZID=UTC:20221120T080000
DTEND;TZID=UTC:20221120T170000
DTSTAMP:20260423T195644
CREATED:20220712T233948Z
LAST-MODIFIED:20220712T233948Z
UID:13397-1668931200-1668963600@saintpiusxchurch.com
SUMMARY:No Kindergarten(Thanksgiving Day Weekend)
DESCRIPTION:
URL:http://saintpiusxchurch.com/wp/event/no-kindergartenthanksgiving-day-weekend/
END:VEVENT
BEGIN:VEVENT
DTSTART;TZID=UTC:20221120T080000
DTEND;TZID=UTC:20221120T170000
DTSTAMP:20260423T195644
CREATED:20220712T234021Z
LAST-MODIFIED:20220712T234021Z
UID:13401-1668931200-1668963600@saintpiusxchurch.com
SUMMARY:Birthday Blessing- 10:30am
DESCRIPTION:
URL:http://saintpiusxchurch.com/wp/event/birthday-blessing-1030am-9/
END:VEVENT
BEGIN:VEVENT
DTSTART;TZID=UTC:20221120T080000
DTEND;TZID=UTC:20221120T170000
DTSTAMP:20260423T195644
CREATED:20220712T234049Z
LAST-MODIFIED:20220712T234049Z
UID:13403-1668931200-1668963600@saintpiusxchurch.com
SUMMARY:Thanksgiving Food Drive 7:45am – 1:15pm(Leave frozen turkeys in the school lobby  or on the bench outside the school)
DESCRIPTION:
URL:http://saintpiusxchurch.com/wp/event/thanksgiving-food-drive-745am-115pmleave-frozen-turkeys-in-the-school-lobby-or-on-the-bench-outside-the-school/
END:VEVENT
BEGIN:VEVENT
DTSTART;TZID=UTC:20221120T080000
DTEND;TZID=UTC:20221120T170000
DTSTAMP:20260423T195644
CREATED:20220712T234108Z
LAST-MODIFIED:20220712T234108Z
UID:13405-1668931200-1668963600@saintpiusxchurch.com
SUMMARY:Thanksgiving Liturgy
DESCRIPTION:
URL:http://saintpiusxchurch.com/wp/event/thanksgiving-liturgy-2/
END:VEVENT
END:VCALENDAR