BEGIN:VCALENDAR
VERSION:2.0
PRODID:-//Church of Saint Pius X - ECPv6.15.20//NONSGML v1.0//EN
CALSCALE:GREGORIAN
METHOD:PUBLISH
X-ORIGINAL-URL:http://saintpiusxchurch.com/wp
X-WR-CALDESC:Events for Church of Saint Pius X
REFRESH-INTERVAL;VALUE=DURATION:PT1H
X-Robots-Tag:noindex
X-PUBLISHED-TTL:PT1H
BEGIN:VTIMEZONE
TZID:UTC
BEGIN:STANDARD
TZOFFSETFROM:+0000
TZOFFSETTO:+0000
TZNAME:UTC
DTSTART:20240101T000000
END:STANDARD
END:VTIMEZONE
BEGIN:VEVENT
DTSTART;TZID=UTC:20250701T080000
DTEND;TZID=UTC:20250701T170000
DTSTAMP:20260423T054209
CREATED:20240612T200230Z
LAST-MODIFIED:20240612T200230Z
UID:17004-1751356800-1751389200@saintpiusxchurch.com
SUMMARY:No 11:30am Weekday Mass – July 1 to September 5\, 2025
DESCRIPTION:
URL:http://saintpiusxchurch.com/wp/event/no-1130am-weekday-mass-july-1-to-september-5-2025/
END:VEVENT
BEGIN:VEVENT
DTSTART;TZID=UTC:20250701T150000
DTEND;TZID=UTC:20250701T163000
DTSTAMP:20260423T054209
CREATED:20250609T215419Z
LAST-MODIFIED:20250609T215419Z
UID:18188-1751382000-1751387400@saintpiusxchurch.com
SUMMARY:RE Summer Class
DESCRIPTION:
URL:http://saintpiusxchurch.com/wp/event/re-summer-class-7/
END:VEVENT
BEGIN:VEVENT
DTSTART;TZID=UTC:20250704T080000
DTEND;TZID=UTC:20250704T170000
DTSTAMP:20260423T054209
CREATED:20240612T200308Z
LAST-MODIFIED:20240612T200308Z
UID:17006-1751616000-1751648400@saintpiusxchurch.com
SUMMARY:Independence Day No Mass/Parish Office Closed
DESCRIPTION:
URL:http://saintpiusxchurch.com/wp/event/independence-day-no-mass-parish-office-closed-3/
END:VEVENT
BEGIN:VEVENT
DTSTART;TZID=UTC:20250705T080000
DTEND;TZID=UTC:20250705T170000
DTSTAMP:20260423T054209
CREATED:20240612T200342Z
LAST-MODIFIED:20240612T200342Z
UID:17008-1751702400-1751734800@saintpiusxchurch.com
SUMMARY:No Saturday 9:00am Mass in July and August
DESCRIPTION:
URL:http://saintpiusxchurch.com/wp/event/no-saturday-900am-mass-in-july-and-august/
END:VEVENT
BEGIN:VEVENT
DTSTART;TZID=UTC:20250708T150000
DTEND;TZID=UTC:20250708T163000
DTSTAMP:20260423T054209
CREATED:20250609T215457Z
LAST-MODIFIED:20250609T220616Z
UID:18190-1751986800-1751992200@saintpiusxchurch.com
SUMMARY:RE Summer Class
DESCRIPTION:
URL:http://saintpiusxchurch.com/wp/event/re-summer-class-8/
END:VEVENT
BEGIN:VEVENT
DTSTART;TZID=UTC:20250715T150000
DTEND;TZID=UTC:20250715T163000
DTSTAMP:20260423T054209
CREATED:20250609T215533Z
LAST-MODIFIED:20250609T220729Z
UID:18192-1752591600-1752597000@saintpiusxchurch.com
SUMMARY:RE Summer Class
DESCRIPTION:
URL:http://saintpiusxchurch.com/wp/event/re-summer-class-9/
END:VEVENT
BEGIN:VEVENT
DTSTART;TZID=UTC:20250720T103000
DTEND;TZID=UTC:20250720T113000
DTSTAMP:20260423T054209
CREATED:20240612T200431Z
LAST-MODIFIED:20240820T203141Z
UID:17010-1753007400-1753011000@saintpiusxchurch.com
SUMMARY:Birthday Blessings – 10:30am Mass
DESCRIPTION:
URL:http://saintpiusxchurch.com/wp/event/birthday-blessings-1030am-mass-35/
END:VEVENT
BEGIN:VEVENT
DTSTART;TZID=UTC:20250722T150000
DTEND;TZID=UTC:20250722T163000
DTSTAMP:20260423T054209
CREATED:20250609T215647Z
LAST-MODIFIED:20250609T215647Z
UID:18194-1753196400-1753201800@saintpiusxchurch.com
SUMMARY:RE Summer Class
DESCRIPTION:
URL:http://saintpiusxchurch.com/wp/event/re-summer-class-10/
END:VEVENT
BEGIN:VEVENT
DTSTART;TZID=UTC:20250729T150000
DTEND;TZID=UTC:20250729T163000
DTSTAMP:20260423T054209
CREATED:20250609T215715Z
LAST-MODIFIED:20250609T215715Z
UID:18196-1753801200-1753806600@saintpiusxchurch.com
SUMMARY:RE Summer Class
DESCRIPTION:
URL:http://saintpiusxchurch.com/wp/event/re-summer-class-11/
END:VEVENT
END:VCALENDAR