BEGIN:VCALENDAR
VERSION:2.0
PRODID:-//Church of Saint Pius X - ECPv6.15.20//NONSGML v1.0//EN
CALSCALE:GREGORIAN
METHOD:PUBLISH
X-WR-CALNAME:Church of Saint Pius X
X-ORIGINAL-URL:https://saintpiusxchurch.com/wp
X-WR-CALDESC:Events for Church of Saint Pius X
REFRESH-INTERVAL;VALUE=DURATION:PT1H
X-Robots-Tag:noindex
X-PUBLISHED-TTL:PT1H
BEGIN:VTIMEZONE
TZID:UTC
BEGIN:STANDARD
TZOFFSETFROM:+0000
TZOFFSETTO:+0000
TZNAME:UTC
DTSTART:20250101T000000
END:STANDARD
END:VTIMEZONE
BEGIN:VTIMEZONE
TZID:America/New_York
BEGIN:DAYLIGHT
TZOFFSETFROM:-0500
TZOFFSETTO:-0400
TZNAME:EDT
DTSTART:20250309T070000
END:DAYLIGHT
BEGIN:STANDARD
TZOFFSETFROM:-0400
TZOFFSETTO:-0500
TZNAME:EST
DTSTART:20251102T060000
END:STANDARD
BEGIN:DAYLIGHT
TZOFFSETFROM:-0500
TZOFFSETTO:-0400
TZNAME:EDT
DTSTART:20260308T070000
END:DAYLIGHT
BEGIN:STANDARD
TZOFFSETFROM:-0400
TZOFFSETTO:-0500
TZNAME:EST
DTSTART:20261101T060000
END:STANDARD
BEGIN:DAYLIGHT
TZOFFSETFROM:-0500
TZOFFSETTO:-0400
TZNAME:EDT
DTSTART:20270314T070000
END:DAYLIGHT
BEGIN:STANDARD
TZOFFSETFROM:-0400
TZOFFSETTO:-0500
TZNAME:EST
DTSTART:20271107T060000
END:STANDARD
END:VTIMEZONE
BEGIN:VEVENT
DTSTART;TZID=UTC:20260421T153000
DTEND;TZID=UTC:20260421T170000
DTSTAMP:20260421T060436
CREATED:20250618T221956Z
LAST-MODIFIED:20250618T221956Z
UID:18738-1776785400-1776790800@saintpiusxchurch.com
SUMMARY:RE in Session
DESCRIPTION:
URL:https://saintpiusxchurch.com/wp/event/re-in-session-195/
END:VEVENT
BEGIN:VEVENT
DTSTART;TZID=America/New_York:20260421T153000
DTEND;TZID=America/New_York:20260421T170000
DTSTAMP:20260421T060436
CREATED:20251006T201550Z
LAST-MODIFIED:20251006T201550Z
UID:19161-1776785400-1776790800@saintpiusxchurch.com
SUMMARY:First Communion Readers’ Practice – 3:30-4:15pm (10AM Group)\,  4:15-5:00pm (12PM Group)
DESCRIPTION:
URL:https://saintpiusxchurch.com/wp/event/first-communion-readers-practice-330-415pm-10am-group-415-500pm-12pm-group/
END:VEVENT
BEGIN:VEVENT
DTSTART;TZID=America/New_York:20260421T170000
DTEND;TZID=America/New_York:20260421T173000
DTSTAMP:20260421T060436
CREATED:20250729T173121Z
LAST-MODIFIED:20250729T173121Z
UID:18931-1776790800-1776792600@saintpiusxchurch.com
SUMMARY:No Children's Choir
DESCRIPTION:
URL:https://saintpiusxchurch.com/wp/event/no-childrens-choir-7/
END:VEVENT
BEGIN:VEVENT
DTSTART;TZID=America/New_York:20260421T170000
DTEND;TZID=America/New_York:20260421T173000
DTSTAMP:20260421T060436
CREATED:20251211T172130Z
LAST-MODIFIED:20251211T172130Z
UID:19411-1776790800-1776792600@saintpiusxchurch.com
SUMMARY:2nd Grade Teachers - First Communion Meeting after RE
DESCRIPTION:
URL:https://saintpiusxchurch.com/wp/event/2nd-grade-teachers-first-communion-meeting-after-re/
END:VEVENT
END:VCALENDAR