BEGIN:VCALENDAR
VERSION:2.0
PRODID:-//Church of Saint Pius X - ECPv6.15.20//NONSGML v1.0//EN
CALSCALE:GREGORIAN
METHOD:PUBLISH
X-ORIGINAL-URL:https://saintpiusxchurch.com/wp
X-WR-CALDESC:Events for Church of Saint Pius X
REFRESH-INTERVAL;VALUE=DURATION:PT1H
X-Robots-Tag:noindex
X-PUBLISHED-TTL:PT1H
BEGIN:VTIMEZONE
TZID:UTC
BEGIN:STANDARD
TZOFFSETFROM:+0000
TZOFFSETTO:+0000
TZNAME:UTC
DTSTART:20230101T000000
END:STANDARD
END:VTIMEZONE
BEGIN:VEVENT
DTSTART;TZID=UTC:20241226T080000
DTEND;TZID=UTC:20241226T170000
DTSTAMP:20260419T220031
CREATED:20240611T203631Z
LAST-MODIFIED:20240611T203631Z
UID:16778-1735200000-1735232400@saintpiusxchurch.com
SUMMARY:No Mass/Parish Office Closed
DESCRIPTION:
URL:https://saintpiusxchurch.com/wp/event/no-mass-parish-office-closed-8/
END:VEVENT
BEGIN:VEVENT
DTSTART;TZID=UTC:20241229T080000
DTEND;TZID=UTC:20241229T170000
DTSTAMP:20260419T220031
CREATED:20240611T202949Z
LAST-MODIFIED:20240611T202949Z
UID:16762-1735459200-1735491600@saintpiusxchurch.com
SUMMARY:RE Christmas Break
DESCRIPTION:
URL:https://saintpiusxchurch.com/wp/event/re-christmas-break-11/
END:VEVENT
BEGIN:VEVENT
DTSTART;TZID=UTC:20241230T080000
DTEND;TZID=UTC:20241230T170000
DTSTAMP:20260419T220031
CREATED:20240611T203020Z
LAST-MODIFIED:20240611T203020Z
UID:16764-1735545600-1735578000@saintpiusxchurch.com
SUMMARY:RE Christmas Break
DESCRIPTION:
URL:https://saintpiusxchurch.com/wp/event/re-christmas-break-12/
END:VEVENT
BEGIN:VEVENT
DTSTART;TZID=UTC:20241231T080000
DTEND;TZID=UTC:20241231T170000
DTSTAMP:20260419T220031
CREATED:20240611T203046Z
LAST-MODIFIED:20240611T203046Z
UID:16766-1735632000-1735664400@saintpiusxchurch.com
SUMMARY:RE Christmas Break
DESCRIPTION:
URL:https://saintpiusxchurch.com/wp/event/re-christmas-break-13/
END:VEVENT
BEGIN:VEVENT
DTSTART;TZID=UTC:20241231T160000
DTEND;TZID=UTC:20241231T170000
DTSTAMP:20260419T220031
CREATED:20240611T203720Z
LAST-MODIFIED:20240611T203720Z
UID:16780-1735660800-1735664400@saintpiusxchurch.com
SUMMARY:New Year’s Eve Mass – 4:00pm
DESCRIPTION:
URL:https://saintpiusxchurch.com/wp/event/new-years-eve-mass-400pm-3/
END:VEVENT
BEGIN:VEVENT
DTSTART;TZID=UTC:20250101T113000
DTEND;TZID=UTC:20250101T123000
DTSTAMP:20260419T220031
CREATED:20240611T204434Z
LAST-MODIFIED:20240611T204434Z
UID:16782-1735731000-1735734600@saintpiusxchurch.com
SUMMARY:New Year’s Day Mass – 11:30am ONLY
DESCRIPTION:
URL:https://saintpiusxchurch.com/wp/event/new-years-day-mass-1130am-only-2/
END:VEVENT
BEGIN:VEVENT
DTSTART;TZID=UTC:20250102T080000
DTEND;TZID=UTC:20250102T170000
DTSTAMP:20260419T220031
CREATED:20240611T204511Z
LAST-MODIFIED:20240611T204511Z
UID:16784-1735804800-1735837200@saintpiusxchurch.com
SUMMARY:No Mass/Parish Office Closed
DESCRIPTION:
URL:https://saintpiusxchurch.com/wp/event/no-mass-parish-office-closed-9/
END:VEVENT
BEGIN:VEVENT
DTSTART;TZID=UTC:20250105T091500
DTEND;TZID=UTC:20250105T101500
DTSTAMP:20260419T220031
CREATED:20240611T204919Z
LAST-MODIFIED:20240611T204919Z
UID:16786-1736068500-1736072100@saintpiusxchurch.com
SUMMARY:Kindergarten Class in Session 9:15-10:15am
DESCRIPTION:
URL:https://saintpiusxchurch.com/wp/event/kindergarten-class-in-session-915-1015am-41/
END:VEVENT
BEGIN:VEVENT
DTSTART;TZID=UTC:20250106T153000
DTEND;TZID=UTC:20250106T163000
DTSTAMP:20260419T220031
CREATED:20240610T203814Z
LAST-MODIFIED:20240610T203814Z
UID:16356-1736177400-1736181000@saintpiusxchurch.com
SUMMARY:RE Classes in Session 5th – 8th 3:30 – 4:30pm
DESCRIPTION:
URL:https://saintpiusxchurch.com/wp/event/re-classes-in-session-5th-8th-330-430pm-12/
END:VEVENT
BEGIN:VEVENT
DTSTART;TZID=UTC:20250106T154500
DTEND;TZID=UTC:20250106T160000
DTSTAMP:20260419T220031
CREATED:20240820T232730Z
LAST-MODIFIED:20240820T232730Z
UID:17407-1736178300-1736179200@saintpiusxchurch.com
SUMMARY:Lockdown Drill- 3:45pm
DESCRIPTION:
URL:https://saintpiusxchurch.com/wp/event/lockdown-drill-345pm/
END:VEVENT
BEGIN:VEVENT
DTSTART;TZID=UTC:20250107T153000
DTEND;TZID=UTC:20250107T170000
DTSTAMP:20260419T220031
CREATED:20240610T205142Z
LAST-MODIFIED:20240610T205142Z
UID:16408-1736263800-1736269200@saintpiusxchurch.com
SUMMARY:RE Classes in Session 1st– 4th Grade 3:30 – 5:00pm
DESCRIPTION:
URL:https://saintpiusxchurch.com/wp/event/re-classes-in-session-1st-4th-grade-330-500pm-31/
END:VEVENT
BEGIN:VEVENT
DTSTART;TZID=UTC:20250107T154500
DTEND;TZID=UTC:20250107T160000
DTSTAMP:20260419T220031
CREATED:20240820T232804Z
LAST-MODIFIED:20240820T232804Z
UID:17409-1736264700-1736265600@saintpiusxchurch.com
SUMMARY:Lockdown Drill- 3:45pm
DESCRIPTION:
URL:https://saintpiusxchurch.com/wp/event/lockdown-drill-345pm-2/
END:VEVENT
BEGIN:VEVENT
DTSTART;TZID=UTC:20250107T160000
DTEND;TZID=UTC:20250107T170000
DTSTAMP:20260419T220031
CREATED:20240820T232159Z
LAST-MODIFIED:20240820T232159Z
UID:17405-1736265600-1736269200@saintpiusxchurch.com
SUMMARY:1st-4th Grade Project - Operation Cupid - (United for Troops) Talk by Lauren Zaccaria – 4:00pm (Parish Hall)
DESCRIPTION:
URL:https://saintpiusxchurch.com/wp/event/1st-4th-grade-project-operation-cupid-united-for-troops-talk-by-lauren-zaccaria-400pm-parish-hall/
END:VEVENT
BEGIN:VEVENT
DTSTART;TZID=UTC:20250112T090000
DTEND;TZID=UTC:20250112T110000
DTSTAMP:20260419T220031
CREATED:20241210T202139Z
LAST-MODIFIED:20241210T202139Z
UID:17919-1736672400-1736679600@saintpiusxchurch.com
SUMMARY:8th Grade Community Service Project - St Bartholomew's Soup Kitchen (White Plains)
DESCRIPTION:
URL:https://saintpiusxchurch.com/wp/event/8th-grade-community-service-project-st-bartholomews-soup-kitchen-white-plains/
END:VEVENT
BEGIN:VEVENT
DTSTART;TZID=UTC:20250112T091500
DTEND;TZID=UTC:20250112T101500
DTSTAMP:20260419T220031
CREATED:20240611T205412Z
LAST-MODIFIED:20240611T205412Z
UID:16790-1736673300-1736676900@saintpiusxchurch.com
SUMMARY:Kindergarten Class in Session 9:15-10:15am
DESCRIPTION:
URL:https://saintpiusxchurch.com/wp/event/kindergarten-class-in-session-915-1015am-42/
END:VEVENT
BEGIN:VEVENT
DTSTART;TZID=UTC:20250113T153000
DTEND;TZID=UTC:20250113T163000
DTSTAMP:20260419T220031
CREATED:20240610T203842Z
LAST-MODIFIED:20240610T203842Z
UID:16358-1736782200-1736785800@saintpiusxchurch.com
SUMMARY:RE Classes in Session 5th – 8th 3:30 – 4:30pm
DESCRIPTION:
URL:https://saintpiusxchurch.com/wp/event/re-classes-in-session-5th-8th-330-430pm-13/
END:VEVENT
BEGIN:VEVENT
DTSTART;TZID=UTC:20250114T153000
DTEND;TZID=UTC:20250114T170000
DTSTAMP:20260419T220031
CREATED:20240610T205208Z
LAST-MODIFIED:20240610T205208Z
UID:16410-1736868600-1736874000@saintpiusxchurch.com
SUMMARY:RE Classes in Session 1st– 4th Grade 3:30 – 5:00pm
DESCRIPTION:
URL:https://saintpiusxchurch.com/wp/event/re-classes-in-session-1st-4th-grade-330-500pm-32/
END:VEVENT
BEGIN:VEVENT
DTSTART;TZID=UTC:20250114T153000
DTEND;TZID=UTC:20250114T170000
DTSTAMP:20260419T220031
CREATED:20240611T205509Z
LAST-MODIFIED:20240611T205509Z
UID:16792-1736868600-1736874000@saintpiusxchurch.com
SUMMARY:1st– 4th Grades Operation Cupid Begins (United for Troops)
DESCRIPTION:
URL:https://saintpiusxchurch.com/wp/event/1st-4th-grades-operation-cupid-begins-united-for-troops/
END:VEVENT
BEGIN:VEVENT
DTSTART;TZID=UTC:20250116T163000
DTEND;TZID=UTC:20250116T173000
DTSTAMP:20260419T220031
CREATED:20241125T185441Z
LAST-MODIFIED:20241125T185441Z
UID:17902-1737045000-1737048600@saintpiusxchurch.com
SUMMARY:Crochet/Knitting Club - 4:30pm (Parish Hall)
DESCRIPTION:
URL:https://saintpiusxchurch.com/wp/event/crochet-knitting-club-430pm-parish-hall/
END:VEVENT
BEGIN:VEVENT
DTSTART;TZID=UTC:20250119T080000
DTEND;TZID=UTC:20250119T170000
DTSTAMP:20260419T220031
CREATED:20240611T205550Z
LAST-MODIFIED:20240611T205550Z
UID:16794-1737273600-1737306000@saintpiusxchurch.com
SUMMARY:No Kindergarten Class(MLK Holiday weekend)
DESCRIPTION:
URL:https://saintpiusxchurch.com/wp/event/no-kindergarten-classmlk-holiday-weekend-2/
END:VEVENT
BEGIN:VEVENT
DTSTART;TZID=UTC:20250119T103000
DTEND;TZID=UTC:20250119T113000
DTSTAMP:20260419T220031
CREATED:20240611T205639Z
LAST-MODIFIED:20240820T205754Z
UID:16796-1737282600-1737286200@saintpiusxchurch.com
SUMMARY:Birthday Blessings – 10:30am Mass
DESCRIPTION:
URL:https://saintpiusxchurch.com/wp/event/birthday-blessings-1030am-mass-31/
END:VEVENT
BEGIN:VEVENT
DTSTART;TZID=UTC:20250120T080000
DTEND;TZID=UTC:20250120T170000
DTSTAMP:20260419T220031
CREATED:20240611T205707Z
LAST-MODIFIED:20240820T205743Z
UID:16798-1737360000-1737392400@saintpiusxchurch.com
SUMMARY:Dr. Martin Luther King\, Jr. Day No RE Classes/No Mass/Parish Office Closed
DESCRIPTION:
URL:https://saintpiusxchurch.com/wp/event/dr-marin-luther-king-jr-day-no-re-classes-no-mass-parish-office-closed-3/
END:VEVENT
BEGIN:VEVENT
DTSTART;TZID=UTC:20250121T153000
DTEND;TZID=UTC:20250121T170000
DTSTAMP:20260419T220031
CREATED:20240610T205235Z
LAST-MODIFIED:20240610T205235Z
UID:16412-1737473400-1737478800@saintpiusxchurch.com
SUMMARY:RE Classes in Session 1st– 4th Grade 3:30 – 5:00pm
DESCRIPTION:
URL:https://saintpiusxchurch.com/wp/event/re-classes-in-session-1st-4th-grade-330-500pm-33/
END:VEVENT
BEGIN:VEVENT
DTSTART;TZID=UTC:20250126T091500
DTEND;TZID=UTC:20250126T101500
DTSTAMP:20260419T220031
CREATED:20240611T205802Z
LAST-MODIFIED:20240611T205802Z
UID:16800-1737882900-1737886500@saintpiusxchurch.com
SUMMARY:Kindergarten Class in Session 9:15-10:15am
DESCRIPTION:
URL:https://saintpiusxchurch.com/wp/event/kindergarten-class-in-session-915-1015am-43/
END:VEVENT
BEGIN:VEVENT
DTSTART;TZID=UTC:20250127T153000
DTEND;TZID=UTC:20250127T163000
DTSTAMP:20260419T220031
CREATED:20240610T203908Z
LAST-MODIFIED:20240610T203908Z
UID:16360-1737991800-1737995400@saintpiusxchurch.com
SUMMARY:RE Classes in Session 5th – 8th 3:30 – 4:30pm
DESCRIPTION:
URL:https://saintpiusxchurch.com/wp/event/re-classes-in-session-5th-8th-330-430pm-14/
END:VEVENT
BEGIN:VEVENT
DTSTART;TZID=UTC:20250128T153000
DTEND;TZID=UTC:20250128T170000
DTSTAMP:20260419T220031
CREATED:20240610T205258Z
LAST-MODIFIED:20240610T205258Z
UID:16414-1738078200-1738083600@saintpiusxchurch.com
SUMMARY:RE Classes in Session 1st– 4th Grade 3:30 – 5:00pm
DESCRIPTION:
URL:https://saintpiusxchurch.com/wp/event/re-classes-in-session-1st-4th-grade-330-500pm-34/
END:VEVENT
BEGIN:VEVENT
DTSTART;TZID=UTC:20250131T190000
DTEND;TZID=UTC:20250131T210000
DTSTAMP:20260419T220031
CREATED:20241114T212903Z
LAST-MODIFIED:20241114T212903Z
UID:17872-1738350000-1738357200@saintpiusxchurch.com
SUMMARY:Volunteers/New Parishioners Appreciation Night
DESCRIPTION:
URL:https://saintpiusxchurch.com/wp/event/volunteers-new-parishioners-appreciation-night/
END:VEVENT
BEGIN:VEVENT
DTSTART;TZID=UTC:20250202T103000
DTEND;TZID=UTC:20250202T113000
DTSTAMP:20260419T220031
CREATED:20240611T210009Z
LAST-MODIFIED:20240820T205716Z
UID:16804-1738492200-1738495800@saintpiusxchurch.com
SUMMARY:4th Grade Ministry Sunday 10:30am Mass
DESCRIPTION:
URL:https://saintpiusxchurch.com/wp/event/4th-grade-ministry-sunday-1030am-7/
END:VEVENT
BEGIN:VEVENT
DTSTART;TZID=UTC:20250202T120000
DTEND;TZID=UTC:20250202T140000
DTSTAMP:20260419T220031
CREATED:20240611T210103Z
LAST-MODIFIED:20240611T210103Z
UID:16806-1738497600-1738504800@saintpiusxchurch.com
SUMMARY:Lunar Year after12pm Mass – c/o Laeh
DESCRIPTION:
URL:https://saintpiusxchurch.com/wp/event/lunar-year-after12pm-mass-c-o-laeh/
END:VEVENT
BEGIN:VEVENT
DTSTART;TZID=UTC:20250203T153000
DTEND;TZID=UTC:20250203T163000
DTSTAMP:20260419T220031
CREATED:20240610T203937Z
LAST-MODIFIED:20240610T203937Z
UID:16362-1738596600-1738600200@saintpiusxchurch.com
SUMMARY:RE Classes in Session 5th – 8th 3:30 – 4:30pm
DESCRIPTION:
URL:https://saintpiusxchurch.com/wp/event/re-classes-in-session-5th-8th-330-430pm-15/
END:VEVENT
END:VCALENDAR