BEGIN:VCALENDAR
VERSION:2.0
PRODID:-//Church of Saint Pius X - ECPv6.15.20//NONSGML v1.0//EN
CALSCALE:GREGORIAN
METHOD:PUBLISH
X-ORIGINAL-URL:https://saintpiusxchurch.com/wp
X-WR-CALDESC:Events for Church of Saint Pius X
REFRESH-INTERVAL;VALUE=DURATION:PT1H
X-Robots-Tag:noindex
X-PUBLISHED-TTL:PT1H
BEGIN:VTIMEZONE
TZID:UTC
BEGIN:STANDARD
TZOFFSETFROM:+0000
TZOFFSETTO:+0000
TZNAME:UTC
DTSTART:20240101T000000
END:STANDARD
END:VTIMEZONE
BEGIN:VTIMEZONE
TZID:America/New_York
BEGIN:DAYLIGHT
TZOFFSETFROM:-0500
TZOFFSETTO:-0400
TZNAME:EDT
DTSTART:20240310T070000
END:DAYLIGHT
BEGIN:STANDARD
TZOFFSETFROM:-0400
TZOFFSETTO:-0500
TZNAME:EST
DTSTART:20241103T060000
END:STANDARD
BEGIN:DAYLIGHT
TZOFFSETFROM:-0500
TZOFFSETTO:-0400
TZNAME:EDT
DTSTART:20250309T070000
END:DAYLIGHT
BEGIN:STANDARD
TZOFFSETFROM:-0400
TZOFFSETTO:-0500
TZNAME:EST
DTSTART:20251102T060000
END:STANDARD
BEGIN:DAYLIGHT
TZOFFSETFROM:-0500
TZOFFSETTO:-0400
TZNAME:EDT
DTSTART:20260308T070000
END:DAYLIGHT
BEGIN:STANDARD
TZOFFSETFROM:-0400
TZOFFSETTO:-0500
TZNAME:EST
DTSTART:20261101T060000
END:STANDARD
END:VTIMEZONE
BEGIN:VEVENT
DTSTART;TZID=UTC:20250805T150000
DTEND;TZID=UTC:20250805T163000
DTSTAMP:20260419T202322
CREATED:20250609T215747Z
LAST-MODIFIED:20250609T215747Z
UID:18198-1754406000-1754411400@saintpiusxchurch.com
SUMMARY:RE Summer Class
DESCRIPTION:
URL:https://saintpiusxchurch.com/wp/event/re-summer-class-12/
END:VEVENT
BEGIN:VEVENT
DTSTART;TZID=UTC:20250812T150000
DTEND;TZID=UTC:20250812T163000
DTSTAMP:20260419T202322
CREATED:20250609T215825Z
LAST-MODIFIED:20250609T215825Z
UID:18200-1755010800-1755016200@saintpiusxchurch.com
SUMMARY:RE Summer Class
DESCRIPTION:
URL:https://saintpiusxchurch.com/wp/event/re-summer-class-13/
END:VEVENT
BEGIN:VEVENT
DTSTART;TZID=America/New_York:20250813T080000
DTEND;TZID=America/New_York:20250813T170000
DTSTAMP:20260419T202322
CREATED:20250813T144125Z
LAST-MODIFIED:20250813T144125Z
UID:18944-1755072000-1755104400@saintpiusxchurch.com
SUMMARY:Men's Ministry Meeting
DESCRIPTION:
URL:https://saintpiusxchurch.com/wp/event/mens-ministry-meeting/
END:VEVENT
BEGIN:VEVENT
DTSTART;TZID=UTC:20250814T160000
DTEND;TZID=UTC:20250814T170000
DTSTAMP:20260419T202322
CREATED:20240612T210226Z
LAST-MODIFIED:20240612T210226Z
UID:17019-1755187200-1755190800@saintpiusxchurch.com
SUMMARY:Vigil Mass – Feast of the Assumption of our Lady – 4:00pm
DESCRIPTION:
URL:https://saintpiusxchurch.com/wp/event/vigil-mass-feast-of-the-assumption-of-our-lady-400pm-2/
END:VEVENT
BEGIN:VEVENT
DTSTART;TZID=UTC:20250815T080000
DTEND;TZID=UTC:20250815T113000
DTSTAMP:20260419T202322
CREATED:20240612T204352Z
LAST-MODIFIED:20240612T204352Z
UID:17017-1755244800-1755257400@saintpiusxchurch.com
SUMMARY:Feast of the Assumption of Our Lady Mass – 8:00am\, 11:30am
DESCRIPTION:
URL:https://saintpiusxchurch.com/wp/event/feast-of-the-assumption-of-our-lady-mass-800am-1130am/
END:VEVENT
BEGIN:VEVENT
DTSTART;TZID=UTC:20250817T103000
DTEND;TZID=UTC:20250817T113000
DTSTAMP:20260419T202322
CREATED:20250618T230358Z
LAST-MODIFIED:20250618T230358Z
UID:18842-1755426600-1755430200@saintpiusxchurch.com
SUMMARY:Birthday Blessing
DESCRIPTION:
URL:https://saintpiusxchurch.com/wp/event/birthday-blessing-18/
END:VEVENT
BEGIN:VEVENT
DTSTART;TZID=UTC:20250819T150000
DTEND;TZID=UTC:20250819T163000
DTSTAMP:20260419T202322
CREATED:20250609T220512Z
LAST-MODIFIED:20250609T220512Z
UID:18204-1755615600-1755621000@saintpiusxchurch.com
SUMMARY:RE Summer Class
DESCRIPTION:
URL:https://saintpiusxchurch.com/wp/event/re-summer-class-15/
END:VEVENT
BEGIN:VEVENT
DTSTART;TZID=UTC:20250826T150000
DTEND;TZID=UTC:20250826T163000
DTSTAMP:20260419T202322
CREATED:20250609T220759Z
LAST-MODIFIED:20250609T220759Z
UID:18206-1756220400-1756225800@saintpiusxchurch.com
SUMMARY:RE Summer Class
DESCRIPTION:
URL:https://saintpiusxchurch.com/wp/event/re-summer-class-16/
END:VEVENT
BEGIN:VEVENT
DTSTART;TZID=UTC:20250901T080000
DTEND;TZID=UTC:20250901T170000
DTSTAMP:20260419T202322
CREATED:20250617T205115Z
LAST-MODIFIED:20250617T205115Z
UID:18218-1756713600-1756746000@saintpiusxchurch.com
SUMMARY:No Mass/ Parish Office Closed
DESCRIPTION:
URL:https://saintpiusxchurch.com/wp/event/no-mass-parish-office-closed-10/
END:VEVENT
BEGIN:VEVENT
DTSTART;TZID=UTC:20250906T090000
DTEND;TZID=UTC:20250906T100000
DTSTAMP:20260419T202322
CREATED:20250617T205206Z
LAST-MODIFIED:20250617T205206Z
UID:18220-1757149200-1757152800@saintpiusxchurch.com
SUMMARY:9:00am Mass Resumes
DESCRIPTION:
URL:https://saintpiusxchurch.com/wp/event/900am-mass-resumes/
END:VEVENT
BEGIN:VEVENT
DTSTART;TZID=America/New_York:20250906T160000
DTEND;TZID=America/New_York:20250906T190000
DTSTAMP:20260419T202322
CREATED:20250715T162403Z
LAST-MODIFIED:20250819T143328Z
UID:18887-1757174400-1757185200@saintpiusxchurch.com
SUMMARY:Eucharistic Miracles Exhibit In Honor of Blessed Carlo Acutis ON THE OCCASION OF HIS CANONIZATION Church of St. Pius X - Parish Hall  (beneath the Church) Exhibit Hours: 4:00 PM-7:00 PM
DESCRIPTION:
URL:https://saintpiusxchurch.com/wp/event/eucharistic-miracles-exhibit-in-honor-of-blessed-carlo-acutis-on-the-occasion-of-his-canonization-church-of-st-pius-x-parish-hall-beneath-the-church-exhibit-hours-400-pm-700-pm-ideal-for-fami/
END:VEVENT
BEGIN:VEVENT
DTSTART;TZID=UTC:20250907T080000
DTEND;TZID=UTC:20250907T120000
DTSTAMP:20260419T202322
CREATED:20250617T205401Z
LAST-MODIFIED:20250617T205401Z
UID:18224-1757232000-1757246400@saintpiusxchurch.com
SUMMARY:Grandparents’ Day Blessing
DESCRIPTION:
URL:https://saintpiusxchurch.com/wp/event/grandparents-day-blessing/
END:VEVENT
BEGIN:VEVENT
DTSTART;TZID=America/New_York:20250907T090000
DTEND;TZID=America/New_York:20250907T143000
DTSTAMP:20260419T202322
CREATED:20250715T162452Z
LAST-MODIFIED:20250819T142015Z
UID:18889-1757235600-1757255400@saintpiusxchurch.com
SUMMARY:Eucharistic Miracles Exhibit In Honor of Blessed Carlo Acutis ON THE OCCASION OF HIS CANONIZATION Church of St. Pius X - Parish Hall  (beneath the Church) Exhibit Hours: 9:00 AM-3:30 PM
DESCRIPTION:
URL:https://saintpiusxchurch.com/wp/event/eucharistic-miracles-exhibit-in-honor-of-blessed-carlo-acutis-on-the-occasion-of-his-canonization-church-of-st-pius-x-parish-hall-beneath-the-church-exhibit-hours-900-am-230-pm-ideal-for-fami/
END:VEVENT
BEGIN:VEVENT
DTSTART;TZID=UTC:20250907T103000
DTEND;TZID=UTC:20250907T113000
DTSTAMP:20260419T202322
CREATED:20250617T205246Z
LAST-MODIFIED:20250617T205246Z
UID:18222-1757241000-1757244600@saintpiusxchurch.com
SUMMARY:Annual Backpack Blessing
DESCRIPTION:
URL:https://saintpiusxchurch.com/wp/event/annual-backpack-blessing/
END:VEVENT
BEGIN:VEVENT
DTSTART;TZID=America/New_York:20250907T120000
DTEND;TZID=America/New_York:20250907T130000
DTSTAMP:20260419T202322
CREATED:20250701T202451Z
LAST-MODIFIED:20250813T141924Z
UID:18865-1757246400-1757250000@saintpiusxchurch.com
SUMMARY:SPX Celebrates Women in the Church    St. Phoebe’s Day Celebration at Noon Mass - WOMEN’S ROLE IN THE CATHOLIC CHURCH  All women parishioners of St. Pius X Church are warmly invited to join!
DESCRIPTION:
URL:https://saintpiusxchurch.com/wp/event/st-phoebe/
END:VEVENT
BEGIN:VEVENT
DTSTART;TZID=UTC:20250908T113000
DTEND;TZID=UTC:20250908T123000
DTSTAMP:20260419T202322
CREATED:20250617T205708Z
LAST-MODIFIED:20250617T205708Z
UID:18226-1757331000-1757334600@saintpiusxchurch.com
SUMMARY:11:30am Mass Begins/Rosary Devotion after Mass
DESCRIPTION:
URL:https://saintpiusxchurch.com/wp/event/1130am-mass-begins-rosary-devotion-after-mass/
END:VEVENT
BEGIN:VEVENT
DTSTART;TZID=America/New_York:20250908T190000
DTEND;TZID=America/New_York:20250908T200000
DTSTAMP:20260419T202322
CREATED:20250902T165614Z
LAST-MODIFIED:20250902T165614Z
UID:19019-1757358000-1757361600@saintpiusxchurch.com
SUMMARY:Blessed Mother's Birthday
DESCRIPTION:
URL:https://saintpiusxchurch.com/wp/event/blessed-mothers-birthday/
END:VEVENT
BEGIN:VEVENT
DTSTART;TZID=UTC:20250909T173000
DTEND;TZID=UTC:20250909T190000
DTSTAMP:20260419T202322
CREATED:20250617T205816Z
LAST-MODIFIED:20250617T205816Z
UID:18228-1757439000-1757444400@saintpiusxchurch.com
SUMMARY:RE Volunteers - Welcome Meeting/Dinner - 5:30pm (Parish Hall)
DESCRIPTION:
URL:https://saintpiusxchurch.com/wp/event/re-volunteers-welcome-meeting-dinner-530pm-parish-hall/
END:VEVENT
BEGIN:VEVENT
DTSTART;TZID=UTC:20250911T080000
DTEND;TZID=UTC:20250911T113000
DTSTAMP:20260419T202322
CREATED:20250617T205914Z
LAST-MODIFIED:20250617T205914Z
UID:18230-1757577600-1757590200@saintpiusxchurch.com
SUMMARY:September 11 Prayers and Blessings
DESCRIPTION:
URL:https://saintpiusxchurch.com/wp/event/september-11-prayers-and-blessings-4/
END:VEVENT
BEGIN:VEVENT
DTSTART;TZID=America/New_York:20250913T071500
DTEND;TZID=America/New_York:20250913T081500
DTSTAMP:20260419T202322
CREATED:20250831T180443Z
LAST-MODIFIED:20250909T162856Z
UID:18970-1757747700-1757751300@saintpiusxchurch.com
SUMMARY:Men's Ministry Meeting - SPX Parish Pavilion
DESCRIPTION:
URL:https://saintpiusxchurch.com/wp/event/mens-ministry-meeting-parish-hall/
END:VEVENT
BEGIN:VEVENT
DTSTART;TZID=UTC:20250913T170000
DTEND;TZID=UTC:20250913T183000
DTSTAMP:20260419T202322
CREATED:20250617T210002Z
LAST-MODIFIED:20250617T210002Z
UID:18232-1757782800-1757788200@saintpiusxchurch.com
SUMMARY:Parish Open House
DESCRIPTION:
URL:https://saintpiusxchurch.com/wp/event/parish-open-house/
END:VEVENT
BEGIN:VEVENT
DTSTART;TZID=UTC:20250914T080000
DTEND;TZID=UTC:20250914T133000
DTSTAMP:20260419T202322
CREATED:20250617T210047Z
LAST-MODIFIED:20250617T210047Z
UID:18234-1757836800-1757856600@saintpiusxchurch.com
SUMMARY:Parish Open House
DESCRIPTION:
URL:https://saintpiusxchurch.com/wp/event/parish-open-house-2/
END:VEVENT
BEGIN:VEVENT
DTSTART;TZID=America/New_York:20250914T133000
DTEND;TZID=America/New_York:20250914T143000
DTSTAMP:20260419T202322
CREATED:20250722T180634Z
LAST-MODIFIED:20250722T180634Z
UID:18914-1757856600-1757860200@saintpiusxchurch.com
SUMMARY:Rev. Peter M. Donahue\, OSA\, PhD Speaker – Pope Leo XIV\, A Son of St. Augustine – 1:30pm Parish Hall
DESCRIPTION:
URL:https://saintpiusxchurch.com/wp/event/rev-peter-m-donahue-osa-phd-speaker-pope-leo-xiv-a-son-of-st-augustine-130pm-parish-hall/
END:VEVENT
BEGIN:VEVENT
DTSTART;TZID=UTC:20250915T153000
DTEND;TZID=UTC:20250915T163000
DTSTAMP:20260419T202322
CREATED:20250617T210144Z
LAST-MODIFIED:20250617T210144Z
UID:18236-1757950200-1757953800@saintpiusxchurch.com
SUMMARY:RE Begins
DESCRIPTION:
URL:https://saintpiusxchurch.com/wp/event/re-begins/
END:VEVENT
BEGIN:VEVENT
DTSTART;TZID=UTC:20250916T153000
DTEND;TZID=UTC:20250916T170000
DTSTAMP:20260419T202322
CREATED:20250617T210217Z
LAST-MODIFIED:20250617T210217Z
UID:18238-1758036600-1758042000@saintpiusxchurch.com
SUMMARY:RE Begins
DESCRIPTION:
URL:https://saintpiusxchurch.com/wp/event/re-begins-2/
END:VEVENT
BEGIN:VEVENT
DTSTART;TZID=UTC:20250921T103000
DTEND;TZID=UTC:20250921T113000
DTSTAMP:20260419T202322
CREATED:20250617T210307Z
LAST-MODIFIED:20250617T210307Z
UID:18240-1758450600-1758454200@saintpiusxchurch.com
SUMMARY:Birthday Blessings
DESCRIPTION:
URL:https://saintpiusxchurch.com/wp/event/birthday-blessings/
END:VEVENT
BEGIN:VEVENT
DTSTART;TZID=UTC:20250921T103000
DTEND;TZID=UTC:20250921T113000
DTSTAMP:20260419T202322
CREATED:20250617T210401Z
LAST-MODIFIED:20250617T210401Z
UID:18242-1758450600-1758454200@saintpiusxchurch.com
SUMMARY:Catechetical Sunday – RE Catechists Commissioning Rites
DESCRIPTION:
URL:https://saintpiusxchurch.com/wp/event/catechetical-sunday-re-catechists-commissioning-rites/
END:VEVENT
BEGIN:VEVENT
DTSTART;TZID=America/New_York:20250921T120000
DTEND;TZID=America/New_York:20250921T130000
DTSTAMP:20260419T202322
CREATED:20250715T143441Z
LAST-MODIFIED:20250715T143441Z
UID:18885-1758456000-1758459600@saintpiusxchurch.com
SUMMARY:Blessing and Installation of Parish Council Members (Current and New) -12pm Mass
DESCRIPTION:
URL:https://saintpiusxchurch.com/wp/event/blessing-and-installation-of-parish-council-members-current-and-new-12pm-mass/
END:VEVENT
BEGIN:VEVENT
DTSTART;TZID=UTC:20250922T153000
DTEND;TZID=UTC:20250922T163000
DTSTAMP:20260419T202322
CREATED:20250617T210440Z
LAST-MODIFIED:20250618T011355Z
UID:18244-1758555000-1758558600@saintpiusxchurch.com
SUMMARY:RE in Session
DESCRIPTION:
URL:https://saintpiusxchurch.com/wp/event/re-in-session-145/
END:VEVENT
BEGIN:VEVENT
DTSTART;TZID=America/New_York:20250923T100000
DTEND;TZID=America/New_York:20250923T110000
DTSTAMP:20260419T202322
CREATED:20250918T141353Z
LAST-MODIFIED:20250918T141353Z
UID:19070-1758621600-1758625200@saintpiusxchurch.com
SUMMARY:3rd and 4th Grade Teachers/Assistants and Christmas Pageant Coordinators Meeting
DESCRIPTION:
URL:https://saintpiusxchurch.com/wp/event/3rd-and-4th-grade-teachers-assistants-and-christmas-pageant-coordinators-meeting/
END:VEVENT
END:VCALENDAR