BEGIN:VCALENDAR
VERSION:2.0
PRODID:-//Church of Saint Pius X - ECPv6.15.20//NONSGML v1.0//EN
CALSCALE:GREGORIAN
METHOD:PUBLISH
X-ORIGINAL-URL:https://saintpiusxchurch.com/wp
X-WR-CALDESC:Events for Church of Saint Pius X
REFRESH-INTERVAL;VALUE=DURATION:PT1H
X-Robots-Tag:noindex
X-PUBLISHED-TTL:PT1H
BEGIN:VTIMEZONE
TZID:UTC
BEGIN:STANDARD
TZOFFSETFROM:+0000
TZOFFSETTO:+0000
TZNAME:UTC
DTSTART:20240101T000000
END:STANDARD
END:VTIMEZONE
BEGIN:VEVENT
DTSTART;TZID=UTC:20250216T103000
DTEND;TZID=UTC:20250216T113000
DTSTAMP:20260420T094838
CREATED:20240611T211436Z
LAST-MODIFIED:20240611T211436Z
UID:16820-1739701800-1739705400@saintpiusxchurch.com
SUMMARY:Birthday Blessings – 10:30am Mass
DESCRIPTION:
URL:https://saintpiusxchurch.com/wp/event/birthday-blessings-1030am-mass-32/
END:VEVENT
BEGIN:VEVENT
DTSTART;TZID=UTC:20250217T080000
DTEND;TZID=UTC:20250217T170000
DTSTAMP:20260420T094838
CREATED:20240611T212710Z
LAST-MODIFIED:20240611T212710Z
UID:16822-1739779200-1739811600@saintpiusxchurch.com
SUMMARY:President’s Day No RE Classes/No Classes/Parish Office Closed RE  Mid-Winter Break
DESCRIPTION:
URL:https://saintpiusxchurch.com/wp/event/presidents-day-no-re-classes-no-classes-parish-office-closed-re-mid-winter-break/
END:VEVENT
BEGIN:VEVENT
DTSTART;TZID=UTC:20250218T080000
DTEND;TZID=UTC:20250218T170000
DTSTAMP:20260420T094838
CREATED:20240611T212750Z
LAST-MODIFIED:20240611T212750Z
UID:16824-1739865600-1739898000@saintpiusxchurch.com
SUMMARY:RE  Mid-Winter Break
DESCRIPTION:
URL:https://saintpiusxchurch.com/wp/event/re-mid-winter-break-6/
END:VEVENT
BEGIN:VEVENT
DTSTART;TZID=UTC:20250223T080000
DTEND;TZID=UTC:20250223T170000
DTSTAMP:20260420T094838
CREATED:20240611T212844Z
LAST-MODIFIED:20240611T212844Z
UID:16826-1740297600-1740330000@saintpiusxchurch.com
SUMMARY:No Kindergarten Class
DESCRIPTION:
URL:https://saintpiusxchurch.com/wp/event/no-kindergarten-class-18/
END:VEVENT
BEGIN:VEVENT
DTSTART;TZID=UTC:20250224T153000
DTEND;TZID=UTC:20250224T163000
DTSTAMP:20260420T094838
CREATED:20240610T204032Z
LAST-MODIFIED:20240610T204032Z
UID:16366-1740411000-1740414600@saintpiusxchurch.com
SUMMARY:RE Classes in Session 5th – 8th 3:30 – 4:30pm
DESCRIPTION:
URL:https://saintpiusxchurch.com/wp/event/re-classes-in-session-5th-8th-330-430pm-17/
END:VEVENT
BEGIN:VEVENT
DTSTART;TZID=UTC:20250225T153000
DTEND;TZID=UTC:20250225T170000
DTSTAMP:20260420T094838
CREATED:20240610T205627Z
LAST-MODIFIED:20240610T205627Z
UID:16421-1740497400-1740502800@saintpiusxchurch.com
SUMMARY:RE Classes in Session 1st– 4th Grade 3:30 – 5:00pm
DESCRIPTION:
URL:https://saintpiusxchurch.com/wp/event/re-classes-in-session-1st-4th-grade-330-500pm-37/
END:VEVENT
BEGIN:VEVENT
DTSTART;TZID=UTC:20250226T180000
DTEND;TZID=UTC:20250226T190000
DTSTAMP:20260420T094838
CREATED:20250212T201938Z
LAST-MODIFIED:20250212T202242Z
UID:17968-1740592800-1740596400@saintpiusxchurch.com
SUMMARY:Annual Spring Flower Arrangement Hands-on  Workshop - 6:00-7:00pm (Parish Pavilion)
DESCRIPTION:
URL:https://saintpiusxchurch.com/wp/event/annual-flower-workshop-600-700pm-parish-pavilion/
END:VEVENT
BEGIN:VEVENT
DTSTART;TZID=UTC:20250227T160000
DTEND;TZID=UTC:20250227T173000
DTSTAMP:20260420T094838
CREATED:20250219T004743Z
LAST-MODIFIED:20250219T004743Z
UID:17974-1740672000-1740677400@saintpiusxchurch.com
SUMMARY:Thread for Life - 4:30pm (Parish Hall)
DESCRIPTION:
URL:https://saintpiusxchurch.com/wp/event/thread-for-life-430pm-parish-hall/
END:VEVENT
BEGIN:VEVENT
DTSTART;TZID=UTC:20250301T080000
DTEND;TZID=UTC:20250301T170000
DTSTAMP:20260420T094838
CREATED:20240611T212924Z
LAST-MODIFIED:20240611T212924Z
UID:16828-1740816000-1740848400@saintpiusxchurch.com
SUMMARY:Early Bird Special(March 1-15)RE Registration with  $50 Discount in total Registration Fee(discount applies to former/returning students only)
DESCRIPTION:
URL:https://saintpiusxchurch.com/wp/event/early-bird-specialmarch-1-15re-registration-with-50-discount-in-total-registration-feediscount-applies-to-former-returning-students-only-4/
END:VEVENT
BEGIN:VEVENT
DTSTART;TZID=UTC:20250302T091500
DTEND;TZID=UTC:20250302T101500
DTSTAMP:20260420T094838
CREATED:20240611T213023Z
LAST-MODIFIED:20240611T213023Z
UID:16830-1740906900-1740910500@saintpiusxchurch.com
SUMMARY:Kindergarten Class in Session 9:15-10:15am
DESCRIPTION:
URL:https://saintpiusxchurch.com/wp/event/kindergarten-class-in-session-915-1015am-46/
END:VEVENT
BEGIN:VEVENT
DTSTART;TZID=UTC:20250302T103000
DTEND;TZID=UTC:20250302T113000
DTSTAMP:20260420T094838
CREATED:20240611T213112Z
LAST-MODIFIED:20240611T213112Z
UID:16832-1740911400-1740915000@saintpiusxchurch.com
SUMMARY:5th and 6th Gr Ministry Sunday 10:30am Family Mass
DESCRIPTION:
URL:https://saintpiusxchurch.com/wp/event/5th-and-6th-gr-ministry-sunday-1030am-family-mass/
END:VEVENT
BEGIN:VEVENT
DTSTART;TZID=UTC:20250303T153000
DTEND;TZID=UTC:20250303T163000
DTSTAMP:20260420T094838
CREATED:20240610T204108Z
LAST-MODIFIED:20240610T204108Z
UID:16368-1741015800-1741019400@saintpiusxchurch.com
SUMMARY:RE Classes in Session 5th – 8th 3:30 – 4:30pm
DESCRIPTION:
URL:https://saintpiusxchurch.com/wp/event/re-classes-in-session-5th-8th-330-430pm-18/
END:VEVENT
BEGIN:VEVENT
DTSTART;TZID=UTC:20250304T153000
DTEND;TZID=UTC:20250304T170000
DTSTAMP:20260420T094838
CREATED:20240610T214302Z
LAST-MODIFIED:20240610T214302Z
UID:16423-1741102200-1741107600@saintpiusxchurch.com
SUMMARY:RE Classes in Session 1st– 4th Grade 3:30 – 5:00pm
DESCRIPTION:
URL:https://saintpiusxchurch.com/wp/event/re-classes-in-session-1st-4th-grade-330-500pm-38/
END:VEVENT
BEGIN:VEVENT
DTSTART;TZID=UTC:20250305T080000
DTEND;TZID=UTC:20250305T170000
DTSTAMP:20260420T094838
CREATED:20240611T213158Z
LAST-MODIFIED:20240820T204217Z
UID:16834-1741161600-1741194000@saintpiusxchurch.com
SUMMARY:Ash Wednesday Masses Liturgy of the Lord –  8am\, 11:30am (Main Church)  Distribution of Ashes –  3:00pm & 5:00pm(Main Church)
DESCRIPTION:
URL:https://saintpiusxchurch.com/wp/event/ash-wednesday-masses-8am-1130am-main-church-distribution-of-ashes-300pm-500pmmain-church/
END:VEVENT
BEGIN:VEVENT
DTSTART;TZID=UTC:20250305T080000
DTEND;TZID=UTC:20250305T170000
DTSTAMP:20260420T094838
CREATED:20240611T213227Z
LAST-MODIFIED:20240611T213227Z
UID:16836-1741161600-1741194000@saintpiusxchurch.com
SUMMARY:Lenten Food Drive Begins
DESCRIPTION:
URL:https://saintpiusxchurch.com/wp/event/lenten-food-drive-begins-7/
END:VEVENT
BEGIN:VEVENT
DTSTART;TZID=UTC:20250307T191500
DTEND;TZID=UTC:20250307T200000
DTSTAMP:20260420T094838
CREATED:20240611T213708Z
LAST-MODIFIED:20240611T213708Z
UID:16838-1741374900-1741377600@saintpiusxchurch.com
SUMMARY:Stations of the Cross- 7:15pm
DESCRIPTION:
URL:https://saintpiusxchurch.com/wp/event/stations-of-the-cross-715pm/
END:VEVENT
BEGIN:VEVENT
DTSTART;TZID=UTC:20250308T100000
DTEND;TZID=UTC:20250308T120000
DTSTAMP:20260420T094838
CREATED:20240611T213831Z
LAST-MODIFIED:20250129T224846Z
UID:16840-1741428000-1741435200@saintpiusxchurch.com
SUMMARY:2nd Grade First Reconciliation Day 10:00am (Main Church)
DESCRIPTION:
URL:https://saintpiusxchurch.com/wp/event/2nd-grade-first-reconciliation-day-1030am-main-church-3/
END:VEVENT
BEGIN:VEVENT
DTSTART;TZID=UTC:20250309T090000
DTEND;TZID=UTC:20250309T110000
DTSTAMP:20260420T094838
CREATED:20241210T202422Z
LAST-MODIFIED:20241210T202422Z
UID:17923-1741510800-1741518000@saintpiusxchurch.com
SUMMARY:8th Grade Community Service Project - St Bartholomew's Soup Kitchen (White Plains)
DESCRIPTION:
URL:https://saintpiusxchurch.com/wp/event/8th-grade-community-service-project-st-bartholomews-soup-kitchen-white-plains-3/
END:VEVENT
BEGIN:VEVENT
DTSTART;TZID=UTC:20250309T091500
DTEND;TZID=UTC:20250309T101500
DTSTAMP:20260420T094838
CREATED:20240611T213946Z
LAST-MODIFIED:20240611T213946Z
UID:16842-1741511700-1741515300@saintpiusxchurch.com
SUMMARY:Kindergarten Class in Session 9:15-10:15am
DESCRIPTION:
URL:https://saintpiusxchurch.com/wp/event/kindergarten-class-in-session-915-1015am-47/
END:VEVENT
BEGIN:VEVENT
DTSTART;TZID=UTC:20250309T103000
DTEND;TZID=UTC:20250309T113000
DTSTAMP:20260420T094838
CREATED:20240611T214143Z
LAST-MODIFIED:20240611T214143Z
UID:16844-1741516200-1741519800@saintpiusxchurch.com
SUMMARY:1st Grade Ministry Sunday 10:30am mass
DESCRIPTION:
URL:https://saintpiusxchurch.com/wp/event/1st-grade-ministry-sunday-1030am-mass-2/
END:VEVENT
BEGIN:VEVENT
DTSTART;TZID=UTC:20250310T080000
DTEND;TZID=UTC:20250310T170000
DTSTAMP:20260420T094838
CREATED:20250224T223042Z
LAST-MODIFIED:20250224T223042Z
UID:17996-1741593600-1741626000@saintpiusxchurch.com
SUMMARY:8th Grade Reconciliation
DESCRIPTION:
URL:https://saintpiusxchurch.com/wp/event/8th-grade-reconciliation/
END:VEVENT
BEGIN:VEVENT
DTSTART;TZID=UTC:20250310T153000
DTEND;TZID=UTC:20250310T163000
DTSTAMP:20260420T094838
CREATED:20240610T204138Z
LAST-MODIFIED:20240610T204138Z
UID:16370-1741620600-1741624200@saintpiusxchurch.com
SUMMARY:RE Classes in Session 5th – 8th 3:30 – 4:30pm
DESCRIPTION:
URL:https://saintpiusxchurch.com/wp/event/re-classes-in-session-5th-8th-330-430pm-19/
END:VEVENT
BEGIN:VEVENT
DTSTART;TZID=UTC:20250310T154000
DTEND;TZID=UTC:20250310T163000
DTSTAMP:20260420T094838
CREATED:20240611T214422Z
LAST-MODIFIED:20250225T011147Z
UID:16848-1741621200-1741624200@saintpiusxchurch.com
SUMMARY:Stations of the Cross - 7th Grade
DESCRIPTION:
URL:https://saintpiusxchurch.com/wp/event/stations-of-the-cross-340pm-7th-grade-400pm-8th-grade/
END:VEVENT
BEGIN:VEVENT
DTSTART;TZID=UTC:20250311T153000
DTEND;TZID=UTC:20250311T170000
DTSTAMP:20260420T094838
CREATED:20240610T214328Z
LAST-MODIFIED:20240610T214328Z
UID:16425-1741707000-1741712400@saintpiusxchurch.com
SUMMARY:RE Classes in Session 1st– 4th Grade 3:30 – 5:00pm
DESCRIPTION:
URL:https://saintpiusxchurch.com/wp/event/re-classes-in-session-1st-4th-grade-330-500pm-39/
END:VEVENT
BEGIN:VEVENT
DTSTART;TZID=UTC:20250311T160000
DTEND;TZID=UTC:20250311T170000
DTSTAMP:20260420T094838
CREATED:20240611T214537Z
LAST-MODIFIED:20240611T214537Z
UID:16850-1741708800-1741712400@saintpiusxchurch.com
SUMMARY:Stations of the Cross -4:00pm (3rd Grade) 4:30pm (4th Grade)
DESCRIPTION:
URL:https://saintpiusxchurch.com/wp/event/stations-of-the-cross-400pm-3rd-grade-430pm-4th-grade/
END:VEVENT
BEGIN:VEVENT
DTSTART;TZID=UTC:20250312T123000
DTEND;TZID=UTC:20250312T143000
DTSTAMP:20260420T094838
CREATED:20241017T233519Z
LAST-MODIFIED:20241017T233519Z
UID:17836-1741782600-1741789800@saintpiusxchurch.com
SUMMARY:St Patrick's Luncheon
DESCRIPTION:
URL:https://saintpiusxchurch.com/wp/event/st-patricks-luncheon/
END:VEVENT
BEGIN:VEVENT
DTSTART;TZID=UTC:20250314T191500
DTEND;TZID=UTC:20250314T200000
DTSTAMP:20260420T094838
CREATED:20240611T214638Z
LAST-MODIFIED:20240611T214638Z
UID:16852-1741979700-1741982400@saintpiusxchurch.com
SUMMARY:Stations of the Cross- 7:15pm
DESCRIPTION:
URL:https://saintpiusxchurch.com/wp/event/stations-of-the-cross-715pm-2/
END:VEVENT
BEGIN:VEVENT
DTSTART;TZID=UTC:20250315T080000
DTEND;TZID=UTC:20250315T170000
DTSTAMP:20260420T094838
CREATED:20240611T214710Z
LAST-MODIFIED:20240611T214710Z
UID:16854-1742025600-1742058000@saintpiusxchurch.com
SUMMARY:Last Day – RE Early Bird Registration with $50 discount in total fees
DESCRIPTION:
URL:https://saintpiusxchurch.com/wp/event/last-day-re-early-bird-registration-with-50-discount-in-total-fees-5/
END:VEVENT
BEGIN:VEVENT
DTSTART;TZID=UTC:20250316T080000
DTEND;TZID=UTC:20250316T133000
DTSTAMP:20260420T094838
CREATED:20240611T215414Z
LAST-MODIFIED:20240611T215414Z
UID:16866-1742112000-1742131800@saintpiusxchurch.com
SUMMARY:St. Patrick’s Bake Sale -7th Gr. Community Service Project After all Masses (drop-off half an hour before mass)
DESCRIPTION:
URL:https://saintpiusxchurch.com/wp/event/st-patricks-bake-sale-7th-gr-community-service-project-after-all-masses-drop-off-half-an-hour-before-mass-4/
END:VEVENT
BEGIN:VEVENT
DTSTART;TZID=UTC:20250316T080000
DTEND;TZID=UTC:20250316T170000
DTSTAMP:20260420T094838
CREATED:20240611T215036Z
LAST-MODIFIED:20240611T215036Z
UID:16858-1742112000-1742144400@saintpiusxchurch.com
SUMMARY:Early Bird Special(March 16-31)RE Registration with $25 Discount in total Registration Fee(discount applies to former/returning students only)
DESCRIPTION:
URL:https://saintpiusxchurch.com/wp/event/early-bird-specialmarch-16-31re-registration-with-25-discount-in-total-registration-feediscount-applies-to-former-returning-students-only-4/
END:VEVENT
END:VCALENDAR