BEGIN:VCALENDAR
VERSION:2.0
PRODID:-//Church of Saint Pius X - ECPv6.15.20//NONSGML v1.0//EN
CALSCALE:GREGORIAN
METHOD:PUBLISH
X-ORIGINAL-URL:https://saintpiusxchurch.com/wp
X-WR-CALDESC:Events for Church of Saint Pius X
REFRESH-INTERVAL;VALUE=DURATION:PT1H
X-Robots-Tag:noindex
X-PUBLISHED-TTL:PT1H
BEGIN:VTIMEZONE
TZID:UTC
BEGIN:STANDARD
TZOFFSETFROM:+0000
TZOFFSETTO:+0000
TZNAME:UTC
DTSTART:20240101T000000
END:STANDARD
END:VTIMEZONE
BEGIN:VEVENT
DTSTART;TZID=UTC:20250518T103000
DTEND;TZID=UTC:20250518T113000
DTSTAMP:20260419T140919
CREATED:20240612T001308Z
LAST-MODIFIED:20240820T203331Z
UID:16976-1747564200-1747567800@saintpiusxchurch.com
SUMMARY:May Crowning/Flower Offering by Children-10:30am Mass
DESCRIPTION:
URL:https://saintpiusxchurch.com/wp/event/may-crowning-flower-offering-by-children-1030am-mass-5/
END:VEVENT
BEGIN:VEVENT
DTSTART;TZID=UTC:20250518T103000
DTEND;TZID=UTC:20250518T113000
DTSTAMP:20260419T140919
CREATED:20240612T001348Z
LAST-MODIFIED:20240612T001348Z
UID:16978-1747564200-1747567800@saintpiusxchurch.com
SUMMARY:Birthday Blessings – 10:30am Mass
DESCRIPTION:
URL:https://saintpiusxchurch.com/wp/event/birthday-blessings-1030am-mass-33/
END:VEVENT
BEGIN:VEVENT
DTSTART;TZID=UTC:20250518T120000
DTEND;TZID=UTC:20250518T130000
DTSTAMP:20260419T140919
CREATED:20240612T001514Z
LAST-MODIFIED:20240612T001514Z
UID:16980-1747569600-1747573200@saintpiusxchurch.com
SUMMARY:Anointing of the Sick -12:00pm Mass
DESCRIPTION:
URL:https://saintpiusxchurch.com/wp/event/anointing-of-the-sick-1200pm-mass-2/
END:VEVENT
BEGIN:VEVENT
DTSTART;TZID=UTC:20250519T170000
DTEND;TZID=UTC:20250519T190000
DTSTAMP:20260419T140919
CREATED:20241211T201208Z
LAST-MODIFIED:20241212T012520Z
UID:17927-1747674000-1747681200@saintpiusxchurch.com
SUMMARY:RE Volunteers End of Year Dinner
DESCRIPTION:
URL:https://saintpiusxchurch.com/wp/event/re-volunteers-end-of-year-dinner-last-re-class-day/
END:VEVENT
BEGIN:VEVENT
DTSTART;TZID=UTC:20250521T080000
DTEND;TZID=UTC:20250521T170000
DTSTAMP:20260419T140919
CREATED:20240612T001606Z
LAST-MODIFIED:20240612T001606Z
UID:16982-1747814400-1747846800@saintpiusxchurch.com
SUMMARY:Mary Under the Stars - (Raindate – May 22nd)
DESCRIPTION:
URL:https://saintpiusxchurch.com/wp/event/mary-under-the-stars-raindate-may-22nd/
END:VEVENT
BEGIN:VEVENT
DTSTART;TZID=UTC:20250525T103000
DTEND;TZID=UTC:20250525T113000
DTSTAMP:20260419T140919
CREATED:20240612T001648Z
LAST-MODIFIED:20240820T203312Z
UID:16984-1748169000-1748172600@saintpiusxchurch.com
SUMMARY:May Crowning/Flower Offering by Children-10:30am Mass
DESCRIPTION:
URL:https://saintpiusxchurch.com/wp/event/may-crowning-flower-offering-by-children-1030am-mass-6/
END:VEVENT
BEGIN:VEVENT
DTSTART;TZID=UTC:20250526T080000
DTEND;TZID=UTC:20250526T170000
DTSTAMP:20260419T140919
CREATED:20240612T001714Z
LAST-MODIFIED:20240820T203302Z
UID:16986-1748246400-1748278800@saintpiusxchurch.com
SUMMARY:Memorial Day No Mass/Parish Office Closed
DESCRIPTION:
URL:https://saintpiusxchurch.com/wp/event/memorial-day-no-mass-parish-office-closed-5/
END:VEVENT
BEGIN:VEVENT
DTSTART;TZID=UTC:20250528T160000
DTEND;TZID=UTC:20250528T170000
DTSTAMP:20260419T140919
CREATED:20240612T001751Z
LAST-MODIFIED:20240612T001751Z
UID:16988-1748448000-1748451600@saintpiusxchurch.com
SUMMARY:Vigil Mass for Ascension Thursday – 4:00pm
DESCRIPTION:
URL:https://saintpiusxchurch.com/wp/event/vigil-mass-for-ascension-thursday-400pm-3/
END:VEVENT
BEGIN:VEVENT
DTSTART;TZID=UTC:20250529T080000
DTEND;TZID=UTC:20250529T170000
DTSTAMP:20260419T140919
CREATED:20240612T001822Z
LAST-MODIFIED:20240820T203250Z
UID:16990-1748505600-1748538000@saintpiusxchurch.com
SUMMARY:Ascension Thursday Masses – 8:00am and 11:30am
DESCRIPTION:
URL:https://saintpiusxchurch.com/wp/event/ascension-thursday-masses-800am-1130am-and-700pm-2/
END:VEVENT
BEGIN:VEVENT
DTSTART;TZID=UTC:20250529T163000
DTEND;TZID=UTC:20250529T173000
DTSTAMP:20260419T140919
CREATED:20250429T183237Z
LAST-MODIFIED:20250429T183237Z
UID:18126-1748536200-1748539800@saintpiusxchurch.com
SUMMARY:Thread For Life - 4:30pm Parish Hall
DESCRIPTION:
URL:https://saintpiusxchurch.com/wp/event/thread-for-life-430pm-parish-hall-4/
END:VEVENT
BEGIN:VEVENT
DTSTART;TZID=UTC:20250601T080000
DTEND;TZID=UTC:20250601T140000
DTSTAMP:20260419T140919
CREATED:20250520T192055Z
LAST-MODIFIED:20250520T192055Z
UID:18152-1748764800-1748786400@saintpiusxchurch.com
SUMMARY:Blood Drive
DESCRIPTION:
URL:https://saintpiusxchurch.com/wp/event/blood-drive-4/
END:VEVENT
BEGIN:VEVENT
DTSTART;TZID=UTC:20250601T090000
DTEND;TZID=UTC:20250601T140000
DTSTAMP:20260419T140919
CREATED:20250609T181039Z
LAST-MODIFIED:20250609T181039Z
UID:18164-1748768400-1748786400@saintpiusxchurch.com
SUMMARY:Life Skills Workshop by Men's Ministry
DESCRIPTION:
URL:https://saintpiusxchurch.com/wp/event/life-skills-workshop-by-mens-ministry/
END:VEVENT
BEGIN:VEVENT
DTSTART;TZID=UTC:20250603T160000
DTEND;TZID=UTC:20250603T173000
DTSTAMP:20260419T140919
CREATED:20250609T215203Z
LAST-MODIFIED:20250609T215203Z
UID:18180-1748966400-1748971800@saintpiusxchurch.com
SUMMARY:RE Summer Class
DESCRIPTION:
URL:https://saintpiusxchurch.com/wp/event/re-summer-class-3/
END:VEVENT
BEGIN:VEVENT
DTSTART;TZID=UTC:20250604T180000
DTEND;TZID=UTC:20250604T203000
DTSTAMP:20260419T140919
CREATED:20250611T013830Z
LAST-MODIFIED:20250611T013830Z
UID:18215-1749060000-1749069000@saintpiusxchurch.com
SUMMARY:Bereavement Support Group
DESCRIPTION:
URL:https://saintpiusxchurch.com/wp/event/bereavement-support-group-2/
END:VEVENT
BEGIN:VEVENT
DTSTART;TZID=UTC:20250608T130000
DTEND;TZID=UTC:20250608T140000
DTSTAMP:20260419T140919
CREATED:20240612T195811Z
LAST-MODIFIED:20240820T203213Z
UID:16994-1749387600-1749391200@saintpiusxchurch.com
SUMMARY:Pentecost Sunday Multi-cultural Potluck Luncheon after 12:00pm Mass(Parish Hall)
DESCRIPTION:
URL:https://saintpiusxchurch.com/wp/event/pentecost-sunday-multi-cultural-potluck-luncheon-after-1200pm-massparish-hall/
END:VEVENT
BEGIN:VEVENT
DTSTART;TZID=UTC:20250609T200000
DTEND;TZID=UTC:20250609T210000
DTSTAMP:20260419T140919
CREATED:20240612T195921Z
LAST-MODIFIED:20240612T195921Z
UID:16996-1749499200-1749502800@saintpiusxchurch.com
SUMMARY:Parish Council Meeting 8:00pm
DESCRIPTION:
URL:https://saintpiusxchurch.com/wp/event/parish-council-meeting-800pm-12/
END:VEVENT
BEGIN:VEVENT
DTSTART;TZID=UTC:20250610T140000
DTEND;TZID=UTC:20250610T150000
DTSTAMP:20260419T140919
CREATED:20250609T181631Z
LAST-MODIFIED:20250609T181631Z
UID:18168-1749564000-1749567600@saintpiusxchurch.com
SUMMARY:RE Program Evaluation Meeting - 1st\, 5th and 6th Grade
DESCRIPTION:
URL:https://saintpiusxchurch.com/wp/event/re-program-evaluation-meeting-1st-5th-and-6th-grade/
END:VEVENT
BEGIN:VEVENT
DTSTART;TZID=UTC:20250610T160000
DTEND;TZID=UTC:20250610T170000
DTSTAMP:20260419T140919
CREATED:20250609T181730Z
LAST-MODIFIED:20250609T181730Z
UID:18170-1749571200-1749574800@saintpiusxchurch.com
SUMMARY:RE Program Evaluation Meeting - 2nd Grade and Hall Monitors
DESCRIPTION:
URL:https://saintpiusxchurch.com/wp/event/re-program-evaluation-meeting-2nd-grade-and-hall-monitors/
END:VEVENT
BEGIN:VEVENT
DTSTART;TZID=UTC:20250610T160000
DTEND;TZID=UTC:20250610T173000
DTSTAMP:20260419T140919
CREATED:20250609T215049Z
LAST-MODIFIED:20250609T215113Z
UID:18178-1749571200-1749576600@saintpiusxchurch.com
SUMMARY:RE Summer Class
DESCRIPTION:
URL:https://saintpiusxchurch.com/wp/event/re-summer-class-2/
END:VEVENT
BEGIN:VEVENT
DTSTART;TZID=UTC:20250611T160000
DTEND;TZID=UTC:20250611T170000
DTSTAMP:20260419T140919
CREATED:20250609T182219Z
LAST-MODIFIED:20250609T182219Z
UID:18174-1749657600-1749661200@saintpiusxchurch.com
SUMMARY:RE Program Evaluation Meeting - 7th and 8th Grade and Safe Environment
DESCRIPTION:
URL:https://saintpiusxchurch.com/wp/event/re-program-evaluation-meeting-7th-and-8th-grade-and-safe-environment/
END:VEVENT
BEGIN:VEVENT
DTSTART;TZID=UTC:20250611T170000
DTEND;TZID=UTC:20250611T180000
DTSTAMP:20260419T140919
CREATED:20250609T181848Z
LAST-MODIFIED:20250609T181848Z
UID:18172-1749661200-1749664800@saintpiusxchurch.com
SUMMARY:RE Program Evaluation Meeting - 3rd and 4th Grade and Christmas Pageant Committee
DESCRIPTION:
URL:https://saintpiusxchurch.com/wp/event/re-program-evaluation-meeting-3rd-and-4th-grade-and-christmas-pageant-committee/
END:VEVENT
BEGIN:VEVENT
DTSTART;TZID=UTC:20250611T183000
DTEND;TZID=UTC:20250611T200000
DTSTAMP:20260419T140919
CREATED:20250610T191551Z
LAST-MODIFIED:20250610T191551Z
UID:18208-1749666600-1749672000@saintpiusxchurch.com
SUMMARY:Bereavement Support Group
DESCRIPTION:
URL:https://saintpiusxchurch.com/wp/event/bereavement-support-group/
END:VEVENT
BEGIN:VEVENT
DTSTART;TZID=UTC:20250615T080000
DTEND;TZID=UTC:20250615T170000
DTSTAMP:20260419T140919
CREATED:20240612T200049Z
LAST-MODIFIED:20240820T203200Z
UID:17000-1749974400-1750006800@saintpiusxchurch.com
SUMMARY:Father's Day
DESCRIPTION:
URL:https://saintpiusxchurch.com/wp/event/fathers-day-9/
END:VEVENT
BEGIN:VEVENT
DTSTART;TZID=UTC:20250617T160000
DTEND;TZID=UTC:20250617T173000
DTSTAMP:20260419T140919
CREATED:20250609T215230Z
LAST-MODIFIED:20250609T215230Z
UID:18182-1750176000-1750181400@saintpiusxchurch.com
SUMMARY:RE Summer Class
DESCRIPTION:
URL:https://saintpiusxchurch.com/wp/event/re-summer-class-4/
END:VEVENT
BEGIN:VEVENT
DTSTART;TZID=UTC:20250619T080000
DTEND;TZID=UTC:20250619T170000
DTSTAMP:20260419T140919
CREATED:20240612T200125Z
LAST-MODIFIED:20240612T200125Z
UID:17002-1750320000-1750352400@saintpiusxchurch.com
SUMMARY:June Teenth – Parish Office Closed
DESCRIPTION:
URL:https://saintpiusxchurch.com/wp/event/june-teenth-parish-office-closed/
END:VEVENT
BEGIN:VEVENT
DTSTART;TZID=UTC:20250622T103000
DTEND;TZID=UTC:20250622T113000
DTSTAMP:20260419T140919
CREATED:20240612T200021Z
LAST-MODIFIED:20240612T200021Z
UID:16998-1750588200-1750591800@saintpiusxchurch.com
SUMMARY:Birthday Blessings – 10:30am Mass
DESCRIPTION:
URL:https://saintpiusxchurch.com/wp/event/birthday-blessings-1030am-mass-34/
END:VEVENT
BEGIN:VEVENT
DTSTART;TZID=UTC:20250624T160000
DTEND;TZID=UTC:20250624T173000
DTSTAMP:20260419T140919
CREATED:20250609T215317Z
LAST-MODIFIED:20250609T215317Z
UID:18186-1750780800-1750786200@saintpiusxchurch.com
SUMMARY:RE Summer Class
DESCRIPTION:
URL:https://saintpiusxchurch.com/wp/event/re-summer-class-6/
END:VEVENT
BEGIN:VEVENT
DTSTART;TZID=UTC:20250630T123000
DTEND;TZID=UTC:20250630T143000
DTSTAMP:20260419T140919
CREATED:20250609T205535Z
LAST-MODIFIED:20250609T205535Z
UID:18176-1751286600-1751293800@saintpiusxchurch.com
SUMMARY:Alice Gaskin's 100th Birthday Celebration (Parish Hall)
DESCRIPTION:
URL:https://saintpiusxchurch.com/wp/event/alice-gaskins-100th-birthday-celebration-parish-hall/
END:VEVENT
BEGIN:VEVENT
DTSTART;TZID=UTC:20250701T080000
DTEND;TZID=UTC:20250701T170000
DTSTAMP:20260419T140919
CREATED:20240612T200230Z
LAST-MODIFIED:20240612T200230Z
UID:17004-1751356800-1751389200@saintpiusxchurch.com
SUMMARY:No 11:30am Weekday Mass – July 1 to September 5\, 2025
DESCRIPTION:
URL:https://saintpiusxchurch.com/wp/event/no-1130am-weekday-mass-july-1-to-september-5-2025/
END:VEVENT
BEGIN:VEVENT
DTSTART;TZID=UTC:20250701T150000
DTEND;TZID=UTC:20250701T163000
DTSTAMP:20260419T140919
CREATED:20250609T215419Z
LAST-MODIFIED:20250609T215419Z
UID:18188-1751382000-1751387400@saintpiusxchurch.com
SUMMARY:RE Summer Class
DESCRIPTION:
URL:https://saintpiusxchurch.com/wp/event/re-summer-class-7/
END:VEVENT
END:VCALENDAR