BEGIN:VCALENDAR
VERSION:2.0
PRODID:-//Church of Saint Pius X - ECPv6.15.20//NONSGML v1.0//EN
CALSCALE:GREGORIAN
METHOD:PUBLISH
X-ORIGINAL-URL:https://saintpiusxchurch.com/wp
X-WR-CALDESC:Events for Church of Saint Pius X
REFRESH-INTERVAL;VALUE=DURATION:PT1H
X-Robots-Tag:noindex
X-PUBLISHED-TTL:PT1H
BEGIN:VTIMEZONE
TZID:UTC
BEGIN:STANDARD
TZOFFSETFROM:+0000
TZOFFSETTO:+0000
TZNAME:UTC
DTSTART:20230101T000000
END:STANDARD
END:VTIMEZONE
BEGIN:VEVENT
DTSTART;TZID=UTC:20241208T080000
DTEND;TZID=UTC:20241208T170000
DTSTAMP:20260419T160834
CREATED:20240611T200857Z
LAST-MODIFIED:20240611T200857Z
UID:16727-1733644800-1733677200@saintpiusxchurch.com
SUMMARY:2nd Sunday of Advent
DESCRIPTION:
URL:https://saintpiusxchurch.com/wp/event/2nd-sunday-of-advent-9/
END:VEVENT
BEGIN:VEVENT
DTSTART;TZID=UTC:20241208T080000
DTEND;TZID=UTC:20241208T170000
DTSTAMP:20260419T160834
CREATED:20240611T201422Z
LAST-MODIFIED:20241017T190411Z
UID:16735-1733644800-1733677200@saintpiusxchurch.com
SUMMARY:Delivery of Adopt A Family
DESCRIPTION:
URL:https://saintpiusxchurch.com/wp/event/delivery-of-adopt-a-family-tbd/
END:VEVENT
BEGIN:VEVENT
DTSTART;TZID=UTC:20241208T091500
DTEND;TZID=UTC:20241208T101500
DTSTAMP:20260419T160834
CREATED:20240611T200517Z
LAST-MODIFIED:20240611T200517Z
UID:16723-1733649300-1733652900@saintpiusxchurch.com
SUMMARY:Kindergarten Class in Session – 9:15-10:15am
DESCRIPTION:
URL:https://saintpiusxchurch.com/wp/event/kindergarten-class-in-session-915-1015am-40/
END:VEVENT
BEGIN:VEVENT
DTSTART;TZID=UTC:20241209T153000
DTEND;TZID=UTC:20241209T163000
DTSTAMP:20260419T160834
CREATED:20240610T203555Z
LAST-MODIFIED:20240610T203555Z
UID:16352-1733758200-1733761800@saintpiusxchurch.com
SUMMARY:RE Classes in Session 5th – 8th 3:30 – 4:30pm
DESCRIPTION:
URL:https://saintpiusxchurch.com/wp/event/re-classes-in-session-5th-8th-330-430pm-10/
END:VEVENT
BEGIN:VEVENT
DTSTART;TZID=UTC:20241209T153000
DTEND;TZID=UTC:20241209T163000
DTSTAMP:20260419T160834
CREATED:20240611T200948Z
LAST-MODIFIED:20240611T200948Z
UID:16729-1733758200-1733761800@saintpiusxchurch.com
SUMMARY:5th and 6th Grade Reconciliation Before Christmas(Classtime)
DESCRIPTION:
URL:https://saintpiusxchurch.com/wp/event/5th-and-6th-grade-reconciliation-before-christmasclasstime-3/
END:VEVENT
BEGIN:VEVENT
DTSTART;TZID=UTC:20241209T153000
DTEND;TZID=UTC:20241209T163000
DTSTAMP:20260419T160834
CREATED:20241113T195324Z
LAST-MODIFIED:20241113T195324Z
UID:17870-1733758200-1733761800@saintpiusxchurch.com
SUMMARY:Safe Environment Class - 5th Grade
DESCRIPTION:
URL:https://saintpiusxchurch.com/wp/event/safe-environment-class-5th-grade/
END:VEVENT
BEGIN:VEVENT
DTSTART;TZID=UTC:20241210T153000
DTEND;TZID=UTC:20241210T170000
DTSTAMP:20260419T160834
CREATED:20240610T205038Z
LAST-MODIFIED:20240610T205038Z
UID:16404-1733844600-1733850000@saintpiusxchurch.com
SUMMARY:RE Classes in Session 1st– 4th Grade 3:30 – 5:00pm
DESCRIPTION:
URL:https://saintpiusxchurch.com/wp/event/re-classes-in-session-1st-4th-grade-330-500pm-29/
END:VEVENT
BEGIN:VEVENT
DTSTART;TZID=UTC:20241210T160000
DTEND;TZID=UTC:20241210T170000
DTSTAMP:20260419T160834
CREATED:20240611T201134Z
LAST-MODIFIED:20240611T201134Z
UID:16731-1733846400-1733850000@saintpiusxchurch.com
SUMMARY:Christmas Pageant Final Rehearsal(Classtime)
DESCRIPTION:
URL:https://saintpiusxchurch.com/wp/event/christmas-pageant-final-rehearsalclasstime/
END:VEVENT
BEGIN:VEVENT
DTSTART;TZID=UTC:20241211T080000
DTEND;TZID=UTC:20241211T170000
DTSTAMP:20260419T160834
CREATED:20240106T004917Z
LAST-MODIFIED:20241125T215635Z
UID:15451-1733904000-1733936400@saintpiusxchurch.com
SUMMARY:Adult Christmas Luncheon - 12:30pm - 2:30pm (Parish Hall)
DESCRIPTION:
URL:https://saintpiusxchurch.com/wp/event/adult-christmas-luncheon-1200pm-200pm-parish-hall/
END:VEVENT
BEGIN:VEVENT
DTSTART;TZID=UTC:20241214T160000
DTEND;TZID=UTC:20241214T190000
DTSTAMP:20260419T160834
CREATED:20240611T202356Z
LAST-MODIFIED:20241015T221018Z
UID:16753-1734192000-1734202800@saintpiusxchurch.com
SUMMARY:Lessons and Carols – 4:00pm (Christmas Dinner with Choir and Family)
DESCRIPTION:
URL:https://saintpiusxchurch.com/wp/event/lessons-and-carols-400pm-christmas-dinner-with-choir-and-family/
END:VEVENT
BEGIN:VEVENT
DTSTART;TZID=UTC:20241214T163000
DTEND;TZID=UTC:20241214T183000
DTSTAMP:20260419T160834
CREATED:20240611T201345Z
LAST-MODIFIED:20240820T213019Z
UID:16733-1734193800-1734201000@saintpiusxchurch.com
SUMMARY:8th Grade Christmas Bake Sale after 5:00pm Mass - (Drop-off baked goods half an hour before Masstime
DESCRIPTION:
URL:https://saintpiusxchurch.com/wp/event/8th-grade-christmas-bake-sale-after-500pm-mass-drop-off-baked-goods-half-an-hour-before-masstime/
END:VEVENT
BEGIN:VEVENT
DTSTART;TZID=UTC:20241215T080000
DTEND;TZID=UTC:20241215T133000
DTSTAMP:20260419T160834
CREATED:20240611T201910Z
LAST-MODIFIED:20240820T213002Z
UID:16741-1734249600-1734269400@saintpiusxchurch.com
SUMMARY:8th Grade Christmas Bake Sale - after all Masses (Drop off baked goods half an hour before Masstime)
DESCRIPTION:
URL:https://saintpiusxchurch.com/wp/event/8th-grade-christmas-bake-sale-after-all-masses-drop-off-baked-goods-half-an-hour-before-masstime/
END:VEVENT
BEGIN:VEVENT
DTSTART;TZID=UTC:20241215T080000
DTEND;TZID=UTC:20241215T170000
DTSTAMP:20260419T160834
CREATED:20240611T201936Z
LAST-MODIFIED:20240611T201936Z
UID:16743-1734249600-1734282000@saintpiusxchurch.com
SUMMARY:No Hospitality
DESCRIPTION:
URL:https://saintpiusxchurch.com/wp/event/no-hospitality-3/
END:VEVENT
BEGIN:VEVENT
DTSTART;TZID=UTC:20241215T080000
DTEND;TZID=UTC:20241215T170000
DTSTAMP:20260419T160834
CREATED:20240611T202009Z
LAST-MODIFIED:20240611T202009Z
UID:16745-1734249600-1734282000@saintpiusxchurch.com
SUMMARY:Angel Giving Tree
DESCRIPTION:
URL:https://saintpiusxchurch.com/wp/event/angel-giving-tree-3/
END:VEVENT
BEGIN:VEVENT
DTSTART;TZID=UTC:20241215T080000
DTEND;TZID=UTC:20241215T170000
DTSTAMP:20260419T160834
CREATED:20240611T202040Z
LAST-MODIFIED:20240611T202040Z
UID:16747-1734249600-1734282000@saintpiusxchurch.com
SUMMARY:3rd Sunday of Advent
DESCRIPTION:
URL:https://saintpiusxchurch.com/wp/event/3rd-sunday-of-advent-8/
END:VEVENT
BEGIN:VEVENT
DTSTART;TZID=UTC:20241215T091500
DTEND;TZID=UTC:20241215T101500
DTSTAMP:20260419T160834
CREATED:20240611T201622Z
LAST-MODIFIED:20240611T201622Z
UID:16737-1734254100-1734257700@saintpiusxchurch.com
SUMMARY:Kindergarten in Session (Last Academic Day before Christmas)
DESCRIPTION:
URL:https://saintpiusxchurch.com/wp/event/kindergarten-in-session-last-academic-day-before-christmas-2/
END:VEVENT
BEGIN:VEVENT
DTSTART;TZID=UTC:20241215T113000
DTEND;TZID=UTC:20241215T114500
DTSTAMP:20260419T160834
CREATED:20240611T201756Z
LAST-MODIFIED:20240820T212929Z
UID:16739-1734262200-1734263100@saintpiusxchurch.com
SUMMARY:Christmas Pageant after 10:30am Mass(Parish Hall)
DESCRIPTION:
URL:https://saintpiusxchurch.com/wp/event/christmas-pageant-after-1030am-massparish-hall-2/
END:VEVENT
BEGIN:VEVENT
DTSTART;TZID=UTC:20241216T153000
DTEND;TZID=UTC:20241216T163000
DTSTAMP:20260419T160834
CREATED:20240610T203708Z
LAST-MODIFIED:20240610T203708Z
UID:16354-1734363000-1734366600@saintpiusxchurch.com
SUMMARY:RE Classes in Session 5th – 8th 3:30 – 4:30pm
DESCRIPTION:
URL:https://saintpiusxchurch.com/wp/event/re-classes-in-session-5th-8th-330-430pm-11/
END:VEVENT
BEGIN:VEVENT
DTSTART;TZID=UTC:20241216T153000
DTEND;TZID=UTC:20241216T163000
DTSTAMP:20260419T160834
CREATED:20240611T202146Z
LAST-MODIFIED:20240611T202146Z
UID:16749-1734363000-1734366600@saintpiusxchurch.com
SUMMARY:7th and 8th Grade Reconciliation Before Christmas(Classtime)
DESCRIPTION:
URL:https://saintpiusxchurch.com/wp/event/7th-and-8th-grade-reconciliation-before-christmasclasstime-2/
END:VEVENT
BEGIN:VEVENT
DTSTART;TZID=UTC:20241216T160000
DTEND;TZID=UTC:20241216T190000
DTSTAMP:20260419T160834
CREATED:20240611T202237Z
LAST-MODIFIED:20240724T230534Z
UID:16751-1734364800-1734375600@saintpiusxchurch.com
SUMMARY:Advent Reconciliation Monday (Confession) 2:00- 4:00 pm and 6:00-8:00 pm (Main Church)
DESCRIPTION:
URL:https://saintpiusxchurch.com/wp/event/advent-reconciliation-monday-confession-400-pm-700-pm-main-church/
END:VEVENT
BEGIN:VEVENT
DTSTART;TZID=UTC:20241217T150000
DTEND;TZID=UTC:20241217T170000
DTSTAMP:20260419T160834
CREATED:20240610T205114Z
LAST-MODIFIED:20240610T205114Z
UID:16406-1734447600-1734454800@saintpiusxchurch.com
SUMMARY:RE Classes in Session 1st– 4th Grade 3:30 – 5:00pm
DESCRIPTION:
URL:https://saintpiusxchurch.com/wp/event/re-classes-in-session-1st-4th-grade-330-500pm-30/
END:VEVENT
BEGIN:VEVENT
DTSTART;TZID=UTC:20241217T170000
DTEND;TZID=UTC:20241217T180000
DTSTAMP:20260419T160834
CREATED:20240731T221939Z
LAST-MODIFIED:20240731T221939Z
UID:17336-1734454800-1734458400@saintpiusxchurch.com
SUMMARY:Christmas Caroling Elderly and Homebound - Children's Choir/1st to 4th Grade are invited to join(after RE Class)
DESCRIPTION:
URL:https://saintpiusxchurch.com/wp/event/christmas-caroling-elderly-and-homebound-childrens-choir-1st-to-4th-grade-are-invited-to-joinafter-re-class/
END:VEVENT
BEGIN:VEVENT
DTSTART;TZID=UTC:20241222T080000
DTEND;TZID=UTC:20241222T170000
DTSTAMP:20260419T160834
CREATED:20240611T202758Z
LAST-MODIFIED:20240611T202758Z
UID:16756-1734854400-1734886800@saintpiusxchurch.com
SUMMARY:RE Christmas Break
DESCRIPTION:
URL:https://saintpiusxchurch.com/wp/event/re-christmas-break-8/
END:VEVENT
BEGIN:VEVENT
DTSTART;TZID=UTC:20241222T080000
DTEND;TZID=UTC:20241222T170000
DTSTAMP:20260419T160834
CREATED:20240611T203222Z
LAST-MODIFIED:20240611T203222Z
UID:16770-1734854400-1734886800@saintpiusxchurch.com
SUMMARY:4th Sunday of Advent
DESCRIPTION:
URL:https://saintpiusxchurch.com/wp/event/4th-sunday-of-advent-8/
END:VEVENT
BEGIN:VEVENT
DTSTART;TZID=UTC:20241222T103000
DTEND;TZID=UTC:20241222T113000
DTSTAMP:20260419T160834
CREATED:20240611T203137Z
LAST-MODIFIED:20240611T203137Z
UID:16768-1734863400-1734867000@saintpiusxchurch.com
SUMMARY:Birthday Blessing- 10:30am Mass
DESCRIPTION:
URL:https://saintpiusxchurch.com/wp/event/birthday-blessing-1030am-mass-22/
END:VEVENT
BEGIN:VEVENT
DTSTART;TZID=UTC:20241222T130000
DTEND;TZID=UTC:20241222T140000
DTSTAMP:20260419T160834
CREATED:20240611T203349Z
LAST-MODIFIED:20240820T212847Z
UID:16772-1734872400-1734876000@saintpiusxchurch.com
SUMMARY:Angel Giving Tree Last Day /Pack up after 12pm Mass - 8th Grade Community Service Project
DESCRIPTION:
URL:https://saintpiusxchurch.com/wp/event/angel-giving-tree-last-day-pack-up-after-12pm-mass-8th-grade-community-service-project/
END:VEVENT
BEGIN:VEVENT
DTSTART;TZID=UTC:20241223T080000
DTEND;TZID=UTC:20241223T170000
DTSTAMP:20260419T160834
CREATED:20240611T202825Z
LAST-MODIFIED:20240611T202825Z
UID:16758-1734940800-1734973200@saintpiusxchurch.com
SUMMARY:RE Christmas Break
DESCRIPTION:
URL:https://saintpiusxchurch.com/wp/event/re-christmas-break-9/
END:VEVENT
BEGIN:VEVENT
DTSTART;TZID=UTC:20241224T080000
DTEND;TZID=UTC:20241224T170000
DTSTAMP:20260419T160834
CREATED:20240611T202844Z
LAST-MODIFIED:20240611T202844Z
UID:16760-1735027200-1735059600@saintpiusxchurch.com
SUMMARY:RE Christmas Break
DESCRIPTION:
URL:https://saintpiusxchurch.com/wp/event/re-christmas-break-10/
END:VEVENT
BEGIN:VEVENT
DTSTART;TZID=UTC:20241224T160000
DTEND;TZID=UTC:20241224T220000
DTSTAMP:20260419T160834
CREATED:20240611T203453Z
LAST-MODIFIED:20241031T213131Z
UID:16774-1735056000-1735077600@saintpiusxchurch.com
SUMMARY:Christmas Eve Masses - 4:00pm(Family Mass)\, 6:00pm Mass(with SPX Choir and String Quartet)\, 9:00pm(Christmas Eve Mass for Midnight)
DESCRIPTION:
URL:https://saintpiusxchurch.com/wp/event/christmas-eve-masses-300pm-and-430pmmasses-with-homilies-for-children-530pm-choir-rehearsal-630pm-mass-with-spx-choir-and-string-quartet-1000pm-christmas-eve-mass-for-midnight/
END:VEVENT
BEGIN:VEVENT
DTSTART;TZID=UTC:20241225T090000
DTEND;TZID=UTC:20241225T120000
DTSTAMP:20260419T160834
CREATED:20240611T203605Z
LAST-MODIFIED:20240611T203605Z
UID:16776-1735117200-1735128000@saintpiusxchurch.com
SUMMARY:Christmas Day Parish Office Closed Masses – 9:00am\, 10:30am(not a Family Mass) & 12:00pm
DESCRIPTION:
URL:https://saintpiusxchurch.com/wp/event/christmas-day-parish-office-closed-masses-900am-1030amnot-a-family-mass-1200pm/
END:VEVENT
END:VCALENDAR